BEGIN:VCALENDAR
VERSION:2.0
PRODID:-//Fairlawn Church of God - ECPv6.15.20//NONSGML v1.0//EN
CALSCALE:GREGORIAN
METHOD:PUBLISH
X-WR-CALNAME:Fairlawn Church of God
X-ORIGINAL-URL:https://fairlawncog.org
X-WR-CALDESC:Events for Fairlawn Church of God
REFRESH-INTERVAL;VALUE=DURATION:PT1H
X-Robots-Tag:noindex
X-PUBLISHED-TTL:PT1H
BEGIN:VTIMEZONE
TZID:UTC
BEGIN:STANDARD
TZOFFSETFROM:+0000
TZOFFSETTO:+0000
TZNAME:UTC
DTSTART:20240101T000000
END:STANDARD
END:VTIMEZONE
BEGIN:VEVENT
DTSTART;TZID=UTC:20250814T190000
DTEND;TZID=UTC:20250814T203000
DTSTAMP:20260420T140745
CREATED:20250807T184102Z
LAST-MODIFIED:20250807T184102Z
UID:1539-1755198000-1755203400@fairlawncog.org
SUMMARY:TENT REVIVAL
DESCRIPTION:On Thursday August 14th at 7PM\, Pastor Marcus will be preaching under the tent in Fairlawn\, on the corner of Belspring Road and Peppers Ferry Blvd (behind Wendy’s)\, for the Holy Ghost Tent Revival.   Our Praise Team will also be leading worship that night.  The Tent Revival will begin August 10th and will last through August 23rd\, with different speakers each night. Come out and be a part of as many of these Services as you can\, as we come together as the body of Christ.  It will surely be a great time in the Lord!
URL:https://fairlawncog.org/event/tent-revival-2/
LOCATION:VA
END:VEVENT
BEGIN:VEVENT
DTSTART;TZID=UTC:20250814T190000
DTEND;TZID=UTC:20250814T203000
DTSTAMP:20260420T140745
CREATED:20250807T182257Z
LAST-MODIFIED:20250807T182257Z
UID:1515-1755198000-1755203400@fairlawncog.org
SUMMARY:NEW KID'S WEDNESDAY SERIES
DESCRIPTION:Continuing on Wednesdays in August\, our Kid’s Church will be starting a new Series entitled\, “CARS.”  They will use a different vehicle each week – race cars\, tow trucks\, police cars\, garbage trucks\, pick-up trucks\, monster trucks\, and more – to teach us about God and how He relates to us.  Bring your kids\, ages 3-12\, every Wednesday night for our mid-week Kid’s Church.
URL:https://fairlawncog.org/event/new-kids-wednesday-series-2/
LOCATION:Fairlawn Church of God Fellowship Hall\, 7858 Peppers Ferry Blvd.\, Radford\, VA\, 24141\, United States
ORGANIZER;CN="Pastor Adam and Amy Gifford":MAILTO:office@fairlawncog.org
END:VEVENT
BEGIN:VEVENT
DTSTART;TZID=UTC:20250814T190000
DTEND;TZID=UTC:20250814T203000
DTSTAMP:20260420T140745
CREATED:20250807T160537Z
LAST-MODIFIED:20250807T160537Z
UID:1511-1755198000-1755203400@fairlawncog.org
SUMMARY:NEW WEDNESDAY SERIES
DESCRIPTION:  \nOn Wednesday August 6th at 7PM\, Pastor Justin will begin a new two-part Series entitled\, “The POWER of your TESTIMONY!”  Don’t nobody know like you know what God has done for you!  You have a story to tell\, and you need to share it with those around you.  It will encourage them to know that what God has done for you\, He can and will do the same thing for them.  Join us for this exciting new Series and learn the power of your testimony!
URL:https://fairlawncog.org/event/new-wednesday-series-3/
LOCATION:Fairlawn Church of God\, 7858 Peppers Ferry Blvd.\, Radford\, VA\, 24141\, United States
ORGANIZER;CN="Rev. Justin Coleman":MAILTO:office@fairlawncog.org
END:VEVENT
BEGIN:VEVENT
DTSTART;TZID=UTC:20250811T193000
DTEND;TZID=UTC:20250811T203000
DTSTAMP:20260420T140745
CREATED:20250807T183739Z
LAST-MODIFIED:20250807T183739Z
UID:1535-1754940600-1754944200@fairlawncog.org
SUMMARY:JAIL AND PRISON MINISTRY
DESCRIPTION:On Mondays August 11th and 25th at 7:30PM\, our Jail and Prison Ministry will be going to the NRV Regional Jail for their bi-weekly ministry meeting.  If you’re interested in helping with this outreach ministry\, please see Matt Sutphin.  They can use male or female volunteers since the jail has both male and female inmates.
URL:https://fairlawncog.org/event/jail-and-prison-ministry-30/
LOCATION:NRV Regional Jail
END:VEVENT
BEGIN:VEVENT
DTSTART;TZID=UTC:20250810T180000
DTEND;TZID=UTC:20250810T203000
DTSTAMP:20260420T140745
CREATED:20250807T183632Z
LAST-MODIFIED:20250807T183632Z
UID:1533-1754848800-1754857800@fairlawncog.org
SUMMARY:YOUNG ADULT MINISTRY
DESCRIPTION:On Sunday August 10th at 6PM\, our Young Adult Ministry will be having their monthly Exceed Service in the Fellowship Hall.  They will enjoy Worship and the Word along with prayer and fellowship.  The Service is open to anyone who would like to attend.  Please see our Young Adult Pastor\, Rev. Justin Coleman\, for more information.  Come expecting!  The Lord will meet you here!
URL:https://fairlawncog.org/event/young-adult-ministry-10/
LOCATION:Fairlawn Church of God Fellowship Hall\, 7858 Peppers Ferry Blvd.\, Radford\, VA\, 24141\, United States
ORGANIZER;CN="Rev. Justin Coleman":MAILTO:office@fairlawncog.org
END:VEVENT
BEGIN:VEVENT
DTSTART;TZID=UTC:20250810T110000
DTEND;TZID=UTC:20250810T133000
DTSTAMP:20260420T140745
CREATED:20250807T183014Z
LAST-MODIFIED:20250913T212935Z
UID:1525-1754823600-1754832600@fairlawncog.org
SUMMARY:SERMON SERIES
DESCRIPTION:On Sunday August 10th at 11AM\, Pastor Marcus will continue in our Summer Sermon Series entitled\, “LIKE A THIEF IN THE NIGHT.”  This 6-week Series will be prophetic in nature and will deal with end-time events surrounding the Rapture of the Church.  In light of recent events\, we do not believe this is coincidence.  People get ready – JESUS IS COMING!
URL:https://fairlawncog.org/event/sermon-series-7/
LOCATION:Fairlawn Church of God Fellowship Hall\, 7858 Peppers Ferry Blvd.\, Radford\, VA\, 24141\, United States
ORGANIZER;CN="Pastor Marcus Harrison":MAILTO:office@fairlawncog.org
END:VEVENT
BEGIN:VEVENT
DTSTART;TZID=UTC:20250810T110000
DTEND;TZID=UTC:20250810T133000
DTSTAMP:20260420T140745
CREATED:20250807T182800Z
LAST-MODIFIED:20250807T182800Z
UID:1523-1754823600-1754832600@fairlawncog.org
SUMMARY:BACK TO SCHOOL BASH
DESCRIPTION:On Sunday August 10th at 11AM\, we will be hosting our annual Back To School Bash!  Our Kid’s Church will enjoy a worship jam\, glow party\, and ice cream party and we will be giving away two $50 gift cards to the Christiansburg Aquatic Center to two lucky kids.  Every child in attendance will also be able to receive a bookbag with school supplies at the end of the Service.  Invite a friend to join you for our Back To School Bash!
URL:https://fairlawncog.org/event/back-to-school-bash-3/
LOCATION:Fairlawn Church of God Fellowship Hall\, 7858 Peppers Ferry Blvd.\, Radford\, VA\, 24141\, United States
ORGANIZER;CN="Pastor Joey and Lisa Shepphard":MAILTO:office@fairlawncog.org
END:VEVENT
BEGIN:VEVENT
DTSTART;TZID=UTC:20250809T083000
DTEND;TZID=UTC:20250809T233000
DTSTAMP:20260420T140745
CREATED:20250807T182625Z
LAST-MODIFIED:20250807T182625Z
UID:1521-1754728200-1754782200@fairlawncog.org
SUMMARY:MEN'S MINISTRY BREAKFAST
DESCRIPTION:On Saturday August 9th at 8:30AM\, our Men’s Ministry will be sponsoring a King’s Men Breakfast in the Fellowship Hall!  They will enjoy a delicious breakfast\, provided by the Men’s Ministry\, and Elder Breon O’Dell will be the guest speaker.  Make plans to join us for a wonderful time of sharing the Word\, food\, and fellowship with other men of faith!
URL:https://fairlawncog.org/event/mens-ministry-breakfast-2/
LOCATION:Fairlawn Church of God Fellowship Hall\, 7858 Peppers Ferry Blvd.\, Radford\, VA\, 24141\, United States
END:VEVENT
BEGIN:VEVENT
DTSTART;TZID=UTC:20250807T190000
DTEND;TZID=UTC:20250807T203000
DTSTAMP:20260420T140745
CREATED:20250807T182142Z
LAST-MODIFIED:20250807T182142Z
UID:1513-1754593200-1754598600@fairlawncog.org
SUMMARY:NEW KID'S WEDNESDAY SERIES
DESCRIPTION:On Wednesday August 6th at 7PM\, our Kid’s Church will be starting a new Series entitled\, “CARS.”  They will use a different vehicle each week – race cars\, tow trucks\, police cars\, garbage trucks\, pick-up trucks\, monster trucks\, and more – to teach us about God and how He relates to us.  Bring your kids\, ages 3-12\, every Wednesday night for our mid-week Kid’s Church.
URL:https://fairlawncog.org/event/new-kids-wednesday-series/
LOCATION:Fairlawn Church of God Fellowship Hall\, 7858 Peppers Ferry Blvd.\, Radford\, VA\, 24141\, United States
ORGANIZER;CN="Pastor Adam and Amy Gifford":MAILTO:office@fairlawncog.org
END:VEVENT
BEGIN:VEVENT
DTSTART;TZID=UTC:20250806T190000
DTEND;TZID=UTC:20250806T200000
DTSTAMP:20260420T140745
CREATED:20250807T160403Z
LAST-MODIFIED:20250807T160403Z
UID:1509-1754506800-1754510400@fairlawncog.org
SUMMARY:NEW WEDNESDAY SERIES
DESCRIPTION:  \nOn Wednesday August 6th at 7PM\, Pastor Justin will begin a new two-part Series entitled\, “The POWER of your TESTIMONY!”  Don’t nobody know like you know what God has done for you!  You have a story to tell\, and you need to share it with those around you.  It will encourage them to know that what God has done for you\, He can and will do the same thing for them.  Join us for this exciting new Series and learn the power of your testimony!
URL:https://fairlawncog.org/event/new-wednesday-series-2/
LOCATION:Fairlawn Church of God\, 7858 Peppers Ferry Blvd.\, Radford\, VA\, 24141\, United States
ORGANIZER;CN="Rev. Justin Coleman":MAILTO:office@fairlawncog.org
END:VEVENT
BEGIN:VEVENT
DTSTART;TZID=UTC:20250728T193000
DTEND;TZID=UTC:20250728T210000
DTSTAMP:20260420T140745
CREATED:20250702T162804Z
LAST-MODIFIED:20250702T162804Z
UID:1480-1753731000-1753736400@fairlawncog.org
SUMMARY:JAIL AND PRISON MINISTRY
DESCRIPTION:On Mondays July 14th and 28th at 7:30PM\, our Jail and Prison Ministry will be going to the NRV Regional Jail for their bi-weekly ministry meeting.  If you’re interested in helping with this outreach ministry\, please see Matt Sutphin.  They can use male or female volunteers since the jail has both male and female inmates.
URL:https://fairlawncog.org/event/jail-and-prison-ministry-29/
LOCATION:NRV Regional Jail
END:VEVENT
BEGIN:VEVENT
DTSTART;TZID=UTC:20250727T180000
DTEND;TZID=UTC:20250727T203000
DTSTAMP:20260420T140745
CREATED:20250702T163108Z
LAST-MODIFIED:20250702T163108Z
UID:1502-1753639200-1753648200@fairlawncog.org
SUMMARY:EMPOWERMENT SERVICE
DESCRIPTION:On Sunday July 27th at 6PM\, we will be hosting our monthly Empowerment Service with special guest\, Evangelist Steve Board.  Rev. Board is an anointed minister of the Gospel and always preaches a powerful Word from the Lord.  Please mark the date and time on your calendar and make plans to be here.  You don’t want to miss what God has in store for us.  Invite a friend to join you!
URL:https://fairlawncog.org/event/empowerment-service-9/
LOCATION:VA
END:VEVENT
BEGIN:VEVENT
DTSTART;TZID=UTC:20250727T160000
DTEND;TZID=UTC:20250727T170000
DTSTAMP:20260420T140745
CREATED:20250702T163339Z
LAST-MODIFIED:20250702T163339Z
UID:1506-1753632000-1753635600@fairlawncog.org
SUMMARY:NURSING HOME MINISTRY
DESCRIPTION:On Thursday July 17th at 3PM\, we’ll be going to Warm Hearth Village in Blacksburg for Bible Study with the residents.  On Sunday July 27th at 4PM\, we’ll be going back for our regular monthly Nursing Home Ministry.  If you enjoy visiting with the elderly\, please consider this wonderful ministry.  We can especially use folks who are skilled in music or singing.  For more info\, please see Matt Sutphin.
URL:https://fairlawncog.org/event/nursing-home-ministry-29/
LOCATION:Warm Hearth Village\, 2387 Warm Hearth Dr\, Blacksburg\, VA\, 24060\, United States
END:VEVENT
BEGIN:VEVENT
DTSTART;TZID=UTC:20250717T150000
DTEND;TZID=UTC:20250717T160000
DTSTAMP:20260420T140745
CREATED:20250702T163014Z
LAST-MODIFIED:20250702T163014Z
UID:1500-1752764400-1752768000@fairlawncog.org
SUMMARY:NURSING HOME MINISTRY
DESCRIPTION:On Thursday July 17th at 3PM\, we’ll be going to Warm Hearth Village in Blacksburg for Bible Study with the residents.  On Sunday July 27th at 4PM\, we’ll be going back for our regular monthly Nursing Home Ministry.  If you enjoy visiting with the elderly\, please consider this wonderful ministry.  We can especially use folks who are skilled in music or singing.  For more info\, please see Matt Sutphin.
URL:https://fairlawncog.org/event/nursing-home-ministry-28/
LOCATION:Warm Hearth Village\, 2387 Warm Hearth Dr\, Blacksburg\, VA\, 24060\, United States
END:VEVENT
BEGIN:VEVENT
DTSTART;TZID=UTC:20250715T183000
DTEND;TZID=UTC:20250715T210000
DTSTAMP:20260420T140745
CREATED:20250702T162859Z
LAST-MODIFIED:20250702T162859Z
UID:1498-1752604200-1752613200@fairlawncog.org
SUMMARY:SENIOR ADULT MINISTRY
DESCRIPTION:On Tuesday July 15th at 6:30PM\, our Senior Adults\, “Tried and True Ministry\,” will be having their monthly meeting at Randolph Park in Dublin\, on the fireplace side of the big shelter.  Please bring your favorite dish to share with the group.  All folks\, ages 50+\, are invited to join them for a great time of food\, fun\, and fellowship.  Please see Pastor Joey or Lisa Sheppard for more information.
URL:https://fairlawncog.org/event/senior-adult-ministry-17/
LOCATION:VA
ORGANIZER;CN="Pastor Joey and Lisa Shepphard":MAILTO:office@fairlawncog.org
END:VEVENT
BEGIN:VEVENT
DTSTART;TZID=UTC:20250714T193000
DTEND;TZID=UTC:20250714T210000
DTSTAMP:20260420T140745
CREATED:20250702T162716Z
LAST-MODIFIED:20250702T162716Z
UID:1495-1752521400-1752526800@fairlawncog.org
SUMMARY:JAIL AND PRISON MINISTRY
DESCRIPTION:On Mondays July 14th and 28th at 7:30PM\, our Jail and Prison Ministry will be going to the NRV Regional Jail for their bi-weekly ministry meeting.  If you’re interested in helping with this outreach ministry\, please see Matt Sutphin.  They can use male or female volunteers since the jail has both male and female inmates.
URL:https://fairlawncog.org/event/jail-and-prison-ministry-28/
LOCATION:NRV Regional Jail
END:VEVENT
BEGIN:VEVENT
DTSTART;TZID=UTC:20250713T180000
DTEND;TZID=UTC:20250713T210000
DTSTAMP:20260420T140745
CREATED:20250702T162625Z
LAST-MODIFIED:20250702T162625Z
UID:1493-1752429600-1752440400@fairlawncog.org
SUMMARY:YOUNG ADULT MINISTRY
DESCRIPTION:On Sunday July 13th at 6PM\, our Young Adult Ministry will be having their monthly Exceed Service in the Fellowship Hall.  They will enjoy Worship and the Word along with prayer and fellowship.  The Service is open to anyone who would like to attend.  Please see our Young Adult Pastor\, Rev. Justin Coleman\, for more information.  Come expecting!  The Lord will meet you here!
URL:https://fairlawncog.org/event/young-adult-ministry-9/
LOCATION:Fairlawn Church of God Fellowship Hall\, 7858 Peppers Ferry Blvd.\, Radford\, VA\, 24141\, United States
ORGANIZER;CN="Rev. Justin Coleman":MAILTO:office@fairlawncog.org
END:VEVENT
BEGIN:VEVENT
DTSTART;TZID=UTC:20250713T110000
DTEND;TZID=UTC:20250713T133000
DTSTAMP:20260420T140745
CREATED:20250702T162528Z
LAST-MODIFIED:20250702T162528Z
UID:1491-1752404400-1752413400@fairlawncog.org
SUMMARY:NEW SERMON SERIES
DESCRIPTION:On Sunday July 13th at 11AM\, Pastor Marcus will begin a BRAND-NEW Sermon Series entitled\, “LIKE a THIEF IN THE NIGHT.”  This 6-week Series will be prophetic in nature and will deal with end-time events surrounding the Rapture of the Church.  In light of recent events\, we do not believe this is coincidence.  People get ready – JESUS IS COMING!
URL:https://fairlawncog.org/event/new-sermon-series-20/
LOCATION:Fairlawn Church of God Fellowship Hall\, 7858 Peppers Ferry Blvd.\, Radford\, VA\, 24141\, United States
ORGANIZER;CN="Pastor Marcus Harrison":MAILTO:office@fairlawncog.org
END:VEVENT
BEGIN:VEVENT
DTSTART;TZID=UTC:20250711T190000
DTEND;TZID=UTC:20250711T213000
DTSTAMP:20260420T140745
CREATED:20250702T162439Z
LAST-MODIFIED:20250702T162439Z
UID:1489-1752260400-1752269400@fairlawncog.org
SUMMARY:KID'S CHURCH OUTING
DESCRIPTION:On Friday July 11th at 7PM\, our Kid’s Church will be sponsoring an outing to Calfee Park in Pulaski to watch the Pulaski River Turtles!  Children\, ages 18 and under\, are FREE and adults are only $5.  However\, the deadline to sign up for these discounted tickets is July 2nd.  Please see Pastors Adam or Amy Gifford today!
URL:https://fairlawncog.org/event/kids-church-outing/
LOCATION:VA
ORGANIZER;CN="Pastor Adam and Amy Gifford":MAILTO:office@fairlawncog.org
END:VEVENT
BEGIN:VEVENT
DTSTART;TZID=UTC:20250708T183000
DTEND;TZID=UTC:20250708T210000
DTSTAMP:20260420T140745
CREATED:20250702T162340Z
LAST-MODIFIED:20250702T162340Z
UID:1487-1751999400-1752008400@fairlawncog.org
SUMMARY:LADIES MINISTRY
DESCRIPTION:On Tuesday July 8th at 6:30PM\, our Ladies Ministry will be having their monthly gathering in the Fellowship Hall.  They will enjoy an evening of good food and fellowship\, as well as conduct their ministry meeting.  All ladies are cordially invited to join them every month for a great time of fun and fellowship.  Please see Pastor Joni for more information.
URL:https://fairlawncog.org/event/ladies-ministry-10/
LOCATION:Fairlawn Church of God Fellowship Hall\, 7858 Peppers Ferry Blvd.\, Radford\, VA\, 24141\, United States
END:VEVENT
BEGIN:VEVENT
DTSTART;TZID=UTC:20250706T110000
DTEND;TZID=UTC:20250706T130000
DTSTAMP:20260420T140745
CREATED:20250702T162247Z
LAST-MODIFIED:20250702T162247Z
UID:1485-1751799600-1751806800@fairlawncog.org
SUMMARY:PASTOR AND STAFF APPRECIATION DAY
DESCRIPTION:On Sunday\, July 6th at 11AM\, we will be honoring all of our Pastoral Staff with a special Pastor and Staff Appreciation Day.  We will be honoring our Lead Pastor\, Associate Pastor\, Young Adult Pastor\, Children’s Pastors\, Youth and Music Pastor\, and Administrative Assistant.  Baskets will be available for you to leave a card or small gift\, and we will be receiving a special offering for our Lead Pastor and his family.  Pastor Donald Jones will also be our special guest and will be preaching the Word!
URL:https://fairlawncog.org/event/pastor-and-staff-appreciation-day-2/
LOCATION:Fairlawn Church of God Fellowship Hall\, 7858 Peppers Ferry Blvd.\, Radford\, VA\, 24141\, United States
END:VEVENT
BEGIN:VEVENT
DTSTART;TZID=UTC:20250705T140000
DTEND;TZID=UTC:20250705T160000
DTSTAMP:20260420T140745
CREATED:20250702T162128Z
LAST-MODIFIED:20250702T162128Z
UID:1483-1751724000-1751731200@fairlawncog.org
SUMMARY:OUTREACH MINISTRY SERVE DAY
DESCRIPTION:On Saturday July 5th at 2PM\, we will be leaving the church parking lot and going to the Rescue Mission in Roanoke for our quarterly outreach serve day.  We will be feeding and ministering to the homeless and will go out to eat afterward.  If you would like to be a part of this outreach event\, please see Matt Sutphin.  Remember\, when you’ve done it unto the least of these\, you’ve done it unto Him! \n 
URL:https://fairlawncog.org/event/outreach-ministry-serve-day/
LOCATION:VA
END:VEVENT
BEGIN:VEVENT
DTSTART;TZID=UTC:20250702T190000
DTEND;TZID=UTC:20250702T210000
DTSTAMP:20260420T140745
CREATED:20250702T162033Z
LAST-MODIFIED:20250702T162033Z
UID:1481-1751482800-1751490000@fairlawncog.org
SUMMARY:NO WED NIGHT SERVICE
DESCRIPTION:On Wednesday July 2nd\, we will be cancelling our normal midweek Service due to the July 4th holiday.  There will be no Adult Bible Study\, Rebranded Youth Ministry\, or Kid’s Clubs this week.  Please take this extra time and enjoy it with your family and friends.  Happy birthday\, America!  May God shed His grace on thee!
URL:https://fairlawncog.org/event/no-wed-night-service-4/
LOCATION:Fairlawn Church of God Fellowship Hall\, 7858 Peppers Ferry Blvd.\, Radford\, VA\, 24141\, United States
ORGANIZER;CN="Pastor Marcus Harrison":MAILTO:office@fairlawncog.org
END:VEVENT
BEGIN:VEVENT
DTSTART;VALUE=DATE:20250701
DTEND;VALUE=DATE:20250720
DTSTAMP:20260420T140745
CREATED:20250702T161822Z
LAST-MODIFIED:20250702T163456Z
UID:1477-1751328000-1752969599@fairlawncog.org
SUMMARY:VACOG YOUTH CAMP
DESCRIPTION:The weeks of July 1st\, July 7th\, and July 14th\, we will be having our VACOG Youth Camps at the campground in Roanoke.  We are excited for our high school camp\, middle school camp\, and elementary camp.  We have kids attending all three!  Please pray for our kids during this camp season.  May they have a supernatural encounter with the Lord!
URL:https://fairlawncog.org/event/vacog-youth-camp-teens/
LOCATION:VACOG Campground\, Roanoke\, VA
END:VEVENT
BEGIN:VEVENT
DTSTART;TZID=UTC:20250629T180000
DTEND;TZID=UTC:20250629T203000
DTSTAMP:20260420T140745
CREATED:20250606T135902Z
LAST-MODIFIED:20250606T135902Z
UID:1465-1751220000-1751229000@fairlawncog.org
SUMMARY:EMPOWERMENT SERVICE
DESCRIPTION:On Sunday June 29th at 6PM\, we will be hosting our monthly Empowerment Service with Pastor Joey Sheppard.  Pastor Joey is an anointed minister of the Gospel and always has a Rhema Word for the church.  Please mark the date and time on your calendar and make plans to be here.  You don’t want to miss what God has in store for us.  Invite a friend and COME EXPECTING!  You won’t leave the way you came in Jesus’ name!
URL:https://fairlawncog.org/event/empowerment-service-8/
LOCATION:Fairlawn Church of God Fellowship Hall\, 7858 Peppers Ferry Blvd.\, Radford\, VA\, 24141\, United States
ORGANIZER;CN="Pastor Marcus Harrison":MAILTO:office@fairlawncog.org
END:VEVENT
BEGIN:VEVENT
DTSTART;TZID=UTC:20250629T110000
DTEND;TZID=UTC:20250629T130000
DTSTAMP:20260420T140745
CREATED:20250606T135650Z
LAST-MODIFIED:20250606T135650Z
UID:1463-1751194800-1751202000@fairlawncog.org
SUMMARY:MISSION SUNDAY
DESCRIPTION:On Sunday June 29th at 11AM\, we will be hosting our 5th Sunday Mission Sunday with Hope To Walk.  This is a non-profit ministry that is providing prosthetic legs to folks in third-world countries who would not be able to purchase them on their own.  The founder has developed a method to create a prosthetic leg for less than 1% of what they would normally cost without insurance.  His mission is to provide them FREE OF CHARGE to those in need.  Best of all\, the headquarters for Hope To Walk is located in Blacksburg\, VA.
URL:https://fairlawncog.org/event/mission-sunday-7/
LOCATION:Fairlawn Church of God Fellowship Hall\, 7858 Peppers Ferry Blvd.\, Radford\, VA\, 24141\, United States
ORGANIZER;CN="Pastor Marcus Harrison":MAILTO:office@fairlawncog.org
END:VEVENT
BEGIN:VEVENT
DTSTART;TZID=UTC:20250625T190000
DTEND;TZID=UTC:20250625T203000
DTSTAMP:20260420T140745
CREATED:20250606T140936Z
LAST-MODIFIED:20250606T140936Z
UID:1475-1750878000-1750883400@fairlawncog.org
SUMMARY:ReBranded Youth!!!
DESCRIPTION:Every Wed Night Join the Fairlawn ReBranded (R2D2) Youth @ 7PM in the Youth Sanctuary!
URL:https://fairlawncog.org/event/rebranded-youth-5/
LOCATION:Fairlawn Church of God Fellowship Hall\, 7858 Peppers Ferry Blvd.\, Radford\, VA\, 24141\, United States
END:VEVENT
BEGIN:VEVENT
DTSTART;TZID=UTC:20250625T190000
DTEND;TZID=UTC:20250625T203000
DTSTAMP:20260420T140745
CREATED:20250606T133803Z
LAST-MODIFIED:20250606T133803Z
UID:1434-1750878000-1750883400@fairlawncog.org
SUMMARY:WEDNESDAY KID'S SERIES
DESCRIPTION:On Wednesday June 4th at 7PM\, our Kid’s Church will continue in their Series entitled\, “Unexplored Bible Stories.”  This Series will take our kids on a journey through some stories that may not be as well-known as others.  They are sure to walk away learning something they did not know before.  They will learn there are always new discoveries to be made because the Word of God is alive and active!
URL:https://fairlawncog.org/event/wednesday-kids-series-4/
LOCATION:Fairlawn Church of God\, 7858 Peppers Ferry Blvd.\, Radford\, VA\, 24141\, United States
ORGANIZER;CN="Pastor Adam and Amy Gifford":MAILTO:office@fairlawncog.org
END:VEVENT
BEGIN:VEVENT
DTSTART;TZID=UTC:20250623T193000
DTEND;TZID=UTC:20250623T203000
DTSTAMP:20260420T140745
CREATED:20250606T134248Z
LAST-MODIFIED:20250606T134248Z
UID:1437-1750707000-1750710600@fairlawncog.org
SUMMARY:JAIL AND PRISON MINISTRY
DESCRIPTION:On Mondays June 9th and 23rd at 7:30PM\, our Jail and Prison Ministry will be going to the NRV Regional Jail for their bi-weekly ministry meeting.  If you’re interested in helping with this outreach ministry\, please see Matt Sutphin.  They can use male or female volunteers since the jail has both male and female inmates.
URL:https://fairlawncog.org/event/jail-and-prison-ministry-27/
LOCATION:NRV Regional Jail
END:VEVENT
BEGIN:VEVENT
DTSTART;TZID=UTC:20250623T180000
DTEND;TZID=UTC:20250627T203000
DTSTAMP:20260420T140745
CREATED:20250606T135506Z
LAST-MODIFIED:20250606T135506Z
UID:1461-1750701600-1751056200@fairlawncog.org
SUMMARY:VACATION BIBLE SCHOOL
DESCRIPTION:On Monday June 23rd – Friday\, June 27th at 6PM nightly\, we will be having our annual Vacation Bible School.  This year’s theme is Wonder Junction – marvel at Jesus and live for His glory!  There will be a meal at 5PM nightly provided courtesy of Pulaski County Schools feeding program (free for kids and $3.75 for adults).  You can pre-register your children at https://fcogvbs2025.myanswers.com/wonder-junction.
URL:https://fairlawncog.org/event/vacation-bible-school-3/
LOCATION:Fairlawn Church of God Fellowship Hall\, 7858 Peppers Ferry Blvd.\, Radford\, VA\, 24141\, United States
ORGANIZER;CN="Pastor Adam and Amy Gifford":MAILTO:office@fairlawncog.org
END:VEVENT
END:VCALENDAR