BEGIN:VCALENDAR
VERSION:2.0
PRODID:-//Fairlawn Church of God - ECPv6.15.20//NONSGML v1.0//EN
CALSCALE:GREGORIAN
METHOD:PUBLISH
X-WR-CALNAME:Fairlawn Church of God
X-ORIGINAL-URL:https://fairlawncog.org
X-WR-CALDESC:Events for Fairlawn Church of God
REFRESH-INTERVAL;VALUE=DURATION:PT1H
X-Robots-Tag:noindex
X-PUBLISHED-TTL:PT1H
BEGIN:VTIMEZONE
TZID:UTC
BEGIN:STANDARD
TZOFFSETFROM:+0000
TZOFFSETTO:+0000
TZNAME:UTC
DTSTART:20210101T000000
END:STANDARD
END:VTIMEZONE
BEGIN:VEVENT
DTSTART;TZID=UTC:20230815T183000
DTEND;TZID=UTC:20230815T210000
DTSTAMP:20260424T235320
CREATED:20230801T150215Z
LAST-MODIFIED:20230801T150215Z
UID:544-1692124200-1692133200@fairlawncog.org
SUMMARY:SENIOR ADULT MINISTRY
DESCRIPTION:On Tuesday August 15th at 6:30PM\, our Senior Adults\, “Tried and True Ministry\,” will be having their monthly meeting in the Fellowship Hall.  All folks\, ages 50+\, are invited to join them for a time of food\, fun\, and fellowship!  Please bring your favorite dish and join them for this monthly meeting.  See Pastor Joey or Lisa Sheppard for more information.
URL:https://fairlawncog.org/event/senior-adult-ministry-2/
LOCATION:Fairlawn Church of God\, 7858 Peppers Ferry Blvd.\, Radford\, VA\, 24141\, United States
ORGANIZER;CN="Pastor Joey and Lisa Shepphard":MAILTO:office@fairlawncog.org
END:VEVENT
BEGIN:VEVENT
DTSTART;TZID=UTC:20230813T180000
DTEND;TZID=UTC:20230813T210000
DTSTAMP:20260424T235320
CREATED:20230801T135910Z
LAST-MODIFIED:20230801T135910Z
UID:541-1691949600-1691960400@fairlawncog.org
SUMMARY:YOUNG ADULT MINISTRY
DESCRIPTION:On Sunday August 13th at 6PM\, our Young Adult Ministry will be hosting their “Exceed Service” in the Youth Sanctuary\, located in the downstairs area of the Fellowship Hall.  They will have Worship\, followed by the Word\, and a time of prayer.  All young adults are invited to join them for a time of fellowship and worship!
URL:https://fairlawncog.org/event/young-adult-ministry-2/
LOCATION:Fairlawn Church of God\, 7858 Peppers Ferry Blvd.\, Radford\, VA\, 24141\, United States
ORGANIZER;CN="Rev. Justin Coleman":MAILTO:office@fairlawncog.org
END:VEVENT
BEGIN:VEVENT
DTSTART;TZID=UTC:20230813T110000
DTEND;TZID=UTC:20230813T140000
DTSTAMP:20260424T235320
CREATED:20230801T134138Z
LAST-MODIFIED:20230801T134138Z
UID:538-1691924400-1691935200@fairlawncog.org
SUMMARY:BACK TO SCHOOL BASH
DESCRIPTION:On Sunday August 13th at 11AM\, our Kid’s Church will be sponsoring a BACK TO SCHOOL BASH in the Fellowship Hall!  They will enjoy a Worship Jam\, a Glow Party\, and an Ice Cream Party.  We will also be giving away a 20″ Crossfire 6-speed bike to one lucky girl and boy.  In addition\, every child in attendance will also receive a FREE bookbag with school supplies!  Don’t miss our BACK TO SCHOOL BASH for ages 3-12!
URL:https://fairlawncog.org/event/back-to-school-bash/
LOCATION:Fairlawn Church of God\, 7858 Peppers Ferry Blvd.\, Radford\, VA\, 24141\, United States
ORGANIZER;CN="Pastor Adam and Amy Gifford":MAILTO:office@fairlawncog.org
END:VEVENT
BEGIN:VEVENT
DTSTART;TZID=UTC:20230813T110000
DTEND;TZID=UTC:20230813T130000
DTSTAMP:20260424T235320
CREATED:20230801T132905Z
LAST-MODIFIED:20230801T132905Z
UID:535-1691924400-1691931600@fairlawncog.org
SUMMARY:SUNDAY SERMON SERIES
DESCRIPTION:On Sunday August 13th at 11AM\, Pastor Marcus will contiue in the Sermon Series entitled\, “What’s in a Name?”  This is a follow-up to the Series we did last year where we talked about the names of God the Father.  In this Series\, we’ll be taking an in-depth look at the names of God the Son.  You’ll discover that whatever need you have\, Jesus has a name to meet that need!  There’s power in His name.  There’s healing in His name.  There’s salvation in the name of Jesus!
URL:https://fairlawncog.org/event/sunday-sermon-series/
LOCATION:Fairlawn Church of God\, 7858 Peppers Ferry Blvd.\, Radford\, VA\, 24141\, United States
END:VEVENT
BEGIN:VEVENT
DTSTART;TZID=UTC:20230809T190000
DTEND;TZID=UTC:20230809T210000
DTSTAMP:20260424T235320
CREATED:20230801T123300Z
LAST-MODIFIED:20230801T123300Z
UID:521-1691607600-1691614800@fairlawncog.org
SUMMARY:WEDNESDAY NIGHT SERVICE
DESCRIPTION:On Wednesday August 2nd at 7PM\, Pastor Joni will begin a BRAND NEW Bible Study on “Taming the Tongue.”  The average person speaks over 10\,000 words a day.  For every five hours you talk\, you use enough words to fill up a book.  The Bible tells us that the tongue is set on fire from hell and no man can tame it.  So\, how do you control your tongue?  Join us every Wed night in August to find out! \n 
URL:https://fairlawncog.org/event/wednesday-night-service/
LOCATION:VA
END:VEVENT
BEGIN:VEVENT
DTSTART;TZID=UTC:20230806T110000
DTEND;TZID=UTC:20230806T130000
DTSTAMP:20260424T235320
CREATED:20230801T124308Z
LAST-MODIFIED:20230801T133456Z
UID:529-1691319600-1691326800@fairlawncog.org
SUMMARY:VOLUNTEER APPRECIATION DAY
DESCRIPTION:On Sunday August 6th at 11AM\, we will be having our annual Volunteer Appreciation Day with guest speaker\, Minister Dana Scott.  We will start the day with a short program\, honoring all of our volunteers at FCOG\, followed by the Word.  We are looking forward to the Word of the Lord that Dana has for the church!  Every volunteer will also leave with a special gift!
URL:https://fairlawncog.org/event/volunteer-appreciation-day/
LOCATION:Fairlawn Church of God\, 7858 Peppers Ferry Blvd.\, Radford\, VA\, 24141\, United States
ORGANIZER;CN="Pastor Adam and Amy Gifford":MAILTO:office@fairlawncog.org
END:VEVENT
BEGIN:VEVENT
DTSTART;TZID=UTC:20230802T190000
DTEND;TZID=UTC:20230802T210000
DTSTAMP:20260424T235320
CREATED:20230801T121733Z
LAST-MODIFIED:20230801T121733Z
UID:517-1691002800-1691010000@fairlawncog.org
SUMMARY:WEDNESDAY NIGHT SERIES
DESCRIPTION:On Wednesday August 2nd at 7PM\, Pastor Joni will begin a BRAND NEW Bible Study on “Taming the Tongue.”  The average person speaks over 10\,000 words a day.  For every five hours you talk\, you use enough words to fill up a book.  The Bible tells us that the tongue is set on fire from hell and no man can tame it.  So\, how do you control your tongue?  Join us every Wed night in August to find out!
URL:https://fairlawncog.org/event/wednesday-night-series-3/
LOCATION:Fairlawn Church of God\, 7858 Peppers Ferry Blvd.\, Radford\, VA\, 24141\, United States
END:VEVENT
BEGIN:VEVENT
DTSTART;TZID=UTC:20230705T190000
DTEND;TZID=UTC:20230705T203000
DTSTAMP:20260424T235320
CREATED:20230629T174846Z
LAST-MODIFIED:20230629T174846Z
UID:513-1688583600-1688589000@fairlawncog.org
SUMMARY:Wed. Night Service resumes
DESCRIPTION:On Wednesday July\, 5th our regular Wed. Night Service will continue @ 7PM.  We have Bible studies for all ages so come and hear the Good News of the Gospel and the Holy Word of the Lord!
URL:https://fairlawncog.org/event/wed-night-service-resumes/
LOCATION:Fairlawn Church of God\, 7858 Peppers Ferry Blvd.\, Radford\, VA\, 24141\, United States
END:VEVENT
BEGIN:VEVENT
DTSTART;TZID=UTC:20230702T110000
DTEND;TZID=UTC:20230702T130000
DTSTAMP:20260424T235320
CREATED:20230629T174528Z
LAST-MODIFIED:20230629T175017Z
UID:507-1688295600-1688302800@fairlawncog.org
SUMMARY:Pastor and Staff Appreciation Day!
DESCRIPTION:Sunday July\, 2nd @ 11AM we will be honoring Pastor Marcus Harrison and the Fairlawn Church of God Staff for their dedication to the ministry here at the church.  Come out and help us recognize these wonderful people for their dedication to God’s calling!
URL:https://fairlawncog.org/event/wed-night-service/
LOCATION:Fairlawn Church of God\, 7858 Peppers Ferry Blvd.\, Radford\, VA\, 24141\, United States
END:VEVENT
BEGIN:VEVENT
DTSTART;VALUE=DATE:20230628
DTEND;VALUE=DATE:20230629
DTSTAMP:20260424T235320
CREATED:20230608T154139Z
LAST-MODIFIED:20230608T154139Z
UID:505-1687910400-1687996799@fairlawncog.org
SUMMARY:NO WED. NIGHT SERVICE
DESCRIPTION:There will be no Wed. Night Service at Fairlawn Church of God on Wed\, June 21st due to Vacation Bible School.
URL:https://fairlawncog.org/event/no-wed-night-service-2/
LOCATION:Fairlawn Church of God\, 7858 Peppers Ferry Blvd.\, Radford\, VA\, 24141\, United States
ORGANIZER;CN="Pastor Marcus Harrison":MAILTO:office@fairlawncog.org
END:VEVENT
BEGIN:VEVENT
DTSTART;TZID=UTC:20230626T170000
DTEND;TZID=UTC:20230630T203000
DTSTAMP:20260424T235320
CREATED:20230608T153155Z
LAST-MODIFIED:20230608T153155Z
UID:496-1687798800-1688157000@fairlawncog.org
SUMMARY:VACATION BIBLE SCHOOL
DESCRIPTION:On Monday June 26th through Friday June 30th\, we will be having our Vacation Bible School!  The theme will be “Keepers of the Kingdom – Standing Strong in Today’s Battle for Truth!”  Services for all ages will be nightly at 6PM with a family meal beforehand in the Fellowship Hall at 5PM.  There will be nightly crafts\, music\, skits\, illustrated lessons\, game time\, and MORE!  We need volunteers!  If you are willing to help\, please see our Children’s Pastors\, Adam and Amy Gifford\, ASAP.  Don’t miss it!
URL:https://fairlawncog.org/event/vacation-bible-school/
LOCATION:Fairlawn Church of God\, 7858 Peppers Ferry Blvd.\, Radford\, VA\, 24141\, United States
ORGANIZER;CN="Pastor Adam and Amy Gifford":MAILTO:office@fairlawncog.org
END:VEVENT
BEGIN:VEVENT
DTSTART;TZID=UTC:20230625T180000
DTEND;TZID=UTC:20230625T203000
DTSTAMP:20260424T235320
CREATED:20230608T152632Z
LAST-MODIFIED:20230608T152632Z
UID:493-1687716000-1687725000@fairlawncog.org
SUMMARY:EMPOWERMENT SERVICE
DESCRIPTION:On Sunday June 25th at 6PM\, we will be hosting our Empowerment Service with guest minister\, Kevin Tolbert.  Bro Kevin has been involved with ministry for many years including singing\, teaching\, and as a youth leader.  He has blessed our church with his musical gifts\, and now we are thrilled to be able to hear him share the Word of God from his heart.  Make plans to come out and be blessed by Worship and the Word!
URL:https://fairlawncog.org/event/empowerment-service/
LOCATION:Fairlawn Church of God\, 7858 Peppers Ferry Blvd.\, Radford\, VA\, 24141\, United States
ORGANIZER;CN="Pastor Marcus Harrison":MAILTO:office@fairlawncog.org
END:VEVENT
BEGIN:VEVENT
DTSTART;TZID=UTC:20230625T160000
DTEND;TZID=UTC:20230625T170000
DTSTAMP:20260424T235320
CREATED:20230608T152458Z
LAST-MODIFIED:20230608T152458Z
UID:490-1687708800-1687712400@fairlawncog.org
SUMMARY:NURSING HOME MINISTRY
DESCRIPTION:On Sunday June 25th at 4PM\, we’ll be going to Warm Hearth Village in Blacksburg for our monthly Nursing Home Ministry.  Rev. Brian Mann is leading this ministry and would love to have you as a part of his team.  To find out more about this ministry\, please see Rev. Mann today!  Remember\, when you’ve done it to the least of these\, you’ve done it to Him!
URL:https://fairlawncog.org/event/nursing-home-ministry/
LOCATION:Warm Hearth Village\, 2387 Warm Hearth Dr\, Blacksburg\, VA\, 24060\, United States
ORGANIZER;CN="Rev. Brian Mann":MAILTO:office@fairlawncog.org
END:VEVENT
BEGIN:VEVENT
DTSTART;TZID=UTC:20230625T110000
DTEND;TZID=UTC:20230625T130000
DTSTAMP:20260424T235320
CREATED:20230608T152055Z
LAST-MODIFIED:20230608T152055Z
UID:488-1687690800-1687698000@fairlawncog.org
SUMMARY:ADAM CRABB IN CONCERT
DESCRIPTION:On Sunday June 25th at 11AM\, we will be blessed to host Adam Crabb LIVE in Concert!  Adam is the brother of Jason Crabb\, a member of the Crabb family\, and a member of the Gaither Vocal Band.  He is an anointed Psalmist who has blessed our church every time he has ministered here in song.  Make plans NOW to be here for this anointed time of Worship and music with the one and only\, Adam Crabb.
URL:https://fairlawncog.org/event/adam-crabb-in-concert/
LOCATION:Fairlawn Church of God\, 7858 Peppers Ferry Blvd.\, Radford\, VA\, 24141\, United States
ORGANIZER;CN="Pastor Marcus Harrison":MAILTO:office@fairlawncog.org
END:VEVENT
BEGIN:VEVENT
DTSTART;VALUE=DATE:20230621
DTEND;VALUE=DATE:20230622
DTSTAMP:20260424T235320
CREATED:20230608T154003Z
LAST-MODIFIED:20230608T154003Z
UID:502-1687305600-1687391999@fairlawncog.org
SUMMARY:NO WED. NIGHT SERVICE
DESCRIPTION:There will be no Wed. Night Service at Fairlawn Church of God on Wed\, June 21st due to VACOG Campmeeting 2023.
URL:https://fairlawncog.org/event/no-wed-night-service/
LOCATION:Fairlawn Church of God\, 7858 Peppers Ferry Blvd.\, Radford\, VA\, 24141\, United States
ORGANIZER;CN="Pastor Marcus Harrison":MAILTO:office@fairlawncog.org
END:VEVENT
BEGIN:VEVENT
DTSTART;TZID=UTC:20230620T183000
DTEND;TZID=UTC:20230620T203000
DTSTAMP:20260424T235320
CREATED:20230608T151838Z
LAST-MODIFIED:20230608T151838Z
UID:485-1687285800-1687293000@fairlawncog.org
SUMMARY:SENIOR ADULT MINISTRY
DESCRIPTION:On Tuesday June 20th at 6:30PM\, our Senior Adults\, “Tried and True Ministry\,” will be having their monthly meeting in the Fellowship Hall.  All folks\, ages 50+\, are invited to join them for a great time of food\, fun\, and fellowship!  Please bring your favorite dish and join them for this monthly meeting.  See Pastor Joey or Lisa Sheppard for more information.
URL:https://fairlawncog.org/event/senior-adult-ministry/
LOCATION:Fairlawn Church of God\, 7858 Peppers Ferry Blvd.\, Radford\, VA\, 24141\, United States
ORGANIZER;CN="Pastor Joey and Lisa Shepphard":MAILTO:office@fairlawncog.org
END:VEVENT
BEGIN:VEVENT
DTSTART;VALUE=DATE:20230620
DTEND;VALUE=DATE:20230624
DTSTAMP:20260424T235320
CREATED:20230608T153645Z
LAST-MODIFIED:20230608T153645Z
UID:499-1687219200-1687564799@fairlawncog.org
SUMMARY:VACOG CAMPMEETING 2023
DESCRIPTION:
URL:https://fairlawncog.org/event/vacog-campmeeting-2023/
LOCATION:Celebration Church of God
END:VEVENT
BEGIN:VEVENT
DTSTART;TZID=UTC:20230618T110000
DTEND;TZID=UTC:20230618T130000
DTSTAMP:20260424T235320
CREATED:20230608T151623Z
LAST-MODIFIED:20230608T151623Z
UID:483-1687086000-1687093200@fairlawncog.org
SUMMARY:FATHER'S DAY
DESCRIPTION:On Sunday June 18th at 11AM\, we will be honoring all of our father’s with a special Father’s Day program.  There will be special music\, recognitions\, and presentations and Pastor Marcus will be preaching a special message entitled\, “What’s in Dad’s Toolbox?”  We appreciate all the men in our church who are Godly examples of what a man should be.  We love you\, dad\, and we honor you on your special day!
URL:https://fairlawncog.org/event/fathers-day/
LOCATION:Fairlawn Church of God\, 7858 Peppers Ferry Blvd.\, Radford\, VA\, 24141\, United States
ORGANIZER;CN="Pastor Marcus Harrison":MAILTO:office@fairlawncog.org
END:VEVENT
BEGIN:VEVENT
DTSTART;TZID=UTC:20230617T170000
DTEND;TZID=UTC:20230617T203000
DTSTAMP:20260424T235320
CREATED:20230608T151436Z
LAST-MODIFIED:20230608T151436Z
UID:480-1687021200-1687033800@fairlawncog.org
SUMMARY:EASTER DRAMA DINNER
DESCRIPTION:On Saturday June 17th at 5PM\, we will be having a dinner for anyone who was involved in the 2023 presentation of “The Glory of His Resurrection.”  If you were in the drama\, or helped with the drama in any way\, you are invited to join us for a catered meal in the Fellowship Hall.  We appreciate everyone who made this year a great success\, and we appreciate the anonymous donor who paid for this meal.  Please see Pastor Marcus or Sis Jackie for more information.
URL:https://fairlawncog.org/event/easter-drama-dinner/
LOCATION:Fairlawn Church of God\, 7858 Peppers Ferry Blvd.\, Radford\, VA\, 24141\, United States
ORGANIZER;CN="Pastor Marcus Harrison":MAILTO:office@fairlawncog.org
END:VEVENT
BEGIN:VEVENT
DTSTART;TZID=UTC:20230614T190000
DTEND;TZID=UTC:20230614T203000
DTSTAMP:20260424T235320
CREATED:20230608T145828Z
LAST-MODIFIED:20230608T145828Z
UID:463-1686769200-1686774600@fairlawncog.org
SUMMARY:WEDNESDAY NIGHT SERIES
DESCRIPTION:On Wednesday June 14th at 7PM\, Pastor Joni will continue a BRAND NEW Series entitled\, “Stay in the Game.”  In this Series\, we will be looking at topics like keeping the right perspective\, being convinced you can handle it\, knowing your second wind is on the way\, and finishing with grace.  This will be a word of encouragement for you that regardless of the ups and downs of life\, stay in the game.  God’s got a blessing for you\, if you don’t give up!
URL:https://fairlawncog.org/event/wednesday-night-series-2/
LOCATION:Fairlawn Church of God\, 7858 Peppers Ferry Blvd.\, Radford\, VA\, 24141\, United States
END:VEVENT
BEGIN:VEVENT
DTSTART;TZID=UTC:20230613T183000
DTEND;TZID=UTC:20230613T203000
DTSTAMP:20260424T235320
CREATED:20230608T151203Z
LAST-MODIFIED:20230608T151203Z
UID:478-1686681000-1686688200@fairlawncog.org
SUMMARY:LADIES MINISTRY
DESCRIPTION:On Tuesday June 13th at 6:30PM\, our Ladies Ministry will be having their monthly meeting in the Fellowship Hall.  They will enjoy food and fellowship and will be discussing some upcoming plans for the remainder of the year.  If you are interested in coming to Ladies Ministry\, please see Pastor Joni today.  All ladies are cordially invited to attend.
URL:https://fairlawncog.org/event/ladies-ministry/
LOCATION:VA
END:VEVENT
BEGIN:VEVENT
DTSTART;TZID=UTC:20230612T183000
DTEND;TZID=UTC:20230612T203000
DTSTAMP:20260424T235320
CREATED:20230608T151026Z
LAST-MODIFIED:20230608T151026Z
UID:476-1686594600-1686601800@fairlawncog.org
SUMMARY:SIGN LANGUAGE CLASS
DESCRIPTION:On Monday June 12th at 6:30PM\, we will be offering a free sign language class\, taught by Sandra Turman in the Fellowship Hall\, to anyone interested.  More classes will potentially be scheduled in the future once we determine the interest.  Nelson Gallagher would love the opportunity to communicate with you through sign language.  If you are interested in more information\, please see Sandra Turman or Alicia Harrison today.
URL:https://fairlawncog.org/event/sign-language-class/
LOCATION:Fairlawn Church of God\, 7858 Peppers Ferry Blvd.\, Radford\, VA\, 24141\, United States
END:VEVENT
BEGIN:VEVENT
DTSTART;TZID=UTC:20230611T180000
DTEND;TZID=UTC:20230611T203000
DTSTAMP:20260424T235320
CREATED:20230608T150821Z
LAST-MODIFIED:20230608T150821Z
UID:473-1686506400-1686515400@fairlawncog.org
SUMMARY:YOUNG ADULT MINISTRY
DESCRIPTION:On Sunday June 11th at 6PM\, our Young Adult Ministry will be hosting their “Exceed Service” in the Youth Sanctuary\, located in the downstairs area of our Fellowship Hall.  They will have anointed Worship followed by the Word and a time of prayer.  All young adults are invited to join them for a time of fellowship and worship!
URL:https://fairlawncog.org/event/young-adult-ministry/
LOCATION:Fairlawn Church of God\, 7858 Peppers Ferry Blvd.\, Radford\, VA\, 24141\, United States
ORGANIZER;CN="Rev. Justin Coleman":MAILTO:office@fairlawncog.org
END:VEVENT
BEGIN:VEVENT
DTSTART;TZID=UTC:20230611T110000
DTEND;TZID=UTC:20230611T130000
DTSTAMP:20260424T235320
CREATED:20230608T150444Z
LAST-MODIFIED:20230608T150444Z
UID:471-1686481200-1686488400@fairlawncog.org
SUMMARY:GRADUATION CELEBRATION
DESCRIPTION:On Sunday June 11th at 11AM\, we will be having a very special Graduation Celebration for all our high school and college graduates.  If you are graduating this year\, please see Kathy Taylor or one of our staff members ASAP\, so that we can include you in the program.  We need a brief bio\, including any awards or special recognitions\, and a photo emailed to the church at office@fairlawncog.org.  Congrats class of 2023!
URL:https://fairlawncog.org/event/graduation-celebration/
LOCATION:Fairlawn Church of God\, 7858 Peppers Ferry Blvd.\, Radford\, VA\, 24141\, United States
END:VEVENT
BEGIN:VEVENT
DTSTART;TZID=UTC:20230610T100000
DTEND;TZID=UTC:20230610T150000
DTSTAMP:20260424T235320
CREATED:20230608T150301Z
LAST-MODIFIED:20230608T150301Z
UID:469-1686391200-1686409200@fairlawncog.org
SUMMARY:STAFF TRAINING
DESCRIPTION:On Saturday June 10th at 10AM\, we will be participating in staff and leadership workshops at the Valley Church of God in Roanoke\, VA.  We will be covering the cost for any leaders who would like to attend these trainings.  They will be once a quarter throughout this year.  The workshops this month will cover the topics of small group ministry\, assimilation\, and mental health and wellness.  If you are a leader and are interested in this training\, please see Pastor Marcus.
URL:https://fairlawncog.org/event/staff-training/
LOCATION:VA
END:VEVENT
BEGIN:VEVENT
DTSTART;TZID=UTC:20230607T190000
DTEND;TZID=UTC:20230607T203000
DTSTAMP:20260424T235320
CREATED:20230608T145549Z
LAST-MODIFIED:20230608T145549Z
UID:461-1686164400-1686169800@fairlawncog.org
SUMMARY:WEDNESDAY NIGHT SERIES
DESCRIPTION:On Wednesday June 7th at 7PM\, Pastor Joni will begin a BRAND NEW Series entitled\, “Stay in the Game.”  In this Series\, we will be looking at topics like keeping the right perspective\, being convinced you can handle it\, knowing your second wind is on the way\, and finishing with grace.  This will be a word of encouragement for you that regardless of the ups and downs of life\, stay in the game.  God’s got a blessing for you\, if you don’t give up!
URL:https://fairlawncog.org/event/wednesday-night-series/
LOCATION:Fairlawn Church of God\, 7858 Peppers Ferry Blvd.\, Radford\, VA\, 24141\, United States
END:VEVENT
BEGIN:VEVENT
DTSTART;TZID=UTC:20221211T110000
DTEND;TZID=UTC:20221211T170000
DTSTAMP:20260424T235320
CREATED:20221208T182518Z
LAST-MODIFIED:20221208T182518Z
UID:287-1670756400-1670778000@fairlawncog.org
SUMMARY:Christmas Concert
DESCRIPTION:
URL:https://fairlawncog.org/event/christmas-concert/
LOCATION:VA
END:VEVENT
END:VCALENDAR