BEGIN:VCALENDAR
VERSION:2.0
PRODID:-//Fairlawn Church of God - ECPv6.15.20//NONSGML v1.0//EN
CALSCALE:GREGORIAN
METHOD:PUBLISH
X-ORIGINAL-URL:https://fairlawncog.org
X-WR-CALDESC:Events for Fairlawn Church of God
REFRESH-INTERVAL;VALUE=DURATION:PT1H
X-Robots-Tag:noindex
X-PUBLISHED-TTL:PT1H
BEGIN:VTIMEZONE
TZID:UTC
BEGIN:STANDARD
TZOFFSETFROM:+0000
TZOFFSETTO:+0000
TZNAME:UTC
DTSTART:20220101T000000
END:STANDARD
END:VTIMEZONE
BEGIN:VEVENT
DTSTART;TZID=UTC:20230927T110000
DTEND;TZID=UTC:20230927T140000
DTSTAMP:20260424T190510
CREATED:20230901T185845Z
LAST-MODIFIED:20230901T185845Z
UID:592-1695812400-1695823200@fairlawncog.org
SUMMARY:WEDNESDAY KID'S CLUBS
DESCRIPTION:On Wednesday September 6th at 7PM\, our Kid’s Clubs will continue in their NEW Series all about “ICE-CREAM!”  I scream\, you scream\, we all scream for ice-cream!  It’s no secret that kids love ice-cream.  Join us for the next few weeks as our kids are taught interactive Bible lessons based on ice-cream.  The Bible tells us to taste and see that the Lord is good!
URL:https://fairlawncog.org/event/wednesday-kids-clubs-4/
LOCATION:Fairlawn Church of God\, 7858 Peppers Ferry Blvd.\, Radford\, VA\, 24141\, United States
ORGANIZER;CN="Pastor Marcus Harrison":MAILTO:office@fairlawncog.org
END:VEVENT
BEGIN:VEVENT
DTSTART;TZID=UTC:20230924T180000
DTEND;TZID=UTC:20230924T210000
DTSTAMP:20260424T190510
CREATED:20230907T143456Z
LAST-MODIFIED:20230907T143456Z
UID:625-1695578400-1695589200@fairlawncog.org
SUMMARY:EMPOWERMENT SERVICE
DESCRIPTION:On Sunday September 24th at 6PM\, we’ll be having our monthly Empowerment Service and it will be a special WORSHIP Empowerment Service!  There will be no preaching\, but the evening will be filled with Spirit-led Worship from our Praise Band\, Praise Team\, and Sanctuary Choir.  Make plans NOW to come out and join us for an anointed night of music\, singing\, and worship!
URL:https://fairlawncog.org/event/empowerment-service-3/
LOCATION:Fairlawn Church of God\, 7858 Peppers Ferry Blvd.\, Radford\, VA\, 24141\, United States
END:VEVENT
BEGIN:VEVENT
DTSTART;TZID=UTC:20230924T160000
DTEND;TZID=UTC:20230924T173000
DTSTAMP:20260424T190510
CREATED:20230907T143401Z
LAST-MODIFIED:20230907T143401Z
UID:623-1695571200-1695576600@fairlawncog.org
SUMMARY:NURSING HOME MINISTRY
DESCRIPTION:On Sunday September 24th at 4PM\, we’ll be going to Warm Hearth Village in Blacksburg for our monthly Nursing Home Ministry.  Rev. Brian Mann is leading this ministry and would love to have you as a part of his team.  To find out more about this ministry\, please see Rev. Mann today!  Remember\, when you’ve done it to the least of these\, you’ve done it to Him!
URL:https://fairlawncog.org/event/nursing-home-ministry-3/
LOCATION:Warm Hearth Village\, 2387 Warm Hearth Dr\, Blacksburg\, VA\, 24060\, United States
ORGANIZER;CN="Rev. Brian Mann":MAILTO:office@fairlawncog.org
END:VEVENT
BEGIN:VEVENT
DTSTART;TZID=UTC:20230924T110000
DTEND;TZID=UTC:20230924T140000
DTSTAMP:20260424T190510
CREATED:20230907T143221Z
LAST-MODIFIED:20230907T143221Z
UID:621-1695553200-1695564000@fairlawncog.org
SUMMARY:BAPTISM SERVICE
DESCRIPTION:On Sunday September 24th\, immediately following our morning Worship Service\, we will be having a special Baptism Service.  If you have never been baptized\, or would like to be baptized again following your rededication to the Lord\, please sign up at the Welcome Center today!
URL:https://fairlawncog.org/event/baptism-service/
LOCATION:Fairlawn Church of God\, 7858 Peppers Ferry Blvd.\, Radford\, VA\, 24141\, United States
ORGANIZER;CN="Pastor Marcus Harrison":MAILTO:office@fairlawncog.org
END:VEVENT
BEGIN:VEVENT
DTSTART;TZID=UTC:20230924T110000
DTEND;TZID=UTC:20230924T140000
DTSTAMP:20260424T190510
CREATED:20230907T143029Z
LAST-MODIFIED:20230907T143029Z
UID:617-1695553200-1695564000@fairlawncog.org
SUMMARY:NEW SERMON SERIES
DESCRIPTION:On Sunday September 17th at 11AM\, Pastor Marcus will begin a BRAND NEW Sermon Series entitled\, “The Life and Ministry of GIDEON.”   We’re going to be looking at this powerful story from the book of Judges and discovering how God chose an ordinary man and gave him an extraordinary calling.  He used Gideon to deliver His people in a miraculous way and He can do the same with you!  What is impossible with man is still possible with God.  Don’t miss this incredible NEW Series!
URL:https://fairlawncog.org/event/new-sermon-series-2/
LOCATION:Fairlawn Church of God\, 7858 Peppers Ferry Blvd.\, Radford\, VA\, 24141\, United States
ORGANIZER;CN="Pastor Marcus Harrison":MAILTO:office@fairlawncog.org
END:VEVENT
BEGIN:VEVENT
DTSTART;TZID=UTC:20230924T110000
DTEND;TZID=UTC:20230924T140000
DTSTAMP:20260424T190510
CREATED:20230901T185133Z
LAST-MODIFIED:20230901T185133Z
UID:584-1695553200-1695564000@fairlawncog.org
SUMMARY:Sunday Morning Service
DESCRIPTION:Every Sunday Morning\, from 11am – 2pm join us at Fairlawn Church of God for Worship and the Word of God with Pastor Marcus Harrison.  Can’t make it in person?  Tune into our Facebook Live or YouTube Live every Sunday Morning!
URL:https://fairlawncog.org/event/sunday-morning-service-3/
LOCATION:Fairlawn Church of God\, 7858 Peppers Ferry Blvd.\, Radford\, VA\, 24141\, United States
ORGANIZER;CN="Pastor Marcus Harrison":MAILTO:office@fairlawncog.org
END:VEVENT
BEGIN:VEVENT
DTSTART;TZID=UTC:20230920T190000
DTEND;TZID=UTC:20230920T210000
DTSTAMP:20260424T190510
CREATED:20230907T145414Z
LAST-MODIFIED:20230907T145414Z
UID:632-1695236400-1695243600@fairlawncog.org
SUMMARY:Wed. "Rebranded" Teen Service
DESCRIPTION:Come join “REBRANDED YOUTH” every Wed. Night at 7:00pm for Bible Study with Pastor Mikey Cline.   \n  \nREBRANDED YOUTH MISSION STATEMENT: \nWe have been “Rebranded” as new creations of Christ\, born again and dead to sin.  Our mission is to “Root” the teens of this generation in the Word of God so they know the truth of the Bible and won’t be led astray by false doctrines and lies and make them “Dedicated Disciples” to reach a lost a dying world\, as stated in the Great Commission.  R2D2! \nInterested in Drama/Dance?  Come join us for practice from 5pm-6pm \nInterested in Music and Praise and Worship? Come join us for practice from 6pm-7pm (on announced nights.)
URL:https://fairlawncog.org/event/wed-rebranded-teen-service-3/
LOCATION:Fairlawn Church of God\, 7858 Peppers Ferry Blvd.\, Radford\, VA\, 24141\, United States
END:VEVENT
BEGIN:VEVENT
DTSTART;TZID=UTC:20230920T190000
DTEND;TZID=UTC:20230920T210000
DTSTAMP:20260424T190510
CREATED:20230901T184227Z
LAST-MODIFIED:20230901T184227Z
UID:574-1695236400-1695243600@fairlawncog.org
SUMMARY:WEDNESDAY NIGHT SERIES
DESCRIPTION:On Wednesday September 6th at 7PM\, Pastor Joni will begin a BRAND NEW Bible Study entitled\, “Don’t Look Back!”  In this relevant teaching on Lot’s wife\, we’ll be reminded that looking back is never a good thing.  It has the tendency to get us stuck where we are without the motivation to move forward.  The time to run toward God’s plans and purposes for your life is now.  You can move from where you are to where God wants you to be.  You just can’t do it looking back!
URL:https://fairlawncog.org/event/wednesday-night-series-6/
LOCATION:Fairlawn Church of God\, 7858 Peppers Ferry Blvd.\, Radford\, VA\, 24141\, United States
END:VEVENT
BEGIN:VEVENT
DTSTART;TZID=UTC:20230920T080000
DTEND;TZID=UTC:20230920T170000
DTSTAMP:20260424T190510
CREATED:20230901T185729Z
LAST-MODIFIED:20230901T185729Z
UID:590-1695196800-1695229200@fairlawncog.org
SUMMARY:WEDNESDAY KID'S CLUBS
DESCRIPTION:On Wednesday September 6th at 7PM\, our Kid’s Clubs will continue in their NEW Series all about “ICE-CREAM!”  I scream\, you scream\, we all scream for ice-cream!  It’s no secret that kids love ice-cream.  Join us for the next few weeks as our kids are taught interactive Bible lessons based on ice-cream.  The Bible tells us to taste and see that the Lord is good!
URL:https://fairlawncog.org/event/wednesday-kids-clubs-3/
LOCATION:Fairlawn Church of God\, 7858 Peppers Ferry Blvd.\, Radford\, VA\, 24141\, United States
ORGANIZER;CN="Pastor Marcus Harrison":MAILTO:office@fairlawncog.org
END:VEVENT
BEGIN:VEVENT
DTSTART;TZID=UTC:20230919T183000
DTEND;TZID=UTC:20230919T210000
DTSTAMP:20260424T190510
CREATED:20230907T143124Z
LAST-MODIFIED:20230907T143124Z
UID:619-1695148200-1695157200@fairlawncog.org
SUMMARY:SENIOR ADULT MINISTRY
DESCRIPTION:On Tuesday September 19th at 6:30PM\, our Senior Adults\, “Tried and True Ministry\,” will be having their monthly meeting in the Fellowship Hall.  All folks\, ages 50+\, are invited to join them for a time of food\, fun\, and fellowship!  Please bring your favorite dish and join them for this monthly meeting.  See Pastor Joey or Lisa Sheppard for more info.
URL:https://fairlawncog.org/event/senior-adult-ministry-3/
LOCATION:Fairlawn Church of God\, 7858 Peppers Ferry Blvd.\, Radford\, VA\, 24141\, United States
ORGANIZER;CN="Pastor Joey and Lisa Shepphard":MAILTO:office@fairlawncog.org
END:VEVENT
BEGIN:VEVENT
DTSTART;TZID=UTC:20230917T110000
DTEND;TZID=UTC:20230917T140000
DTSTAMP:20260424T190510
CREATED:20230907T142932Z
LAST-MODIFIED:20230907T142932Z
UID:615-1694948400-1694959200@fairlawncog.org
SUMMARY:NEW SERMON SERIES
DESCRIPTION:On Sunday September 17th at 11AM\, Pastor Marcus will begin a BRAND NEW Sermon Series entitled\, “The Life and Ministry of GIDEON.”   We’re going to be looking at this powerful story from the book of Judges and discovering how God chose an ordinary man and gave him an extraordinary calling.  He used Gideon to deliver His people in a miraculous way and He can do the same with you!  What is impossible with man is still possible with God.  Don’t miss this incredible NEW Series!
URL:https://fairlawncog.org/event/new-sermon-series/
LOCATION:Fairlawn Church of God\, 7858 Peppers Ferry Blvd.\, Radford\, VA\, 24141\, United States
ORGANIZER;CN="Pastor Marcus Harrison":MAILTO:office@fairlawncog.org
END:VEVENT
BEGIN:VEVENT
DTSTART;TZID=UTC:20230917T110000
DTEND;TZID=UTC:20230917T140000
DTSTAMP:20260424T190510
CREATED:20230901T184849Z
LAST-MODIFIED:20230901T184849Z
UID:580-1694948400-1694959200@fairlawncog.org
SUMMARY:Sunday Morning Service
DESCRIPTION:Every Sunday Morning\, from 11am – 2pm join us at Fairlawn Church of God for Worship and the Word of God with Pastor Marcus Harrison.  Can’t make it in person?  Tune into our Facebook Live or YouTube Live every Sunday Morning!
URL:https://fairlawncog.org/event/sunday-morning-service/
LOCATION:Fairlawn Church of God\, 7858 Peppers Ferry Blvd.\, Radford\, VA\, 24141\, United States
ORGANIZER;CN="Pastor Marcus Harrison":MAILTO:office@fairlawncog.org
END:VEVENT
BEGIN:VEVENT
DTSTART;TZID=UTC:20230916T083000
DTEND;TZID=UTC:20230916T123000
DTSTAMP:20260424T190510
CREATED:20230907T142745Z
LAST-MODIFIED:20230907T142745Z
UID:613-1694853000-1694867400@fairlawncog.org
SUMMARY:LADIES MINISTRY YARD SALE
DESCRIPTION:On Saturday September 16th from 8:30AM – 12:30PM\, our Ladies Ministry will be having their annual YARD SALE in the upstairs of the Fellowship Hall.  If you have any items you would like to donate\, they can be dropped off on Friday\, September 15th after 6PM.  All proceeds will benefit our FCOG Ladies’ Ministry.
URL:https://fairlawncog.org/event/ladies-ministry-yard-sale/
LOCATION:Fairlawn Church of God\, 7858 Peppers Ferry Blvd.\, Radford\, VA\, 24141\, United States
END:VEVENT
BEGIN:VEVENT
DTSTART;VALUE=DATE:20230915
DTEND;VALUE=DATE:20230916
DTSTAMP:20260424T190510
CREATED:20230907T142644Z
LAST-MODIFIED:20230907T142644Z
UID:611-1694736000-1694822399@fairlawncog.org
SUMMARY:GO PULASKI COUNTY
DESCRIPTION:On Friday September 15th\, the volunteer registration for GOPC will end.  GOPC is a community workday where churches and citizens come together to serve our county.  There are various work projects\, around the county\, that are geared for all ages and skill levels.  You can visit gopulaskicounty.org for more info or to sign up to serve.  You can also see Pastor Justin Coleman for more info or for help with registration.
URL:https://fairlawncog.org/event/go-pulaski-county/
LOCATION:VA
ORGANIZER;CN="Rev. Justin Coleman":MAILTO:office@fairlawncog.org
END:VEVENT
BEGIN:VEVENT
DTSTART;TZID=UTC:20230913T190000
DTEND;TZID=UTC:20230913T210000
DTSTAMP:20260424T190510
CREATED:20230907T145133Z
LAST-MODIFIED:20230907T145808Z
UID:627-1694631600-1694638800@fairlawncog.org
SUMMARY:Wed. "Rebranded" Teen Service
DESCRIPTION:Come join “REBRANDED YOUTH” every Wed. Night at 7:00pm for Bible Study with Pastor Mikey Cline.   \n  \nREBRANDED YOUTH MISSION STATEMENT: \nWe have been “Rebranded” as new creations of Christ\, born again and dead to sin.  Our mission is to “Root” the teens of this generation in the Word of God so they know the truth of the Bible and won’t be led astray by false doctrines and lies and make them “Dedicated Disciples” to reach a lost a dying world\, as stated in the Great Commission.  R2D2! \nInterested in Drama/Dance?  Come join us for practice from 5pm-6pm \nInterested in Music and Praise and Worship? Come join us for practice from 6pm-7pm (on announced nights.) \n 
URL:https://fairlawncog.org/event/wed-rebranded-teen-service/
LOCATION:Fairlawn Church of God\, 7858 Peppers Ferry Blvd.\, Radford\, VA\, 24141\, United States
END:VEVENT
BEGIN:VEVENT
DTSTART;TZID=UTC:20230913T190000
DTEND;TZID=UTC:20230913T210000
DTSTAMP:20260424T190510
CREATED:20230901T184118Z
LAST-MODIFIED:20230901T184118Z
UID:572-1694631600-1694638800@fairlawncog.org
SUMMARY:WEDNESDAY NIGHT SERIES
DESCRIPTION:On Wednesday September 6th at 7PM\, Pastor Joni will begin a BRAND NEW Bible Study entitled\, “Don’t Look Back!”  In this relevant teaching on Lot’s wife\, we’ll be reminded that looking back is never a good thing.  It has the tendency to get us stuck where we are without the motivation to move forward.  The time to run toward God’s plans and purposes for your life is now.  You can move from where you are to where God wants you to be.  You just can’t do it looking back!
URL:https://fairlawncog.org/event/wednesday-night-series-5/
LOCATION:Fairlawn Church of God\, 7858 Peppers Ferry Blvd.\, Radford\, VA\, 24141\, United States
END:VEVENT
BEGIN:VEVENT
DTSTART;TZID=UTC:20230913T110000
DTEND;TZID=UTC:20230913T140000
DTSTAMP:20260424T190510
CREATED:20230901T185629Z
LAST-MODIFIED:20230901T185629Z
UID:588-1694602800-1694613600@fairlawncog.org
SUMMARY:WEDNESDAY KID'S CLUBS
DESCRIPTION:On Wednesday September 6th at 7PM\, our Kid’s Clubs will continue in their NEW Series all about “ICE-CREAM!”  I scream\, you scream\, we all scream for ice-cream!  It’s no secret that kids love ice-cream.  Join us for the next few weeks as our kids are taught interactive Bible lessons based on ice-cream.  The Bible tells us to taste and see that the Lord is good!
URL:https://fairlawncog.org/event/wednesday-kids-clubs-2/
LOCATION:Fairlawn Church of God\, 7858 Peppers Ferry Blvd.\, Radford\, VA\, 24141\, United States
ORGANIZER;CN="Pastor Marcus Harrison":MAILTO:office@fairlawncog.org
END:VEVENT
BEGIN:VEVENT
DTSTART;TZID=UTC:20230912T183000
DTEND;TZID=UTC:20230912T210000
DTSTAMP:20260424T190510
CREATED:20230907T142523Z
LAST-MODIFIED:20230907T142523Z
UID:609-1694543400-1694552400@fairlawncog.org
SUMMARY:LADIES MINISTRY
DESCRIPTION:On Tuesday September 12th at 6:30PM\, our Ladies Ministry will be having their monthly meeting in the Fellowship Hall.  They will enjoy food and fellowship\, and will have their monthly ministry meeting.  If you are interested in learning more about this ministry\, please see Pastor Joni today.  All ladies are invited to attend.
URL:https://fairlawncog.org/event/ladies-ministry-2/
LOCATION:Fairlawn Church of God\, 7858 Peppers Ferry Blvd.\, Radford\, VA\, 24141\, United States
END:VEVENT
BEGIN:VEVENT
DTSTART;TZID=UTC:20230910T180000
DTEND;TZID=UTC:20230910T210000
DTSTAMP:20260424T190510
CREATED:20230907T142412Z
LAST-MODIFIED:20230907T142412Z
UID:607-1694368800-1694379600@fairlawncog.org
SUMMARY:YOUNG ADULT MINISTRY: EXCEED SERVICE
DESCRIPTION:On Sunday September 10th at 6PM\, our Young Adult Ministry will be hosting their “Exceed Service” in the Youth Sanctuary\, located in the downstairs area of the Fellowship Hall.  They will have Worship\, followed by the Word\, and a time of prayer.  All young adults are invited to join them for a time of fellowship and worship!
URL:https://fairlawncog.org/event/young-adult-ministry-exceed-service/
LOCATION:Fairlawn Church of God\, 7858 Peppers Ferry Blvd.\, Radford\, VA\, 24141\, United States
ORGANIZER;CN="Rev. Justin Coleman":MAILTO:office@fairlawncog.org
END:VEVENT
BEGIN:VEVENT
DTSTART;TZID=UTC:20230910T110000
DTEND;TZID=UTC:20230910T140000
DTSTAMP:20260424T190510
CREATED:20230907T142255Z
LAST-MODIFIED:20230907T142255Z
UID:605-1694343600-1694354400@fairlawncog.org
SUMMARY:GRANDPARENT'S DAY
DESCRIPTION:On Sunday September 10th at 11AM\, we will be celebrating all of our grandparents with a special Grandparent’s Day program.  Sister Tina Young will be in charge of the program and every grandparent will leave with a special gift from the church.  Pastor Mike Collins will be our special guest minister for the day and we will enjoy some of the older songs from years gone by.  Invite your grandparents to come to church with you for this Service in their honor.
URL:https://fairlawncog.org/event/grandparents-day/
LOCATION:Fairlawn Church of God\, 7858 Peppers Ferry Blvd.\, Radford\, VA\, 24141\, United States
ORGANIZER;CN="Pastor Marcus Harrison":MAILTO:office@fairlawncog.org
END:VEVENT
BEGIN:VEVENT
DTSTART;TZID=UTC:20230910T110000
DTEND;TZID=UTC:20230910T140000
DTSTAMP:20260424T190510
CREATED:20230901T184746Z
LAST-MODIFIED:20230901T185000Z
UID:578-1694343600-1694354400@fairlawncog.org
SUMMARY:Sunday Morning Service
DESCRIPTION:Every Sunday Morning\, from 11am – 2pm join us at Fairlawn Church of God for Worship and the Word of God with Pastor Marcus Harrison.  Can’t make it in person?  Tune into our Facebook Live or YouTube Live every Sunday Morning!
URL:https://fairlawncog.org/event/sunday-morning-service-2/
LOCATION:Fairlawn Church of God\, 7858 Peppers Ferry Blvd.\, Radford\, VA\, 24141\, United States
ORGANIZER;CN="Pastor Marcus Harrison":MAILTO:office@fairlawncog.org
END:VEVENT
BEGIN:VEVENT
DTSTART;TZID=UTC:20230909T100000
DTEND;TZID=UTC:20230909T160000
DTSTAMP:20260424T190510
CREATED:20230907T142153Z
LAST-MODIFIED:20230907T142153Z
UID:603-1694253600-1694275200@fairlawncog.org
SUMMARY:STAFF TRAINING
DESCRIPTION:On Saturday September 9th at 10AM\, we will be participating in staff and leadership workshops at the Valley Church of God in Roanoke\, VA.  We will be covering the cost for anyone who would like to attend these trainings.  They will be once a quarter throughout the year.  The workshops this month will cover the topics of Hospitality Ministry\, Guest Services\, and how to give people a 5 Star Experience.  If you are interested in attending this training\, please see Pastor Marcus.
URL:https://fairlawncog.org/event/staff-training-2/
LOCATION:VA
ORGANIZER;CN="Pastor Marcus Harrison":MAILTO:office@fairlawncog.org
END:VEVENT
BEGIN:VEVENT
DTSTART;TZID=UTC:20230908T130000
DTEND;TZID=UTC:20230908T170000
DTSTAMP:20260424T190510
CREATED:20230901T190035Z
LAST-MODIFIED:20230901T190035Z
UID:594-1694178000-1694192400@fairlawncog.org
SUMMARY:BLOOD DRIVE
DESCRIPTION:On Friday September 8th from 1PM-5PM\, we will be having an American Red Cross Blood Drive in the upstairs of the Fellowship Hall.  You can sign-up online at redcross.org or they will also take walk-ins.  For more information\, please see Paula Davis.  Remember\, the blood you give today could save a life tomorrow.
URL:https://fairlawncog.org/event/blood-drive/
LOCATION:Fairlawn Church of God\, 7858 Peppers Ferry Blvd.\, Radford\, VA\, 24141\, United States
END:VEVENT
BEGIN:VEVENT
DTSTART;TZID=UTC:20230908T080000
DTEND;TZID=UTC:20230909T170000
DTSTAMP:20260424T190510
CREATED:20230901T190219Z
LAST-MODIFIED:20230901T190219Z
UID:597-1694160000-1694278800@fairlawncog.org
SUMMARY:GUY'S GETAWAY
DESCRIPTION:On Friday September 8th through Saturday\, September 9th\, our Kid’s Church will be taking a group of boys to the Guy’s Getaway at the COG Campground in Roanoke\, VA.  The cost is $30 per person and includes your lunch\, t-shirt\, and activities.  For more information or to make a payment\, please see Pastor Adam Gifford.
URL:https://fairlawncog.org/event/guys-getaway/
LOCATION:VACOG Campground\, Roanoke\, VA
ORGANIZER;CN="Pastor Adam and Amy Gifford":MAILTO:office@fairlawncog.org
END:VEVENT
BEGIN:VEVENT
DTSTART;TZID=UTC:20230906T190000
DTEND;TZID=UTC:20230906T210000
DTSTAMP:20260424T190510
CREATED:20230901T185316Z
LAST-MODIFIED:20230901T185522Z
UID:586-1694026800-1694034000@fairlawncog.org
SUMMARY:WEDNESDAY KID'S CLUBS
DESCRIPTION:  \n \nOn Wednesday September 6th at 7PM\, our Kid’s Clubs will continue in their NEW Series all about “ICE-CREAM!”  I scream\, you scream\, we all scream for ice-cream!  It’s no secret that kids love ice-cream.  Join us for the next few weeks as our kids are taught interactive Bible lessons based on ice-cream.  The Bible tells us to taste and see that the Lord is good!
URL:https://fairlawncog.org/event/wednesday-kids-clubs/
LOCATION:Fairlawn Church of God\, 7858 Peppers Ferry Blvd.\, Radford\, VA\, 24141\, United States
ORGANIZER;CN="Pastor Marcus Harrison":MAILTO:office@fairlawncog.org
END:VEVENT
BEGIN:VEVENT
DTSTART;TZID=UTC:20230906T190000
DTEND;TZID=UTC:20230906T210000
DTSTAMP:20260424T190510
CREATED:20230901T183951Z
LAST-MODIFIED:20230901T183951Z
UID:569-1694026800-1694034000@fairlawncog.org
SUMMARY:WEDNESDAY NIGHT SERIES
DESCRIPTION:On Wednesday September 6th at 7PM\, Pastor Joni will begin a BRAND NEW Bible Study entitled\, “Don’t Look Back!”  In this relevant teaching on Lot’s wife\, we’ll be reminded that looking back is never a good thing.  It has the tendency to get us stuck where we are without the motivation to move forward.  The time to run toward God’s plans and purposes for your life is now.  You can move from where you are to where God wants you to be.  You just can’t do it looking back!
URL:https://fairlawncog.org/event/wednesday-night-series-4/
LOCATION:Fairlawn Church of God\, 7858 Peppers Ferry Blvd.\, Radford\, VA\, 24141\, United States
END:VEVENT
BEGIN:VEVENT
DTSTART;TZID=UTC:20230903T110000
DTEND;TZID=UTC:20230903T140000
DTSTAMP:20260424T190510
CREATED:20230901T183750Z
LAST-MODIFIED:20230901T183750Z
UID:567-1693738800-1693749600@fairlawncog.org
SUMMARY:PASTOR'S MESSAGE
DESCRIPTION:On Sunday September 3rd at 11AM\, Pastor Marcus will be preaching a message entitled\, “The Possibilities Are Endless!”  Websters defines endless as having no end or going on forever.  It means its unending\, non-stop\, and limitless.  That’s what happens when you add God to the equation.  Whatever the need\, His ability to meet that need is endless.  He can do the impossible and He can provide the miraculous.  Just remember\, with God\, the possibilities are endless!
URL:https://fairlawncog.org/event/pastors-message/
LOCATION:Fairlawn Church of God\, 7858 Peppers Ferry Blvd.\, Radford\, VA\, 24141\, United States
ORGANIZER;CN="Pastor Marcus Harrison":MAILTO:office@fairlawncog.org
END:VEVENT
BEGIN:VEVENT
DTSTART;TZID=UTC:20230903T100000
DTEND;TZID=UTC:20230903T110000
DTSTAMP:20260424T190510
CREATED:20230901T183533Z
LAST-MODIFIED:20230901T183533Z
UID:565-1693735200-1693738800@fairlawncog.org
SUMMARY:CHURCH MEMBERSHIP CLASS
DESCRIPTION:On Sunday September 3rd at 10AM\, Pastor Marcus will begin a new church membership class for anyone interested in becoming a new member\, or learning more about our church.  The classes will meet for four consecutive weeks\, in the upstairs of our Fellowship Hall\, during the Sunday School hour.  There is a sign up sheet at the welcome center if you’re interested.
URL:https://fairlawncog.org/event/church-membership-class/
LOCATION:Fairlawn Church of God\, 7858 Peppers Ferry Blvd.\, Radford\, VA\, 24141\, United States
ORGANIZER;CN="Pastor Marcus Harrison":MAILTO:office@fairlawncog.org
END:VEVENT
BEGIN:VEVENT
DTSTART;TZID=UTC:20230828T183000
DTEND;TZID=UTC:20230828T203000
DTSTAMP:20260424T190510
CREATED:20230801T161949Z
LAST-MODIFIED:20230801T161949Z
UID:559-1693247400-1693254600@fairlawncog.org
SUMMARY:SIGN LANGUAGE CLASS
DESCRIPTION:On Monday August 28th at 6:30PM\, we will be offering a free sign language class\, taught by Sandra Turman in the Fellowship Hall\, to anyone interested.  These classes will continue to build on the previous classes\, but anyone is welcome to jump in at any time.  Please see Sandra Turman or Alicia Harrison with any questions or for more information.
URL:https://fairlawncog.org/event/sign-language-class-2/
LOCATION:Fairlawn Church of God\, 7858 Peppers Ferry Blvd.\, Radford\, VA\, 24141\, United States
ORGANIZER;CN="Pastor Marcus Harrison":MAILTO:office@fairlawncog.org
END:VEVENT
BEGIN:VEVENT
DTSTART;TZID=UTC:20230827T180000
DTEND;TZID=UTC:20230827T210000
DTSTAMP:20260424T190510
CREATED:20230801T161735Z
LAST-MODIFIED:20230801T161735Z
UID:556-1693159200-1693170000@fairlawncog.org
SUMMARY:EMPOWERMENT SERVICE
DESCRIPTION:  \n \nOn Sunday August 27th at 6PM\, we’ll be having our monthly Empowerment Service.  Our special guest speaker will be our Young Adult Pastor\, Rev. Justin Coleman.  We will also enjoy Worship provided by the Young Adult Praise Band.  Please mark your calendars for this very special Empowerment Service with our very own Young Adult Ministry.
URL:https://fairlawncog.org/event/empowerment-service-2/
LOCATION:Fairlawn Church of God\, 7858 Peppers Ferry Blvd.\, Radford\, VA\, 24141\, United States
ORGANIZER;CN="Rev. Justin Coleman":MAILTO:office@fairlawncog.org
END:VEVENT
END:VCALENDAR