BEGIN:VCALENDAR
VERSION:2.0
PRODID:-//Fairlawn Church of God - ECPv6.15.20//NONSGML v1.0//EN
CALSCALE:GREGORIAN
METHOD:PUBLISH
X-ORIGINAL-URL:https://fairlawncog.org
X-WR-CALDESC:Events for Fairlawn Church of God
REFRESH-INTERVAL;VALUE=DURATION:PT1H
X-Robots-Tag:noindex
X-PUBLISHED-TTL:PT1H
BEGIN:VTIMEZONE
TZID:UTC
BEGIN:STANDARD
TZOFFSETFROM:+0000
TZOFFSETTO:+0000
TZNAME:UTC
DTSTART:20220101T000000
END:STANDARD
END:VTIMEZONE
BEGIN:VEVENT
DTSTART;TZID=UTC:20240114T110000
DTEND;TZID=UTC:20240114T130000
DTSTAMP:20260424T134710
CREATED:20240102T154051Z
LAST-MODIFIED:20240102T154051Z
UID:705-1705230000-1705237200@fairlawncog.org
SUMMARY:NEW SERMON SERIES
DESCRIPTION:On Sunday January 14th at 11AM\, Pastor Marcus will begin a BRAND-NEW Sermon Series entitled\, “Praying Dangerous Prayers.”  In this Series\, we’ll be taking an in-depth look at three dangerous prayers prayed by David\, Jesus\, and Isaiah.  They prayed search me\, break me\, and send me.  Are you tired of praying safe\, comfortable prayers?  Then get ready to pray some prayers of faith.  Get ready to pray some prayers of power.  Get ready to pray some dangerous prayers!
URL:https://fairlawncog.org/event/new-sermon-series-3/
LOCATION:VA
END:VEVENT
BEGIN:VEVENT
DTSTART;TZID=UTC:20240110T190000
DTEND;TZID=UTC:20240110T203000
DTSTAMP:20260424T134710
CREATED:20240102T160806Z
LAST-MODIFIED:20240102T160806Z
UID:719-1704913200-1704918600@fairlawncog.org
SUMMARY:Wed. Night Bible Study - "REBRANDED" Youth - and Kids Club
DESCRIPTION:Psalm 119:105 \n\n\n105 Your word is a lamp to my feet and a light to my path.\n\n\n\nJoin us here at the Fairlawn Church of God for Wed Night Bible Study for all ages.  Worship begins at 7pm.
URL:https://fairlawncog.org/event/wed-night-bible-study-rebranded-youth-and-kids-club/
LOCATION:Fairlawn Church of God\, 7858 Peppers Ferry Blvd.\, Radford\, VA\, 24141\, United States
END:VEVENT
BEGIN:VEVENT
DTSTART;TZID=UTC:20240109T183000
DTEND;TZID=UTC:20240109T203000
DTSTAMP:20260424T134710
CREATED:20240102T153800Z
LAST-MODIFIED:20240102T153800Z
UID:703-1704825000-1704832200@fairlawncog.org
SUMMARY:LADIES MINISTRY
DESCRIPTION:On Tuesday January 9th at 6:30PM\, our Ladies Ministry will be having their monthly meeting in the Fellowship Hall.  They will enjoy food and fellowship and will have their monthly ministry meeting.  We want to encourage all our ladies to come out and be a part of this ministry.  It’s a great time of fellowship.  See Pastor Joni for more information.
URL:https://fairlawncog.org/event/ladies-ministry-4/
LOCATION:Fairlawn Church of God Fellowship Hall\, 7858 Peppers Ferry Blvd.\, Radford\, VA\, 24141\, United States
END:VEVENT
BEGIN:VEVENT
DTSTART;TZID=UTC:20240107T110000
DTEND;TZID=UTC:20240107T130000
DTSTAMP:20260424T134710
CREATED:20240102T150902Z
LAST-MODIFIED:20240102T150902Z
UID:696-1704625200-1704632400@fairlawncog.org
SUMMARY:SUNDAY KID'S CHURCH
DESCRIPTION:  \n \n  \nOn Sunday January 7th at 11AM\, our Kid’s Church will begin a NEW Series from The Gospel Project entitled\, “Jesus is Alive!”  This series is a four week series that picks up where they left off before Christmas.  The kids will learn that after His resurrection\, Jesus appeared to His disciples and hundreds of others for 40 days.  It was proof that Jesus was alive forevermore!  All kids\, ages 3-12\, are invited to join them every Sunday at 11AM for Kid’s Church!
URL:https://fairlawncog.org/event/sunday-kids-church/
LOCATION:Fairlawn Church of God Fellowship Hall\, 7858 Peppers Ferry Blvd.\, Radford\, VA\, 24141\, United States
ORGANIZER;CN="Pastor Adam and Amy Gifford":MAILTO:office@fairlawncog.org
END:VEVENT
BEGIN:VEVENT
DTSTART;TZID=UTC:20240107T110000
DTEND;TZID=UTC:20240107T130000
DTSTAMP:20260424T134710
CREATED:20240102T150746Z
LAST-MODIFIED:20240102T151107Z
UID:694-1704625200-1704632400@fairlawncog.org
SUMMARY:WORD FOR 2024
DESCRIPTION:On Sunday January 7th at 11AM\, our Associate Pastor\, Rev. Joni Shelor\, will be sharing her WORD for 2024.  Every year\, the Lord gives her a WORD for the New Year and this year the WORD is “WAR – We Are Ready!”  We know we are in a spiritual battle in these last days but as Christians\, WE ARE READY\, because we already know the outcome!  Join us for this anointed time of Worship and the Word!
URL:https://fairlawncog.org/event/word-for-2024/
LOCATION:Fairlawn Church of God\, 7858 Peppers Ferry Blvd.\, Radford\, VA\, 24141\, United States
END:VEVENT
BEGIN:VEVENT
DTSTART;TZID=UTC:20240107T100000
DTEND;TZID=UTC:20240107T230000
DTSTAMP:20260424T134710
CREATED:20240102T150636Z
LAST-MODIFIED:20240102T151024Z
UID:692-1704621600-1704668400@fairlawncog.org
SUMMARY:SUNDAY SCHOOL OPEN HOUSE
DESCRIPTION:On Sunday January 7th at 10AM\, we will be having an OPEN HOUSE for our newly renovated Sunday School classrooms and church offices.  We would like to invite everyone to come out and enjoy some refreshments\, as well as tour those newly refurbished areas and get a glimpse of our NEW digital curriculum.  If you do not regularly attend Sunday School\, please prayerfully consider this ministry.  We have classes for all ages.
URL:https://fairlawncog.org/event/sunday-school-open-house/
LOCATION:Fairlawn Church of God\, 7858 Peppers Ferry Blvd.\, Radford\, VA\, 24141\, United States
ORGANIZER;CN="Pastor Marcus Harrison":MAILTO:office@fairlawncog.org
END:VEVENT
BEGIN:VEVENT
DTSTART;TZID=UTC:20240107T083000
DTEND;TZID=UTC:20240127T170000
DTSTAMP:20260424T134710
CREATED:20240102T153622Z
LAST-MODIFIED:20240102T153622Z
UID:701-1704616200-1706374800@fairlawncog.org
SUMMARY:21 DAYS OF PRAYER AND FASTING
DESCRIPTION:On Sunday January 7th\, we will begin our 21 days of fasting and prayer.  Fasting is a spiritual discipline with deep Biblical roots.  It is an act of surrender and a way to express our hunger for a deeper relationship with God.  You may want to do a Daniel Fast (www.jentezenfranklin.org/danielfast) or fast however the Lord leads you at this time.  Please consider joining us for corporate prayer every Sunday at 8:30AM and Monday at 5PM.
URL:https://fairlawncog.org/event/21-days-of-prayer-and-fasting/
LOCATION:VA
ORGANIZER;CN="Pastor Marcus Harrison":MAILTO:office@fairlawncog.org
END:VEVENT
BEGIN:VEVENT
DTSTART;TZID=UTC:20240103T190000
DTEND;TZID=UTC:20240103T203000
DTSTAMP:20260424T134710
CREATED:20240102T151222Z
LAST-MODIFIED:20240102T151222Z
UID:699-1704308400-1704313800@fairlawncog.org
SUMMARY:WEDNESDAY NIGHT KID'S CLUBS
DESCRIPTION:On Wednesday\, January 3rd at 7PM\, our Wednesday night Kid’s Clubs will begin a NEW Series entitled\, “The Old Testament.”  They will talk about the big PLAN\, the big CHALLENGE\, the big BLESSING\, and the big PROMISE!  Don’t forget that we have ministry for the whole family on Wednesday nights.  You can bring your kids\, ages 3-12\, to Kid’s Clubs and your teens\, ages 13-19\, to our Rebranded Youth Ministry.  Adult Bible study takes place in the main Sanctuary.
URL:https://fairlawncog.org/event/wednesday-night-kids-clubs/
LOCATION:Fairlawn Church of God Fellowship Hall\, 7858 Peppers Ferry Blvd.\, Radford\, VA\, 24141\, United States
END:VEVENT
BEGIN:VEVENT
DTSTART;TZID=UTC:20240103T190000
DTEND;TZID=UTC:20240103T203000
DTSTAMP:20260424T134710
CREATED:20240102T150526Z
LAST-MODIFIED:20240102T150526Z
UID:690-1704308400-1704313800@fairlawncog.org
SUMMARY:EVANGELIST DANNY JOHNSTON
DESCRIPTION:On Wednesday\, January 3rd at 7PM\, we will be blessed to have Evangelist Danny Johnston with us to kick off the New Year!  Rev. Johnston is an anointed communicator of the Gospel and flows in a heavy prophetic anointing.  Make plans to be at this very first Service of the New Year.  We are believing God for great things!
URL:https://fairlawncog.org/event/evangelist-danny-johnston/
LOCATION:Fairlawn Church of God\, 7858 Peppers Ferry Blvd.\, Radford\, VA\, 24141\, United States
ORGANIZER;CN="Pastor Marcus Harrison":MAILTO:office@fairlawncog.org
END:VEVENT
BEGIN:VEVENT
DTSTART;TZID=UTC:20231126T160000
DTEND;TZID=UTC:20231126T170000
DTSTAMP:20260424T134710
CREATED:20231101T151930Z
LAST-MODIFIED:20231101T151930Z
UID:687-1701014400-1701018000@fairlawncog.org
SUMMARY:Nursing Home Ministry
DESCRIPTION:On Sunday November 26th at 4PM\, we’ll be going to Warm Hearth Village in Blacksburg for our monthly Nursing Home Ministry.  Rev. Brian Mann is leading this ministry and would love to have you as a part of his team.  To find out more about this ministry\, please see Rev. Mann today!  Remember\, when you’ve done it to the least of these\, you’ve done it to Him!
URL:https://fairlawncog.org/event/nursing-home-ministry-5/
LOCATION:Warm Hearth Village\, 2387 Warm Hearth Dr\, Blacksburg\, VA\, 24060\, United States
ORGANIZER;CN="Rev. Brian Mann":MAILTO:office@fairlawncog.org
END:VEVENT
BEGIN:VEVENT
DTSTART;TZID=UTC:20231126T110000
DTEND;TZID=UTC:20231126T140000
DTSTAMP:20260424T134710
CREATED:20231101T151700Z
LAST-MODIFIED:20231101T151700Z
UID:685-1700996400-1701007200@fairlawncog.org
SUMMARY:"Why is Hallelujah the Highest Praise"
DESCRIPTION:On Sunday November 26th at 11AM\, Pastor Marcus will be preaching a powerful Word entitled\, “Why is Hallelujah the Highest Praise.”  We’ve been given a command to praise the Lord!  The word Hallelujah gives us the WHAT and the WHO.  It comes from the Hebrew words “halal” and “Yah” which translates to mean “praise the Lord Jehovah” or “praise Yahweh!”  Don’t miss this anointed Word!
URL:https://fairlawncog.org/event/why-is-hallelujah-the-highest-praise/
LOCATION:Fairlawn Church of God\, 7858 Peppers Ferry Blvd.\, Radford\, VA\, 24141\, United States
ORGANIZER;CN="Pastor Marcus Harrison":MAILTO:office@fairlawncog.org
END:VEVENT
BEGIN:VEVENT
DTSTART;TZID=UTC:20231122T190000
DTEND;TZID=UTC:20231122T210000
DTSTAMP:20260424T134710
CREATED:20231101T151523Z
LAST-MODIFIED:20231101T151808Z
UID:683-1700679600-1700686800@fairlawncog.org
SUMMARY:No Wed. Night Service
DESCRIPTION:On Wednesday November 22nd\, we will be cancelling all of our mid-week Service activities due to the Thanksgiving holiday.  That means there will be no adult Bible Study\, Rebranded Youth Ministry\, or Kid’s Clubs that night.  We pray that you will use this extra time and spend it with family and friends as we give thanks to our Heavenly Father for all His bountiful blessings in our lives.
URL:https://fairlawncog.org/event/no-wed-night-service-3/
LOCATION:Fairlawn Church of God\, 7858 Peppers Ferry Blvd.\, Radford\, VA\, 24141\, United States
ORGANIZER;CN="Pastor Marcus Harrison":MAILTO:office@fairlawncog.org
END:VEVENT
BEGIN:VEVENT
DTSTART;TZID=UTC:20231121T183000
DTEND;TZID=UTC:20231121T203000
DTSTAMP:20260424T134710
CREATED:20231101T151401Z
LAST-MODIFIED:20231101T151401Z
UID:681-1700591400-1700598600@fairlawncog.org
SUMMARY:Senior Adult Ministry
DESCRIPTION:On Tuesday November 21st at 6:30PM\, our Tried and True Senior Adult Ministry will be having their monthly meeting in the Fellowship Hall.  All folks ages 50+ are invited to bring a dish for the potluck meal and join them for a time of good food\, fun\, and fellowship.  Please see Pastor Joey or Lisa Sheppard for more information on our Senior Adult Ministry.
URL:https://fairlawncog.org/event/senior-adult-ministry-4/
LOCATION:Fairlawn Church of God Fellowship Hall\, 7858 Peppers Ferry Blvd.\, Radford\, VA\, 24141\, United States
ORGANIZER;CN="Pastor Joey and Lisa Shepphard":MAILTO:office@fairlawncog.org
END:VEVENT
BEGIN:VEVENT
DTSTART;TZID=UTC:20231119T110000
DTEND;TZID=UTC:20231119T140000
DTSTAMP:20260424T134710
CREATED:20231101T151255Z
LAST-MODIFIED:20231101T151255Z
UID:679-1700391600-1700402400@fairlawncog.org
SUMMARY:Prison Ministry
DESCRIPTION:On Sunday November 19th at 11AM\, we will be introducing our annual Angel Tree Ministry where we purchase and deliver Christmas gifts to children of inmates.  This year\, we will be blessing 51 kids with gifts.  We will also be helping to bless the families of the officers at the New River Valley Regional Jail.  Please see Rev. Brian Mann for more information on our jail and prison ministry at FCOG.
URL:https://fairlawncog.org/event/prison-ministry/
LOCATION:Fairlawn Church of God\, 7858 Peppers Ferry Blvd.\, Radford\, VA\, 24141\, United States
ORGANIZER;CN="Rev. Brian Mann":MAILTO:office@fairlawncog.org
END:VEVENT
BEGIN:VEVENT
DTSTART;TZID=UTC:20231119T110000
DTEND;TZID=UTC:20231119T140000
DTSTAMP:20260424T134710
CREATED:20231101T151127Z
LAST-MODIFIED:20231101T151127Z
UID:677-1700391600-1700402400@fairlawncog.org
SUMMARY:Thanksgiving Service
DESCRIPTION:On Sunday November 19th at 11AM\, we will be having a special Thanksgiving Service.  We will enjoy anointed Worship from our Sanctuary Choir and then Pastor Marcus will be preaching a special message entitled\, “Is Your Thanks SPIRITUAL or SUPERFICIAL?”  We want to take this time to wish you and yours a very Happy Thanksgiving and a very blessed Holiday Season!
URL:https://fairlawncog.org/event/thanksgiving-service/
LOCATION:Fairlawn Church of God\, 7858 Peppers Ferry Blvd.\, Radford\, VA\, 24141\, United States
ORGANIZER;CN="Pastor Marcus Harrison":MAILTO:office@fairlawncog.org
END:VEVENT
BEGIN:VEVENT
DTSTART;TZID=UTC:20231114T183000
DTEND;TZID=UTC:20231114T203000
DTSTAMP:20260424T134710
CREATED:20231101T151024Z
LAST-MODIFIED:20231101T151024Z
UID:675-1699986600-1699993800@fairlawncog.org
SUMMARY:Ladies Ministry
DESCRIPTION:On Tuesday November 14th at 6:30PM\, our Ladies Ministry will be having their monthly meeting in the Fellowship Hall.  They will enjoy food and fellowship\, and will have their monthly ministry meeting.  If you are interested in learning more about this ministry\, please see Pastor Joni today.  All ladies are invited to attend.
URL:https://fairlawncog.org/event/ladies-ministry-3/
LOCATION:Fairlawn Church of God Fellowship Hall\, 7858 Peppers Ferry Blvd.\, Radford\, VA\, 24141\, United States
END:VEVENT
BEGIN:VEVENT
DTSTART;TZID=UTC:20231112T180000
DTEND;TZID=UTC:20231112T203000
DTSTAMP:20260424T134711
CREATED:20231101T150911Z
LAST-MODIFIED:20231101T150911Z
UID:672-1699812000-1699821000@fairlawncog.org
SUMMARY:YOUNG ADULT MINISTRY
DESCRIPTION:On Sunday November 12th at 6PM\, our Young Adult Ministry will be hosting their “Exceed Service” in the Youth Sanctuary\, located in the downstairs area of the Fellowship Hall.  They will have Worship\, followed by the Word\, and a time of prayer.  All young adults are invited to join them for a time of fellowship and worship!
URL:https://fairlawncog.org/event/young-adult-ministry-3/
LOCATION:Fairlawn Church of God Fellowship Hall\, 7858 Peppers Ferry Blvd.\, Radford\, VA\, 24141\, United States
ORGANIZER;CN="Rev. Justin Coleman":MAILTO:office@fairlawncog.org
END:VEVENT
BEGIN:VEVENT
DTSTART;TZID=UTC:20231112T110000
DTEND;TZID=UTC:20231112T140000
DTSTAMP:20260424T134711
CREATED:20231101T150731Z
LAST-MODIFIED:20231101T150731Z
UID:670-1699786800-1699797600@fairlawncog.org
SUMMARY:Charitable Hope Coat Drive
DESCRIPTION:On Sunday November 12th\, we will be collecting items for Hope Charitable Ministry.  They are in need of new or gently used coats and/or blankets for the homeless.  They are also collecting non-perishable food items and new unwrapped toys for children (suggested football or doll).  Please bring any donations no later than Sunday\, November 12th as they will be picking them up the following week.
URL:https://fairlawncog.org/event/charitable-hope-coat-drive/
LOCATION:Fairlawn Church of God\, 7858 Peppers Ferry Blvd.\, Radford\, VA\, 24141\, United States
ORGANIZER;CN="Pastor Marcus Harrison":MAILTO:office@fairlawncog.org
END:VEVENT
BEGIN:VEVENT
DTSTART;TZID=UTC:20231112T110000
DTEND;TZID=UTC:20231112T140000
DTSTAMP:20260424T134711
CREATED:20231101T150516Z
LAST-MODIFIED:20231101T150516Z
UID:668-1699786800-1699797600@fairlawncog.org
SUMMARY:Veteran's Day Program
DESCRIPTION:On Sunday November 12th at 11AM\, we will be honoring all of our Veterans with a special Veteran’s Day Program.  If you are new to our church and are a veteran\, we need a picture of you in uniform (if possible) and some brief information about your time in service (please include dates of service\, areas of deployment\, current rank\, and any medals or achievements).  After the program\, Pastor Marcus will be preaching a special message entitled\, “For God and Country.”
URL:https://fairlawncog.org/event/veterans-day-program/
LOCATION:Fairlawn Church of God\, 7858 Peppers Ferry Blvd.\, Radford\, VA\, 24141\, United States
ORGANIZER;CN="Pastor Marcus Harrison":MAILTO:office@fairlawncog.org
END:VEVENT
BEGIN:VEVENT
DTSTART;TZID=UTC:20231110T180000
DTEND;TZID=UTC:20231110T203000
DTSTAMP:20260424T134711
CREATED:20231101T150327Z
LAST-MODIFIED:20231101T150327Z
UID:666-1699639200-1699648200@fairlawncog.org
SUMMARY:Family Paint Night
DESCRIPTION:On Friday\, November 10th from 6:00PM – 8:30PM\, we will be hosting a Family Paint Night!  Tamia Dallas with Painting in the Spirit will be our special instructor for the night.  The cost will be $10 for ages 5-12 and $15 for ages 13 and above.  The cost will include all materials needed for the painting\, as well as a soup dinner.  Please pre-register online at paintinginthespirit.com/events no later than Tuesday\, November 7th.
URL:https://fairlawncog.org/event/family-paint-night/
LOCATION:Fairlawn Church of God\, 7858 Peppers Ferry Blvd.\, Radford\, VA\, 24141\, United States
ORGANIZER;CN="Pastor Adam and Amy Gifford":MAILTO:office@fairlawncog.org
END:VEVENT
BEGIN:VEVENT
DTSTART;TZID=UTC:20231031T050000
DTEND;TZID=UTC:20231031T203000
DTSTAMP:20260424T134711
CREATED:20231011T155740Z
LAST-MODIFIED:20231011T155740Z
UID:664-1698728400-1698784200@fairlawncog.org
SUMMARY:KID'S FALL FESTIVAL
DESCRIPTION:On Tuesday October 31st at 5PM\, we will be hosting our annual Kid’s Fall Festival!  This year\, the theme will be “BIRDS and BALLOONS!”  A meal will be served at 5PM with the show following at 6PM that will feature 91 Feathers (BIRDS) and Balloon Dude Travis (BALLOONS).  After the show\, kids will be able to enjoy up-close interaction with the birds and have Balloon Dude Travis make them a balloon animal.  There will be game stations with prizes and the Trunk-or-Treat will close out the night.  If you can help volunteer\, there is a sign-up sheet at the Welcome Center.
URL:https://fairlawncog.org/event/kids-fall-festival/
LOCATION:Fairlawn Church of God\, 7858 Peppers Ferry Blvd.\, Radford\, VA\, 24141\, United States
ORGANIZER;CN="Pastor Adam and Amy Gifford":MAILTO:office@fairlawncog.org
END:VEVENT
BEGIN:VEVENT
DTSTART;TZID=UTC:20231029T180000
DTEND;TZID=UTC:20231029T203000
DTSTAMP:20260424T134711
CREATED:20231011T155619Z
LAST-MODIFIED:20231011T155619Z
UID:662-1698602400-1698611400@fairlawncog.org
SUMMARY:EMPOWERMENT SERVICE
DESCRIPTION:On Sunday October 29th at 6PM\, we’ll be having our monthly Empowerment Service.  Our special guest minister will be Pastor Steve Thomas.  Pastor Steve has been preaching for 35 years and served as Pastor at Bent Moutain\, Hill Top\, and Sunnyside Pentecostal Holiness Church during that time.  He and his wife\, Donna\, have been attending our church since the beginning of the year\, and we are blessed to have them!  Make plans to come out and hear the Word!
URL:https://fairlawncog.org/event/empowerment-service-4/
LOCATION:Fairlawn Church of God\, 7858 Peppers Ferry Blvd.\, Radford\, VA\, 24141\, United States
ORGANIZER;CN="Pastor Marcus Harrison":MAILTO:office@fairlawncog.org
END:VEVENT
BEGIN:VEVENT
DTSTART;TZID=UTC:20231029T110000
DTEND;TZID=UTC:20231029T140000
DTSTAMP:20260424T134711
CREATED:20231011T155513Z
LAST-MODIFIED:20231011T155513Z
UID:660-1698577200-1698588000@fairlawncog.org
SUMMARY:MISSION SUNDAY
DESCRIPTION:On Sunday October 29th at 11AM\, we will be hosting our 5th Sunday Mission Sunday with Thomas Gillum\, a Church of God World Missions Representative from Cleveland\, TN.  He will be talking to the church about the great impact the COG is making around the world with missions.  He will also be presenting a very special missions need to the church\, and we will receive a special offering to help with this project.  Please pray about what you can give to this mission.
URL:https://fairlawncog.org/event/mission-sunday/
LOCATION:Fairlawn Church of God\, 7858 Peppers Ferry Blvd.\, Radford\, VA\, 24141\, United States
ORGANIZER;CN="Pastor Marcus Harrison":MAILTO:office@fairlawncog.org
END:VEVENT
BEGIN:VEVENT
DTSTART;TZID=UTC:20231029T110000
DTEND;TZID=UTC:20231029T140000
DTSTAMP:20260424T134711
CREATED:20231011T154506Z
LAST-MODIFIED:20231011T154506Z
UID:648-1698577200-1698588000@fairlawncog.org
SUMMARY:KID'S CHURCH SERIES
DESCRIPTION:On Sunday October 8th at 11AM\, our Kid’s Church will start a NEW Series from The Gospel Project entitled\, “Jesus\, the Anointed One.”  During this Series\, the kids will learn how Mary anointed Jesus for burial\, how Jesus drove out the people who were misusing the Temple\, how Jesus and the disciples ate the Lord’s Supper\, and how Jesus was betrayed and arrested.  All kids\, ages 12 and under\, are encouraged to join them every Sunday at 11AM in the Fellowship Hall.
URL:https://fairlawncog.org/event/kids-church-series-3/
LOCATION:Fairlawn Church of God\, 7858 Peppers Ferry Blvd.\, Radford\, VA\, 24141\, United States
ORGANIZER;CN="Pastor Adam and Amy Gifford":MAILTO:office@fairlawncog.org
END:VEVENT
BEGIN:VEVENT
DTSTART;TZID=UTC:20231025T190000
DTEND;TZID=UTC:20231025T203000
DTSTAMP:20260424T134711
CREATED:20231011T154105Z
LAST-MODIFIED:20231011T154105Z
UID:642-1698260400-1698265800@fairlawncog.org
SUMMARY:WEDNESDAY NIGHT SERIES
DESCRIPTION:  \n \nOn Wednesday October 4th at 7PM\, Pastor Joni will begin a BRAND NEW Bible Study entitled\, “BLESSED in the MESS.”  Based on the newly released book by Joyce Meyer\, we will learn how to experience God’s goodness in the midst of life’s pain.  When you’re tired from the struggle and feeling defeated\, you have to remember that God is still with you!  He wants you to discover His kindness\, His strength\, and His blessings in the middle of life’s difficulties.  Join us every Wednesday in October for this relevant new Series!
URL:https://fairlawncog.org/event/wednesday-night-series-10/
LOCATION:Fairlawn Church of God\, 7858 Peppers Ferry Blvd.\, Radford\, VA\, 24141\, United States
END:VEVENT
BEGIN:VEVENT
DTSTART;TZID=UTC:20231022T160000
DTEND;TZID=UTC:20231022T170000
DTSTAMP:20260424T134711
CREATED:20231011T155338Z
LAST-MODIFIED:20231011T155338Z
UID:658-1697990400-1697994000@fairlawncog.org
SUMMARY:NURSING HOME MINISTRY
DESCRIPTION:On Sunday October 22nd at 4PM\, we’ll be going to Warm Hearth Village in Blacksburg for our monthly Nursing Home Ministry.  Rev. Brian Mann is leading this ministry and would love to have you as a part of his team.  To find out more about this ministry\, please see Rev. Mann today!  Remember\, when you’ve done it to the least of these\, you’ve done it to Him!
URL:https://fairlawncog.org/event/nursing-home-ministry-4/
LOCATION:Warm Hearth Village\, 2387 Warm Hearth Dr\, Blacksburg\, VA\, 24060\, United States
ORGANIZER;CN="Rev. Brian Mann":MAILTO:office@fairlawncog.org
END:VEVENT
BEGIN:VEVENT
DTSTART;TZID=UTC:20231022T110000
DTEND;TZID=UTC:20231022T140000
DTSTAMP:20260424T134711
CREATED:20231011T155221Z
LAST-MODIFIED:20231011T155221Z
UID:656-1697972400-1697983200@fairlawncog.org
SUMMARY:KID'S CHURCH COMMUNION
DESCRIPTION:  \n \nOn Sunday October 22nd at 11AM\, our Kid’s Church will be having a special Service where they will receive Believer’s Communion together.  We would like for all parents to please talk with your kids about salvation and determine whether you feel they are ready to participate.  Each child will need to be signed up by an adult.  There will be an alternative activity for those who are not ready for communion.
URL:https://fairlawncog.org/event/kids-church-communion/
LOCATION:Fairlawn Church of God\, 7858 Peppers Ferry Blvd.\, Radford\, VA\, 24141\, United States
ORGANIZER;CN="Pastor Adam and Amy Gifford":MAILTO:office@fairlawncog.org
END:VEVENT
BEGIN:VEVENT
DTSTART;TZID=UTC:20231022T110000
DTEND;TZID=UTC:20231022T140000
DTSTAMP:20260424T134711
CREATED:20231011T155015Z
LAST-MODIFIED:20231011T155015Z
UID:654-1697972400-1697983200@fairlawncog.org
SUMMARY:SERMON SERIES
DESCRIPTION:On Sunday October 15th at 11AM\, Pastor Marcus will continue in the Sermon Series entitled\, “The Life and Ministry of GIDEON.”   We’re going to be looking at this powerful story from the book of Judges and discovering how God chose an ordinary man and gave him an extraordinary calling.  He used Gideon to deliver His people in a miraculous way and He can do the same with you!  What is impossible with man is still possible with God.  Don’t miss this NEW Series!
URL:https://fairlawncog.org/event/sermon-series-2/
LOCATION:Fairlawn Church of God\, 7858 Peppers Ferry Blvd.\, Radford\, VA\, 24141\, United States
ORGANIZER;CN="Pastor Marcus Harrison":MAILTO:office@fairlawncog.org
END:VEVENT
BEGIN:VEVENT
DTSTART;TZID=UTC:20231022T110000
DTEND;TZID=UTC:20231022T140000
DTSTAMP:20260424T134711
CREATED:20231011T154400Z
LAST-MODIFIED:20231011T154400Z
UID:646-1697972400-1697983200@fairlawncog.org
SUMMARY:KID'S CHURCH SERIES
DESCRIPTION:On Sunday October 8th at 11AM\, our Kid’s Church will start a NEW Series from The Gospel Project entitled\, “Jesus\, the Anointed One.”  During this Series\, the kids will learn how Mary anointed Jesus for burial\, how Jesus drove out the people who were misusing the Temple\, how Jesus and the disciples ate the Lord’s Supper\, and how Jesus was betrayed and arrested.  All kids\, ages 12 and under\, are encouraged to join them every Sunday at 11AM in the Fellowship Hall.
URL:https://fairlawncog.org/event/kids-church-series-2/
LOCATION:Fairlawn Church of God\, 7858 Peppers Ferry Blvd.\, Radford\, VA\, 24141\, United States
ORGANIZER;CN="Pastor Adam and Amy Gifford":MAILTO:office@fairlawncog.org
END:VEVENT
BEGIN:VEVENT
DTSTART;TZID=UTC:20231018T190000
DTEND;TZID=UTC:20231018T203000
DTSTAMP:20260424T134711
CREATED:20231011T153945Z
LAST-MODIFIED:20231011T153945Z
UID:640-1697655600-1697661000@fairlawncog.org
SUMMARY:WEDNESDAY NIGHT SERIES
DESCRIPTION:On Wednesday October 4th at 7PM\, Pastor Joni will begin a BRAND NEW Bible Study entitled\, “BLESSED in the MESS.”  Based on the newly released book by Joyce Meyer\, we will learn how to experience God’s goodness in the midst of life’s pain.  When you’re tired from the struggle and feeling defeated\, you have to remember that God is still with you!  He wants you to discover His kindness\, His strength\, and His blessings in the middle of life’s difficulties.  Join us every Wednesday in October for this relevant new Series!
URL:https://fairlawncog.org/event/wednesday-night-series-9/
LOCATION:Fairlawn Church of God\, 7858 Peppers Ferry Blvd.\, Radford\, VA\, 24141\, United States
END:VEVENT
END:VCALENDAR