BEGIN:VCALENDAR
VERSION:2.0
PRODID:-//Fairlawn Church of God - ECPv6.15.20//NONSGML v1.0//EN
CALSCALE:GREGORIAN
METHOD:PUBLISH
X-ORIGINAL-URL:https://fairlawncog.org
X-WR-CALDESC:Events for Fairlawn Church of God
REFRESH-INTERVAL;VALUE=DURATION:PT1H
X-Robots-Tag:noindex
X-PUBLISHED-TTL:PT1H
BEGIN:VTIMEZONE
TZID:UTC
BEGIN:STANDARD
TZOFFSETFROM:+0000
TZOFFSETTO:+0000
TZNAME:UTC
DTSTART:20230101T000000
END:STANDARD
END:VTIMEZONE
BEGIN:VEVENT
DTSTART;TZID=UTC:20240414T183000
DTEND;TZID=UTC:20240417T203000
DTSTAMP:20260422T083036
CREATED:20240327T143033Z
LAST-MODIFIED:20240327T143033Z
UID:838-1713119400-1713385800@fairlawncog.org
SUMMARY:KIDZ TURN
DESCRIPTION:
URL:https://fairlawncog.org/event/kidz-turn/
LOCATION:Dublin Church of God\, 632 E Main St\, Dublin\, VA 24084\, Dublin\, VA\, 24084\, United States
ORGANIZER;CN="Pastor Adam and Amy Gifford":MAILTO:office@fairlawncog.org
END:VEVENT
BEGIN:VEVENT
DTSTART;TZID=UTC:20240414T180000
DTEND;TZID=UTC:20240414T203000
DTSTAMP:20260422T083036
CREATED:20240403T174229Z
LAST-MODIFIED:20240403T174644Z
UID:881-1713117600-1713126600@fairlawncog.org
SUMMARY:EXCEED SERVICE
DESCRIPTION:
URL:https://fairlawncog.org/event/exceed-service/
LOCATION:Fairlawn Church of God Fellowship Hall\, 7858 Peppers Ferry Blvd.\, Radford\, VA\, 24141\, United States
ORGANIZER;CN="Rev. Justin Coleman":MAILTO:office@fairlawncog.org
END:VEVENT
BEGIN:VEVENT
DTSTART;TZID=UTC:20240414T110000
DTEND;TZID=UTC:20240414T140000
DTSTAMP:20260422T083036
CREATED:20240403T173556Z
LAST-MODIFIED:20240403T173556Z
UID:861-1713092400-1713103200@fairlawncog.org
SUMMARY:NEW SUNDAY SERMON SERIES
DESCRIPTION:
URL:https://fairlawncog.org/event/new-sunday-sermon-series-2/
LOCATION:Fairlawn Church of God\, 7858 Peppers Ferry Blvd.\, Radford\, VA\, 24141\, United States
ORGANIZER;CN="Pastor Marcus Harrison":MAILTO:office@fairlawncog.org
END:VEVENT
BEGIN:VEVENT
DTSTART;TZID=UTC:20240413T160000
DTEND;TZID=UTC:20240413T180000
DTSTAMP:20260422T083036
CREATED:20240403T174137Z
LAST-MODIFIED:20240403T174137Z
UID:878-1713024000-1713031200@fairlawncog.org
SUMMARY:Roanoke Rescue Mission
DESCRIPTION:
URL:https://fairlawncog.org/event/roanoke-rescue-mission/
LOCATION:VA
END:VEVENT
BEGIN:VEVENT
DTSTART;TZID=UTC:20240413T080000
DTEND;TZID=UTC:20240413T130000
DTSTAMP:20260422T083036
CREATED:20240403T174012Z
LAST-MODIFIED:20240403T174012Z
UID:874-1712995200-1713013200@fairlawncog.org
SUMMARY:MEN'S MINISTRY BREAKFAST
DESCRIPTION:
URL:https://fairlawncog.org/event/mens-ministry-breakfast/
LOCATION:Fairlawn Church of God Fellowship Hall\, 7858 Peppers Ferry Blvd.\, Radford\, VA\, 24141\, United States
END:VEVENT
BEGIN:VEVENT
DTSTART;TZID=UTC:20240410T190000
DTEND;TZID=UTC:20240410T203000
DTSTAMP:20260422T083036
CREATED:20240403T173107Z
LAST-MODIFIED:20240403T173107Z
UID:852-1712775600-1712781000@fairlawncog.org
SUMMARY:WED. NIGHT SERVICE SERIES
DESCRIPTION:
URL:https://fairlawncog.org/event/wed-night-service-series-2/
LOCATION:Fairlawn Church of God\, 7858 Peppers Ferry Blvd.\, Radford\, VA\, 24141\, United States
END:VEVENT
BEGIN:VEVENT
DTSTART;TZID=UTC:20240409T183000
DTEND;TZID=UTC:20240409T203000
DTSTAMP:20260422T083036
CREATED:20240403T173911Z
LAST-MODIFIED:20240403T173911Z
UID:871-1712687400-1712694600@fairlawncog.org
SUMMARY:LADIES MINISTRY MEETING
DESCRIPTION:
URL:https://fairlawncog.org/event/ladies-ministry-meeting/
LOCATION:Fairlawn Church of God Fellowship Hall\, 7858 Peppers Ferry Blvd.\, Radford\, VA\, 24141\, United States
END:VEVENT
BEGIN:VEVENT
DTSTART;TZID=UTC:20240407T110000
DTEND;TZID=UTC:20240407T130000
DTSTAMP:20260422T083036
CREATED:20240403T173514Z
LAST-MODIFIED:20240403T173514Z
UID:860-1712487600-1712494800@fairlawncog.org
SUMMARY:NEW SUNDAY SERMON SERIES
DESCRIPTION:
URL:https://fairlawncog.org/event/new-sunday-sermon-series/
LOCATION:Fairlawn Church of God\, 7858 Peppers Ferry Blvd.\, Radford\, VA\, 24141\, United States
ORGANIZER;CN="Pastor Marcus Harrison":MAILTO:office@fairlawncog.org
END:VEVENT
BEGIN:VEVENT
DTSTART;TZID=UTC:20240406T080000
DTEND;TZID=UTC:20240406T130000
DTSTAMP:20260422T083036
CREATED:20240403T173813Z
LAST-MODIFIED:20240403T173813Z
UID:867-1712390400-1712408400@fairlawncog.org
SUMMARY:LADIES MINISTRY YARD SALE!!!
DESCRIPTION:
URL:https://fairlawncog.org/event/ladies-ministry-yard-sale-2/
LOCATION:Fairlawn Church of God\, 7858 Peppers Ferry Blvd.\, Radford\, VA\, 24141\, United States
END:VEVENT
BEGIN:VEVENT
DTSTART;TZID=UTC:20240403T190000
DTEND;TZID=UTC:20240403T203000
DTSTAMP:20260422T083036
CREATED:20240403T173014Z
LAST-MODIFIED:20240403T173014Z
UID:851-1712170800-1712176200@fairlawncog.org
SUMMARY:WED. NIGHT SERVICE SERIES
DESCRIPTION:
URL:https://fairlawncog.org/event/wed-night-service-series/
LOCATION:Fairlawn Church of God\, 7858 Peppers Ferry Blvd.\, Radford\, VA\, 24141\, United States
END:VEVENT
BEGIN:VEVENT
DTSTART;VALUE=DATE:20240401
DTEND;VALUE=DATE:20240402
DTSTAMP:20260422T083036
CREATED:20240321T144421Z
LAST-MODIFIED:20240321T144421Z
UID:814-1711929600-1712015999@fairlawncog.org
SUMMARY:Drama Clean Up
DESCRIPTION:
URL:https://fairlawncog.org/event/drama-clean-up/
LOCATION:Fairlawn Church of God\, 7858 Peppers Ferry Blvd.\, Radford\, VA\, 24141\, United States
ORGANIZER;CN="Pastor Marcus Harrison":MAILTO:office@fairlawncog.org
END:VEVENT
BEGIN:VEVENT
DTSTART;TZID=UTC:20240331T110000
DTEND;TZID=UTC:20240331T130000
DTSTAMP:20260422T083036
CREATED:20240321T141345Z
LAST-MODIFIED:20240321T141345Z
UID:779-1711882800-1711890000@fairlawncog.org
SUMMARY:SUNDAY KID'S CHURCH
DESCRIPTION:
URL:https://fairlawncog.org/event/sunday-kids-church-6/
LOCATION:Fairlawn Church of God Fellowship Hall\, 7858 Peppers Ferry Blvd.\, Radford\, VA\, 24141\, United States
ORGANIZER;CN="Pastor Adam and Amy Gifford":MAILTO:office@fairlawncog.org
END:VEVENT
BEGIN:VEVENT
DTSTART;TZID=UTC:20240328T190000
DTEND;TZID=UTC:20240331T210000
DTSTAMP:20260422T083036
CREATED:20240321T142709Z
LAST-MODIFIED:20240321T142709Z
UID:811-1711652400-1711918800@fairlawncog.org
SUMMARY:Easter Drama
DESCRIPTION:
URL:https://fairlawncog.org/event/easter-drama-4/
LOCATION:Fairlawn Church of God\, 7858 Peppers Ferry Blvd.\, Radford\, VA\, 24141\, United States
ORGANIZER;CN="Pastor Marcus Harrison":MAILTO:office@fairlawncog.org
END:VEVENT
BEGIN:VEVENT
DTSTART;TZID=UTC:20240324T160000
DTEND;TZID=UTC:20240324T170000
DTSTAMP:20260422T083036
CREATED:20240321T142537Z
LAST-MODIFIED:20240321T142537Z
UID:807-1711296000-1711299600@fairlawncog.org
SUMMARY:Nursing Home Ministry
DESCRIPTION:
URL:https://fairlawncog.org/event/nursing-home-ministry-7/
LOCATION:Warm Hearth Village\, 2387 Warm Hearth Dr\, Blacksburg\, VA\, 24060\, United States
ORGANIZER;CN="Rev. Brian Mann":MAILTO:office@fairlawncog.org
END:VEVENT
BEGIN:VEVENT
DTSTART;TZID=UTC:20240324T110000
DTEND;TZID=UTC:20240324T130000
DTSTAMP:20260422T083036
CREATED:20240321T142432Z
LAST-MODIFIED:20240321T142432Z
UID:800-1711278000-1711285200@fairlawncog.org
SUMMARY:Chosen in Concert!
DESCRIPTION:
URL:https://fairlawncog.org/event/chosen-in-concert/
LOCATION:Fairlawn Church of God\, 7858 Peppers Ferry Blvd.\, Radford\, VA\, 24141\, United States
ORGANIZER;CN="Pastor Marcus Harrison":MAILTO:office@fairlawncog.org
END:VEVENT
BEGIN:VEVENT
DTSTART;TZID=UTC:20240324T110000
DTEND;TZID=UTC:20240324T130000
DTSTAMP:20260422T083036
CREATED:20240321T141252Z
LAST-MODIFIED:20240321T141252Z
UID:777-1711278000-1711285200@fairlawncog.org
SUMMARY:SUNDAY KID'S CHURCH
DESCRIPTION:
URL:https://fairlawncog.org/event/sunday-kids-church-5/
LOCATION:Fairlawn Church of God Fellowship Hall\, 7858 Peppers Ferry Blvd.\, Radford\, VA\, 24141\, United States
ORGANIZER;CN="Pastor Adam and Amy Gifford":MAILTO:office@fairlawncog.org
END:VEVENT
BEGIN:VEVENT
DTSTART;TZID=UTC:20240323T110000
DTEND;TZID=UTC:20240323T133000
DTSTAMP:20260422T083036
CREATED:20240321T142338Z
LAST-MODIFIED:20240321T142338Z
UID:802-1711191600-1711200600@fairlawncog.org
SUMMARY:EASTER EGG HUNT
DESCRIPTION:
URL:https://fairlawncog.org/event/easter-egg-hunt/
LOCATION:Fairlawn Church of God\, 7858 Peppers Ferry Blvd.\, Radford\, VA\, 24141\, United States
ORGANIZER;CN="Pastor Adam and Amy Gifford":MAILTO:office@fairlawncog.org
END:VEVENT
BEGIN:VEVENT
DTSTART;TZID=UTC:20240318T183000
DTEND;TZID=UTC:20240320T203000
DTSTAMP:20260422T083036
CREATED:20240321T141741Z
LAST-MODIFIED:20240321T141847Z
UID:787-1710786600-1710966600@fairlawncog.org
SUMMARY:EASTER DRAMA Practice
DESCRIPTION:
URL:https://fairlawncog.org/event/easter-drama-3/
LOCATION:Fairlawn Church of God\, 7858 Peppers Ferry Blvd.\, Radford\, VA\, 24141\, United States
ORGANIZER;CN="Pastor Marcus Harrison":MAILTO:office@fairlawncog.org
END:VEVENT
BEGIN:VEVENT
DTSTART;TZID=UTC:20240318T170000
DTEND;TZID=UTC:20240318T193000
DTSTAMP:20260422T083036
CREATED:20240321T142102Z
LAST-MODIFIED:20240321T142102Z
UID:794-1710781200-1710790200@fairlawncog.org
SUMMARY:JAIL AND PRISON MINISTRY
DESCRIPTION:
URL:https://fairlawncog.org/event/jail-and-prison-ministry-3/
LOCATION:VA
ORGANIZER;CN="Rev. Brian Mann":MAILTO:office@fairlawncog.org
END:VEVENT
BEGIN:VEVENT
DTSTART;TZID=UTC:20240317T110000
DTEND;TZID=UTC:20240317T130000
DTSTAMP:20260422T083036
CREATED:20240321T141202Z
LAST-MODIFIED:20240321T141202Z
UID:775-1710673200-1710680400@fairlawncog.org
SUMMARY:SUNDAY KID'S CHURCH
DESCRIPTION:
URL:https://fairlawncog.org/event/sunday-kids-church-4/
LOCATION:Fairlawn Church of God Fellowship Hall\, 7858 Peppers Ferry Blvd.\, Radford\, VA\, 24141\, United States
ORGANIZER;CN="Pastor Adam and Amy Gifford":MAILTO:office@fairlawncog.org
END:VEVENT
BEGIN:VEVENT
DTSTART;TZID=UTC:20240311T183000
DTEND;TZID=UTC:20240313T203000
DTSTAMP:20260422T083036
CREATED:20240321T141628Z
LAST-MODIFIED:20240321T141835Z
UID:785-1710181800-1710361800@fairlawncog.org
SUMMARY:EASTER DRAMA Practice
DESCRIPTION:
URL:https://fairlawncog.org/event/easter-drama-2/
LOCATION:Fairlawn Church of God\, 7858 Peppers Ferry Blvd.\, Radford\, VA\, 24141\, United States
ORGANIZER;CN="Pastor Marcus Harrison":MAILTO:office@fairlawncog.org
END:VEVENT
BEGIN:VEVENT
DTSTART;TZID=UTC:20240310T110000
DTEND;TZID=UTC:20240310T130000
DTSTAMP:20260422T083036
CREATED:20240321T141122Z
LAST-MODIFIED:20240321T141122Z
UID:773-1710068400-1710075600@fairlawncog.org
SUMMARY:SUNDAY KID'S CHURCH
DESCRIPTION:
URL:https://fairlawncog.org/event/sunday-kids-church-3/
LOCATION:Fairlawn Church of God Fellowship Hall\, 7858 Peppers Ferry Blvd.\, Radford\, VA\, 24141\, United States
ORGANIZER;CN="Pastor Adam and Amy Gifford":MAILTO:office@fairlawncog.org
END:VEVENT
BEGIN:VEVENT
DTSTART;VALUE=DATE:20240309
DTEND;VALUE=DATE:20240310
DTSTAMP:20260422T083036
CREATED:20240321T142228Z
LAST-MODIFIED:20240321T142228Z
UID:798-1709942400-1710028799@fairlawncog.org
SUMMARY:DRAMA DECORATING DAY
DESCRIPTION:
URL:https://fairlawncog.org/event/drama-decorating-day/
LOCATION:Fairlawn Church of God\, 7858 Peppers Ferry Blvd.\, Radford\, VA\, 24141\, United States
ORGANIZER;CN="Pastor Marcus Harrison":MAILTO:office@fairlawncog.org
END:VEVENT
BEGIN:VEVENT
DTSTART;TZID=UTC:20240304T170000
DTEND;TZID=UTC:20240304T193000
DTSTAMP:20260422T083036
CREATED:20240321T142026Z
LAST-MODIFIED:20240321T142026Z
UID:792-1709571600-1709580600@fairlawncog.org
SUMMARY:JAIL AND PRISON MINISTRY
DESCRIPTION:
URL:https://fairlawncog.org/event/jail-and-prison-ministry-2/
LOCATION:VA
ORGANIZER;CN="Rev. Brian Mann":MAILTO:office@fairlawncog.org
END:VEVENT
BEGIN:VEVENT
DTSTART;TZID=UTC:20240304T063000
DTEND;TZID=UTC:20240306T203000
DTSTAMP:20260422T083036
CREATED:20240321T141524Z
LAST-MODIFIED:20240321T141819Z
UID:781-1709533800-1709757000@fairlawncog.org
SUMMARY:EASTER DRAMA Practice
DESCRIPTION:
URL:https://fairlawncog.org/event/easter-drama/
LOCATION:Fairlawn Church of God\, 7858 Peppers Ferry Blvd.\, Radford\, VA\, 24141\, United States
ORGANIZER;CN="Pastor Marcus Harrison":MAILTO:office@fairlawncog.org
END:VEVENT
BEGIN:VEVENT
DTSTART;TZID=UTC:20240303T110000
DTEND;TZID=UTC:20240303T130000
DTSTAMP:20260422T083036
CREATED:20240321T140804Z
LAST-MODIFIED:20240321T140851Z
UID:770-1709463600-1709470800@fairlawncog.org
SUMMARY:SUNDAY KID'S CHURCH
DESCRIPTION:
URL:https://fairlawncog.org/event/sunday-kids-church-2/
LOCATION:Fairlawn Church of God Fellowship Hall\, 7858 Peppers Ferry Blvd.\, Radford\, VA\, 24141\, United States
ORGANIZER;CN="Pastor Adam and Amy Gifford":MAILTO:office@fairlawncog.org
END:VEVENT
BEGIN:VEVENT
DTSTART;TZID=UTC:20240303T110000
DTEND;TZID=UTC:20240303T130000
DTSTAMP:20260422T083036
CREATED:20240321T140528Z
LAST-MODIFIED:20240321T140528Z
UID:767-1709463600-1709470800@fairlawncog.org
SUMMARY:SERMON SERIES
DESCRIPTION:
URL:https://fairlawncog.org/event/sermon-series-3/
LOCATION:Fairlawn Church of God\, 7858 Peppers Ferry Blvd.\, Radford\, VA\, 24141\, United States
ORGANIZER;CN="Pastor Marcus Harrison":MAILTO:office@fairlawncog.org
END:VEVENT
BEGIN:VEVENT
DTSTART;TZID=UTC:20240131T190000
DTEND;TZID=UTC:20240131T203000
DTSTAMP:20260422T083036
CREATED:20240102T162212Z
LAST-MODIFIED:20240102T162212Z
UID:725-1706727600-1706733000@fairlawncog.org
SUMMARY:Wed. Night Bible Study – “REBRANDED” Youth – and Kids Club
DESCRIPTION:Psalm 119:105 \n\n\n105 Your word is a lamp to my feet and a light to my path.\n\n\n\nJoin us here at the Fairlawn Church of God for Wed Night Bible Study for all ages.  Worship begins at 7pm.
URL:https://fairlawncog.org/event/wed-night-bible-study-rebranded-youth-and-kids-club-4/
LOCATION:Fairlawn Church of God\, 7858 Peppers Ferry Blvd.\, Radford\, VA\, 24141\, United States
END:VEVENT
BEGIN:VEVENT
DTSTART;TZID=UTC:20240128T180000
DTEND;TZID=UTC:20240128T203000
DTSTAMP:20260422T083036
CREATED:20240102T154735Z
LAST-MODIFIED:20240102T154735Z
UID:717-1706464800-1706473800@fairlawncog.org
SUMMARY:EMPOWERMENT SERVICE
DESCRIPTION:On Sunday January 28th at 6PM\, we will be having our monthly Empowerment Service!  Our guest speaker will be Evangelist Matt Brown.  Rev. Brown has preached here at FCOG many years ago.  He always has a Rhema Word for the church and we are excited about the Word he has for us now.  Don’t miss this anointed Service!  It’s going to be a GREAT DAY!
URL:https://fairlawncog.org/event/empowerment-service-5/
LOCATION:Fairlawn Church of God\, 7858 Peppers Ferry Blvd.\, Radford\, VA\, 24141\, United States
ORGANIZER;CN="Pastor Marcus Harrison":MAILTO:office@fairlawncog.org
END:VEVENT
BEGIN:VEVENT
DTSTART;TZID=UTC:20240128T163000
DTEND;TZID=UTC:20240128T180000
DTSTAMP:20260422T083036
CREATED:20240102T154641Z
LAST-MODIFIED:20240102T154641Z
UID:715-1706459400-1706464800@fairlawncog.org
SUMMARY:LEADERSHIP MEETING
DESCRIPTION:On Sunday January 28th at 4:30PM\, we will be having our annual Leadership Meeting for all ministry leaders in the Fellowship Hall.  If you are a leader of any ministry in our church\, please make plans to be at this meeting.  We need all leaders to be prepared to share any accomplishments or issues from this past year and any plans for growth for the new year.
URL:https://fairlawncog.org/event/leadership-meeting/
LOCATION:Fairlawn Church of God Fellowship Hall\, 7858 Peppers Ferry Blvd.\, Radford\, VA\, 24141\, United States
ORGANIZER;CN="Pastor Marcus Harrison":MAILTO:office@fairlawncog.org
END:VEVENT
END:VCALENDAR