BEGIN:VCALENDAR
VERSION:2.0
PRODID:-//Fairlawn Church of God - ECPv6.15.20//NONSGML v1.0//EN
CALSCALE:GREGORIAN
METHOD:PUBLISH
X-ORIGINAL-URL:https://fairlawncog.org
X-WR-CALDESC:Events for Fairlawn Church of God
REFRESH-INTERVAL;VALUE=DURATION:PT1H
X-Robots-Tag:noindex
X-PUBLISHED-TTL:PT1H
BEGIN:VTIMEZONE
TZID:UTC
BEGIN:STANDARD
TZOFFSETFROM:+0000
TZOFFSETTO:+0000
TZNAME:UTC
DTSTART:20230101T000000
END:STANDARD
END:VTIMEZONE
BEGIN:VEVENT
DTSTART;TZID=UTC:20240714T110000
DTEND;TZID=UTC:20240714T140000
DTSTAMP:20260421T231103
CREATED:20240702T155148Z
LAST-MODIFIED:20240702T155148Z
UID:1047-1720954800-1720965600@fairlawncog.org
SUMMARY:NEW SERMON SERIES
DESCRIPTION:On Sunday July 14th at 11AM\, Pastor Marcus will begin a BRAND-NEW Sermon Series entitled\, “What’s In A Name?”   This will be part three of a Series that he’s preached on the names of God the Father and God the Son.  In this Series\, we’ll be taking an in-depth look at the names and roles of God the Holy Spirit.  Don’t miss this exciting and anointed new Series on the powerful names of God!
URL:https://fairlawncog.org/event/new-sermon-series-6/
LOCATION:Fairlawn Church of God\, 7858 Peppers Ferry Blvd.\, Radford\, VA\, 24141\, United States
ORGANIZER;CN="Pastor Marcus Harrison":MAILTO:office@fairlawncog.org
END:VEVENT
BEGIN:VEVENT
DTSTART;TZID=UTC:20240711T180000
DTEND;TZID=UTC:20240711T200000
DTSTAMP:20260421T231103
CREATED:20240702T151405Z
LAST-MODIFIED:20240702T151405Z
UID:1031-1720720800-1720728000@fairlawncog.org
SUMMARY:CHURCH SOFTBALL
DESCRIPTION:Our FCOG Softball Team will be playing at Harkrader Sports Complex in Christiansburg during the month of July!  Their schedule will be as follows: Tuesday July 9th at 7PM\, Thursday July 11th at 6PM\, Tuesday July 16th at 8PM and 9PM\, Thursday July 18th at 8PM\, and Tuesday July 30th at 8PM.  Come out and show your support!
URL:https://fairlawncog.org/event/church-softball-2/
LOCATION:Harkrader Sports Complex\, Christiansburg\, VA\, United States
END:VEVENT
BEGIN:VEVENT
DTSTART;TZID=UTC:20240710T190000
DTEND;TZID=UTC:20240710T210000
DTSTAMP:20260421T231103
CREATED:20240702T154439Z
LAST-MODIFIED:20240702T154439Z
UID:1040-1720638000-1720645200@fairlawncog.org
SUMMARY:NEW WED KID'S CHURCH SERIES
DESCRIPTION:On Wednesday July 10th at 7PM\, our kids will begin a NEW SERIES entitled\, “The NON-Avengers.”  In this Series\, they will learn about kindness\, forgiveness\, and compassion.  The Bible is filled with examples of folks who chose not to follow the arm of the flesh and get even\, but instead they chose love and reconciliation.  This summer\, we’re going to learn that it’s ok to be NON-avengers!
URL:https://fairlawncog.org/event/new-wed-kids-church-series/
LOCATION:Fairlawn Church of God Fellowship Hall\, 7858 Peppers Ferry Blvd.\, Radford\, VA\, 24141\, United States
END:VEVENT
BEGIN:VEVENT
DTSTART;TZID=UTC:20240709T190000
DTEND;TZID=UTC:20240709T210000
DTSTAMP:20260421T231103
CREATED:20240702T151238Z
LAST-MODIFIED:20240702T151238Z
UID:1028-1720551600-1720558800@fairlawncog.org
SUMMARY:CHURCH SOFTBALL
DESCRIPTION:Our FCOG Softball Team will be playing at Harkrader Sports Complex in Christiansburg during the month of July!  Their schedule will be as follows: Tuesday July 9th at 7PM\, Thursday July 11th at 6PM\, Tuesday July 16th at 8PM and 9PM\, Thursday July 18th at 8PM\, and Tuesday July 30th at 8PM.  Come out and show your support!
URL:https://fairlawncog.org/event/church-softball/
LOCATION:Harkrader Sports Complex\, Christiansburg\, VA\, United States
END:VEVENT
BEGIN:VEVENT
DTSTART;TZID=UTC:20240709T183000
DTEND;TZID=UTC:20240709T203000
DTSTAMP:20260421T231103
CREATED:20240702T161919Z
LAST-MODIFIED:20240702T161919Z
UID:1066-1720549800-1720557000@fairlawncog.org
SUMMARY:LADIES MINISTRY
DESCRIPTION:On Tuesday July 9th at 6:30PM\, our Ladies Ministry will be having their monthly meeting in the Fellowship Hall.  They will enjoy good food and fellowship and will also be planning their upcoming Women’s Weekend Experience.  We want to encourage all of our ladies to come out and be a part of this ministry.  It’s a great time of fellowship for women.  Please see Pastor Joni for more info.
URL:https://fairlawncog.org/event/ladies-ministry-6/
LOCATION:Fairlawn Church of God Fellowship Hall\, 7858 Peppers Ferry Blvd.\, Radford\, VA\, 24141\, United States
END:VEVENT
BEGIN:VEVENT
DTSTART;TZID=UTC:20240708T170000
DTEND;TZID=UTC:20240708T180000
DTSTAMP:20260421T231103
CREATED:20240702T150256Z
LAST-MODIFIED:20240702T150256Z
UID:1024-1720458000-1720461600@fairlawncog.org
SUMMARY:JAIL AND PRISON MINISTRY
DESCRIPTION:On Mondays July 8th and 22nd at 5PM\, our Jail and Prison Ministry will be going to the NRV Regional Jail for their bi-weekly ministry meeting.  If you’re interested in helping with this outreach ministry\, please see Matt Sutphin.  They can use male or female volunteers since the jail has both male and female inmates.
URL:https://fairlawncog.org/event/jail-and-prison-ministry-8/
END:VEVENT
BEGIN:VEVENT
DTSTART;VALUE=DATE:20240708
DTEND;VALUE=DATE:20240713
DTSTAMP:20260421T231103
CREATED:20240702T145936Z
LAST-MODIFIED:20240702T145936Z
UID:1022-1720396800-1720828799@fairlawncog.org
SUMMARY:INTERNATIONAL JUNIOR TALENT
DESCRIPTION:On Monday July 8th through Friday July 12th\, our FCOG Children’s Ministry will be going to Indianapolis\, IN for the COG General Assembly and International Junior Talent.  Our kids will be competing in the categories of solo and group Bible quizzing\, solo singing\, small ensemble music\, solo music\, and dance!  Please pray for our kids as they represent Jesus and FCOG in Indiana! \n 
URL:https://fairlawncog.org/event/international-junior-talent/
END:VEVENT
BEGIN:VEVENT
DTSTART;VALUE=DATE:20240707
DTEND;VALUE=DATE:20240708
DTSTAMP:20260421T231103
CREATED:20240702T145821Z
LAST-MODIFIED:20240702T145821Z
UID:1019-1720310400-1720396799@fairlawncog.org
SUMMARY:CHURCH LUAU IN THE PARK
DESCRIPTION:On Sunday July 7th at 11AM\, we will be having our Luau in the Park at Randolph Park in Dublin!  There will be Worship and the Word followed by food\, fun\, and fellowship.  Everyone is asked to please bring a side or dessert to share.  The church will provide hotdogs and barbeque sandwiches.  There will be fun for all ages including bingo with prizes!  Wear your favorite Hawaiian shirt and invite a friend!
URL:https://fairlawncog.org/event/church-luau-in-the-park/
LOCATION:Randolf Park\, Pulaski\, United States
ORGANIZER;CN="Pastor Marcus Harrison":MAILTO:office@fairlawncog.org
END:VEVENT
BEGIN:VEVENT
DTSTART;TZID=UTC:20240703T190000
DTEND;TZID=UTC:20240703T210000
DTSTAMP:20260421T231103
CREATED:20240702T145647Z
LAST-MODIFIED:20240702T145647Z
UID:1017-1720033200-1720040400@fairlawncog.org
SUMMARY:SERVICE CANCELLED
DESCRIPTION:There will be NO Wednesday evening Service on Wednesday\, July 3rd due to the July 4th holiday.   That means our Adult Bible Study\, Rebranded Youth Ministry\, and Kids Clubs will all be cancelled that evening.  All normal Wednesday activities will resume on July 10th.  Enjoy your festivities on the 4th and God Bless America!
URL:https://fairlawncog.org/event/service-cancelled/
END:VEVENT
BEGIN:VEVENT
DTSTART;VALUE=DATE:20240701
DTEND;VALUE=DATE:20240706
DTSTAMP:20260421T231103
CREATED:20240702T145542Z
LAST-MODIFIED:20240702T145542Z
UID:1015-1719792000-1720223999@fairlawncog.org
SUMMARY:VACOG YOUTH CAMP
DESCRIPTION:On Monday July 1st\, our VACOG Youth Camps will have their final week of camp!  This will be the Elementary School camp for 1st through 5th grade.  We are so excited to hear so many reports of salvations\, sanctifications\, and ministry callings that are taking place at youth camp.  Please continue to cover our young people in prayer.  We’re believing God for a mighty move of His Spirit in this generation!
URL:https://fairlawncog.org/event/vacog-youth-camp-2/
END:VEVENT
BEGIN:VEVENT
DTSTART;TZID=UTC:20240630T110000
DTEND;TZID=UTC:20240630T130000
DTSTAMP:20260421T231103
CREATED:20240604T182954Z
LAST-MODIFIED:20240604T182954Z
UID:1013-1719745200-1719752400@fairlawncog.org
SUMMARY:PASTOR AND STAFF APPRECIATION DAY
DESCRIPTION:  \n \nOn Sunday June 30th at 11AM\, we will be having our Pastor and Staff Appreciation Day.  We will honor our Lead Pastor\, Associate Pastor\, Young Adult Pastor\, Music Pastor\, Children’s Pastors\, and Administrative Assistant with a special program and Service.  Pastor Kenny Quesenberry\, from Fort Chiswell COG\, will be our special guest speaker that day.  There will be baskets available if you’d like to leave a card or small gift for any of our staff.
URL:https://fairlawncog.org/event/pastor-and-staff-appreciation-day/
LOCATION:Fairlawn Church of God\, 7858 Peppers Ferry Blvd.\, Radford\, VA\, 24141\, United States
ORGANIZER;CN="Pastor Marcus Harrison":MAILTO:office@fairlawncog.org
END:VEVENT
BEGIN:VEVENT
DTSTART;TZID=UTC:20240629T170000
DTEND;TZID=UTC:20240629T193000
DTSTAMP:20260421T231103
CREATED:20240604T182810Z
LAST-MODIFIED:20240604T182815Z
UID:1010-1719680400-1719689400@fairlawncog.org
SUMMARY:EASTER DRAMA APPRECIATION DINNER
DESCRIPTION:On Saturday June 29th at 5PM\, we will be hosting an appreciation dinner for everyone who helped out in anyway with this year’s presentation of “The Glory of His Resurrection.”   Due to a generous gift from one of our members\, this meal will be catered by Country Kitchen.   If you helped out with the Drama in any way\, you are cordially invited to join us for a delicious meal and good fellowship.
URL:https://fairlawncog.org/event/easter-drama-appreciation-dinner/
END:VEVENT
BEGIN:VEVENT
DTSTART;TZID=UTC:20240624T170000
DTEND;TZID=UTC:20240624T190000
DTSTAMP:20260421T231103
CREATED:20240604T181214Z
LAST-MODIFIED:20240604T181214Z
UID:992-1719248400-1719255600@fairlawncog.org
SUMMARY:JAIL AND PRISON MINISTRY
DESCRIPTION:On Mondays June 10th and 24th at 5PM\, our Jail and Prison Ministry will be going to the NRV Regional Jail for their bi-weekly ministry meeting.  If you’re interested in helping with this outreach ministry\, please see Rev. Brian Mann.  They can use male or female volunteers since the jail has both male and female inmates.
URL:https://fairlawncog.org/event/jail-and-prison-ministry-7/
LOCATION:NRV Regional Jail
ORGANIZER;CN="Rev. Brian Mann":MAILTO:office@fairlawncog.org
END:VEVENT
BEGIN:VEVENT
DTSTART;TZID=UTC:20240623T160000
DTEND;TZID=UTC:20240623T170000
DTSTAMP:20260421T231103
CREATED:20240604T182620Z
LAST-MODIFIED:20240604T182620Z
UID:1008-1719158400-1719162000@fairlawncog.org
SUMMARY:NURSING HOME MINISTRY
DESCRIPTION:On Sunday June 23rd at 4PM\, we’ll be going to Warm Hearth Village in Blacksburg  for our monthly Nursing Home Ministry.  If you enjoy visiting with the elderly\, please consider this ministry.  You don’t have to be a minister or singer to participate.  For more information\, please see Rev. Brian Mann.  Remember\, when you’ve done it unto the least of these\, you’ve done it unto Him!
URL:https://fairlawncog.org/event/nursing-home-ministry-10/
END:VEVENT
BEGIN:VEVENT
DTSTART;TZID=UTC:20240623T110000
DTEND;TZID=UTC:20240623T130000
DTSTAMP:20260421T231103
CREATED:20240604T182229Z
LAST-MODIFIED:20240604T182419Z
UID:1003-1719140400-1719147600@fairlawncog.org
SUMMARY:PASTOR'S MESSAGE
DESCRIPTION:On Sunday June 23rd at 11AM\, Pastor Marcus will be preaching a special message entitled\, “God Already Knows.”  The Bible said that when Jesus asked Philip a question\, He already knew what He was going to do.  Jesus already knows the need\, He already knows the challenge\, and He already knows the solution.  Join us for this powerful Sermon and reminder that God already knows!
URL:https://fairlawncog.org/event/kids-church-and-youth-outing/
LOCATION:Fairlawn Church of God\, 7858 Peppers Ferry Blvd.\, Radford\, VA\, 24141\, United States
ORGANIZER;CN="Pastor Marcus Harrison":MAILTO:office@fairlawncog.org
END:VEVENT
BEGIN:VEVENT
DTSTART;TZID=UTC:20240621T190000
DTEND;TZID=UTC:20240621T203000
DTSTAMP:20260421T231103
CREATED:20240604T182518Z
LAST-MODIFIED:20240604T182518Z
UID:1006-1718996400-1719001800@fairlawncog.org
SUMMARY:KID'S CHURCH AND YOUTH OUTING
DESCRIPTION:On Friday June 21st at 7PM\, our Kid’s Church and Rebranded Youth Ministry will be having a baseball outing to Calfee Park in Pulaski to watch the Pulaski River Turtles!  Kids under the age of 18 can get in FREE\, and adults are only $5.  Deadline to sign up is Wed\, June 12th.  Please sign up at the Welcome Center or see Pastor Amy for more information.
URL:https://fairlawncog.org/event/kids-church-and-youth-outing-2/
ORGANIZER;CN="Pastor Adam and Amy Gifford":MAILTO:office@fairlawncog.org
END:VEVENT
BEGIN:VEVENT
DTSTART;TZID=UTC:20240618T183000
DTEND;TZID=UTC:20240618T193000
DTSTAMP:20260421T231103
CREATED:20240604T182050Z
LAST-MODIFIED:20240604T182050Z
UID:1001-1718735400-1718739000@fairlawncog.org
SUMMARY:SENIOR ADULT MINISTRY
DESCRIPTION:On Tuesday June 18th at 6:30PM\, our Senior Adults\, “Tried and True Ministry\,” will be having their monthly meeting in the Fellowship Hall.  All folks\, ages 50+\, are invited to join them for a time of food\, fun\, and fellowship.  Please bring a dish to share for a potluck meal and join them for this monthly meeting.  See Pastor Joey or Lisa Sheppard for more info.
URL:https://fairlawncog.org/event/senior-adult-ministry-7/
END:VEVENT
BEGIN:VEVENT
DTSTART;VALUE=DATE:20240617
DTEND;VALUE=DATE:20240707
DTSTAMP:20260421T231103
CREATED:20240604T181857Z
LAST-MODIFIED:20240604T181857Z
UID:999-1718582400-1720310399@fairlawncog.org
SUMMARY:VACOG YOUTH CAMP
DESCRIPTION:On Monday June 17th\, our VACOG Youth Camps will begin!  The week of the 18th will be High School camp\, the week of the 24th will be Middle School camp\, and the week of July 1st will be Elementary School camp.  There’s still time to sign-up\, if you haven’t already.  Please cover our young people in prayer as they attend church camp this summer.  We’re believing God for a mighty move of His Spirit!
URL:https://fairlawncog.org/event/vacog-youth-camp/
END:VEVENT
BEGIN:VEVENT
DTSTART;TZID=UTC:20240616T110000
DTEND;TZID=UTC:20240616T130000
DTSTAMP:20260421T231103
CREATED:20240604T181602Z
LAST-MODIFIED:20240604T181602Z
UID:997-1718535600-1718542800@fairlawncog.org
SUMMARY:FATHER'S DAY SERVICE
DESCRIPTION:On Sunday June 16th at 11AM\, we will be celebrating all of our dads with a very special Father’s Day Service.  There will be special music and recognition for all dads\, including a small gift for every dad in attendance.  Pastor Marcus will be preaching a special Father’s Day sermon for all men.  Make plans to spend Father’s Day with us and celebrate your dad!
URL:https://fairlawncog.org/event/fathers-day-service/
LOCATION:Fairlawn Church of God\, 7858 Peppers Ferry Blvd.\, Radford\, VA\, 24141\, United States
ORGANIZER;CN="Pastor Marcus Harrison":MAILTO:office@fairlawncog.org
END:VEVENT
BEGIN:VEVENT
DTSTART;TZID=UTC:20240611T190000
DTEND;TZID=UTC:20240611T210000
DTSTAMP:20260421T231103
CREATED:20240604T180041Z
LAST-MODIFIED:20240604T180041Z
UID:983-1718132400-1718139600@fairlawncog.org
SUMMARY:CHURCH VOLLEYBALL TEAM
DESCRIPTION:Our FCOG Volleyball Team will finish their season this month at Christiansburg Recreation Center.  On Tuesday June 4th they’ll be playing at 6PM\, and on Tuesday June 11th they’ll be playing at 7PM.   After that\, they will enter into the playoffs.  Come out and show your support for our FCOG Volleyball Team!
URL:https://fairlawncog.org/event/church-volleyball-team-7/
LOCATION:Celebration Church of God
END:VEVENT
BEGIN:VEVENT
DTSTART;TZID=UTC:20240611T180000
DTEND;TZID=UTC:20240614T203000
DTSTAMP:20260421T231103
CREATED:20240604T181447Z
LAST-MODIFIED:20240604T181447Z
UID:995-1718128800-1718397000@fairlawncog.org
SUMMARY:VACOG CAMPMEETING
DESCRIPTION:On Tuesday June 11th through Friday June 14th\, our VACOG will be hosting our state-wide Camp Meeting at Parkway Church on the Mountain in Roanoke.  There will be morning and evening Services with several guest speakers.  Our Wednesday evening Service will be cancelled so that everyone can attend Camp Meeting.  Mark your calendars and make plans to worship with us in Roanoke!
URL:https://fairlawncog.org/event/vacog-campmeeting/
END:VEVENT
BEGIN:VEVENT
DTSTART;TZID=UTC:20240610T170000
DTEND;TZID=UTC:20240610T203000
DTSTAMP:20260421T231103
CREATED:20240604T181002Z
LAST-MODIFIED:20240604T181002Z
UID:990-1718038800-1718051400@fairlawncog.org
SUMMARY:JAIL AND PRISON MINISTRY
DESCRIPTION:On Mondays June 10th and 24th at 5PM\, our Jail and Prison Ministry will be going to the NRV Regional Jail for their bi-weekly ministry meeting.  If you’re interested in helping with this outreach ministry\, please see Rev. Brian Mann.  They can use male or female volunteers since the jail has both male and female inmates.
URL:https://fairlawncog.org/event/jail-and-prison-ministry-6/
LOCATION:NRV Regional Jail
ORGANIZER;CN="Rev. Brian Mann":MAILTO:office@fairlawncog.org
END:VEVENT
BEGIN:VEVENT
DTSTART;TZID=UTC:20240609T180000
DTEND;TZID=UTC:20240609T203000
DTSTAMP:20260421T231103
CREATED:20240604T180627Z
LAST-MODIFIED:20240604T180630Z
UID:987-1717956000-1717965000@fairlawncog.org
SUMMARY:YOUNG ADULT MINISTR
DESCRIPTION:On Sunday June 9th at 6PM\, our Young Adult Ministry will be hosting their “Exceed Service” in the Youth Sanctuary\, located in the downstairs area of the Fellowship Hall.  They will have Worship\, followed by the Word\, and a time of prayer.   All young adults are invited to join them for a time of fellowship and worship!
URL:https://fairlawncog.org/event/young-adult-ministr/
LOCATION:Fairlawn Church of God Fellowship Hall\, 7858 Peppers Ferry Blvd.\, Radford\, VA\, 24141\, United States
END:VEVENT
BEGIN:VEVENT
DTSTART;TZID=UTC:20240609T110000
DTEND;TZID=UTC:20240609T130000
DTSTAMP:20260421T231103
CREATED:20240604T180412Z
LAST-MODIFIED:20240604T180427Z
UID:985-1717930800-1717938000@fairlawncog.org
SUMMARY:GRADUATION SUNDAY
DESCRIPTION:On Sunday June 9th at 11AM\, we will be having our Graduation Sunday for anyone who is graduating from high school or college.  If you are a 2024 graduate\, please see Tina Young to turn in your information such as any special recognitions or rewards and any future plans.  We honor all of our 2024 graduates!  May the Lord continue to bless you and order your steps!
URL:https://fairlawncog.org/event/graduation-sunday/
LOCATION:Fairlawn Church of God\, 7858 Peppers Ferry Blvd.\, Radford\, VA\, 24141\, United States
END:VEVENT
BEGIN:VEVENT
DTSTART;TZID=UTC:20240604T180000
DTEND;TZID=UTC:20240604T203000
DTSTAMP:20260421T231103
CREATED:20240604T175825Z
LAST-MODIFIED:20240604T175825Z
UID:981-1717524000-1717533000@fairlawncog.org
SUMMARY:CHURCH VOLLEYBALL TEAM
DESCRIPTION:Our FCOG Volleyball Team will finish their season this month at Christiansburg Recreation Center.  On Tuesday June 4th they’ll be playing at 6PM\, and on Tuesday June 11th they’ll be playing at 7PM.   After that\, they will enter into the playoffs.  Come out and show your support for our FCOG Volleyball Team!
URL:https://fairlawncog.org/event/church-volleyball-team-6/
LOCATION:Christiansburg Rec Center
END:VEVENT
BEGIN:VEVENT
DTSTART;TZID=UTC:20240528T180000
DTEND;TZID=UTC:20240528T210000
DTSTAMP:20260421T231103
CREATED:20240501T195405Z
LAST-MODIFIED:20240501T195405Z
UID:922-1716919200-1716930000@fairlawncog.org
SUMMARY:CHURCH VOLLEYBALL TEAM
DESCRIPTION:Our FCOG Volleyball Team will be playing at the Christiansburg Rec Center every Tuesday during the month of May!  Their schedule will be as follows: On May 7th\, they’ll be playing a double header at 7PM and 8PM.  On May 14th\, they’ll be playing at 7PM.  On May 21st\, they’ll be playing at 6PM\, and on May 28th\, they’ll be playing at 6PM.  Come out and show your support for our FCOG Volleyball Team!
URL:https://fairlawncog.org/event/church-volleyball-team-5/
LOCATION:Christiansburg Rec Center
END:VEVENT
BEGIN:VEVENT
DTSTART;TZID=UTC:20240527T170000
DTEND;TZID=UTC:20240527T183000
DTSTAMP:20260421T231103
CREATED:20240501T200839Z
LAST-MODIFIED:20240501T200839Z
UID:938-1716829200-1716834600@fairlawncog.org
SUMMARY:JAIL AND PRISON MINISTRY
DESCRIPTION:On Mondays May 13th and 27th at 5PM\, our Jail and Prison Ministry will be going to the NRV Regional Jail for their bi-weekly ministry meeting.  If you’re interested in helping with this outreach ministry\, please see Rev. Brian Mann.  They can use male or female volunteers since the jail has both male and female inmates.
URL:https://fairlawncog.org/event/jail-and-prison-ministry-5/
LOCATION:NRV Regional Jail
ORGANIZER;CN="Rev. Brian Mann":MAILTO:office@fairlawncog.org
END:VEVENT
BEGIN:VEVENT
DTSTART;TZID=UTC:20240526T160000
DTEND;TZID=UTC:20240526T170000
DTSTAMP:20260421T231103
CREATED:20240501T201750Z
LAST-MODIFIED:20240501T201750Z
UID:959-1716739200-1716742800@fairlawncog.org
SUMMARY:NURSING HOME MINISTRY
DESCRIPTION:On Sunday May 26th at 4PM\, we’ll be going to Warm Hearth Village in Blacksburg  for our monthly Nursing Home Ministry.  If you enjoy visiting with the elderly\, please consider this ministry.  You don’t have to be a minister or singer to participate.  For more information\, please see Rev. Brian Mann.  Remember\, when you’ve done it unto the least of these\, you’ve done it unto Him!
URL:https://fairlawncog.org/event/nursing-home-ministry-9/
LOCATION:Warm Hearth Village\, 2387 Warm Hearth Dr\, Blacksburg\, VA\, 24060\, United States
ORGANIZER;CN="Rev. Brian Mann":MAILTO:office@fairlawncog.org
END:VEVENT
BEGIN:VEVENT
DTSTART;TZID=UTC:20240526T130000
DTEND;TZID=UTC:20240526T143000
DTSTAMP:20260421T231103
CREATED:20240501T201700Z
LAST-MODIFIED:20240501T201700Z
UID:957-1716728400-1716733800@fairlawncog.org
SUMMARY:BAPTISM SERVICE
DESCRIPTION:On Sunday May 26th\, immediately following our morning Worship Service\, we will be having a baptismal Service for anyone who has never been baptized or who has recently given their heart back to the Lord.  Baptism is an outward expression of an inward change.  If you are interested in being baptized\, please sign-up today at the Welcome Center or see Pastor Marcus for more information.
URL:https://fairlawncog.org/event/baptism-service-2/
LOCATION:Fairlawn Church of God\, 7858 Peppers Ferry Blvd.\, Radford\, VA\, 24141\, United States
ORGANIZER;CN="Pastor Marcus Harrison":MAILTO:office@fairlawncog.org
END:VEVENT
BEGIN:VEVENT
DTSTART;TZID=UTC:20240526T110000
DTEND;TZID=UTC:20240526T130000
DTSTAMP:20260421T231103
CREATED:20240501T201304Z
LAST-MODIFIED:20240501T201304Z
UID:948-1716721200-1716728400@fairlawncog.org
SUMMARY:NEW SERMON SERIES
DESCRIPTION:On Sundays at 11AM\, Pastor Marcus will continue a BRAND-NEW Sermon Series entitled\, “Bless the Lord\, oh my soul!”  Using Psalm 103\, Pastor Marcus will talk about the six reasons David gave us to bless the Lord at all times and to bless Him with all our might!  The Bible calls them benefits.  He forgives our sins\, heals our diseases\, redeems our life\, crowns us with loving kindness\, satisfies our mouth\, and renews our strength.  Bless the Lord\, oh my soul!
URL:https://fairlawncog.org/event/new-sermon-series-5/
LOCATION:Fairlawn Church of God\, 7858 Peppers Ferry Blvd.\, Radford\, VA\, 24141\, United States
ORGANIZER;CN="Pastor Marcus Harrison":MAILTO:office@fairlawncog.org
END:VEVENT
END:VCALENDAR