BEGIN:VCALENDAR
VERSION:2.0
PRODID:-//Fairlawn Church of God - ECPv6.15.20//NONSGML v1.0//EN
CALSCALE:GREGORIAN
METHOD:PUBLISH
X-ORIGINAL-URL:https://fairlawncog.org
X-WR-CALDESC:Events for Fairlawn Church of God
REFRESH-INTERVAL;VALUE=DURATION:PT1H
X-Robots-Tag:noindex
X-PUBLISHED-TTL:PT1H
BEGIN:VTIMEZONE
TZID:UTC
BEGIN:STANDARD
TZOFFSETFROM:+0000
TZOFFSETTO:+0000
TZNAME:UTC
DTSTART:20230101T000000
END:STANDARD
END:VTIMEZONE
BEGIN:VEVENT
DTSTART;TZID=UTC:20241209T183000
DTEND;TZID=UTC:20241209T203000
DTSTAMP:20260421T115216
CREATED:20241203T183105Z
LAST-MODIFIED:20241203T183105Z
UID:1193-1733769000-1733776200@fairlawncog.org
SUMMARY:LADIES MINISTRY MEETING
DESCRIPTION:On Monday December 9th at 6:30PM\, our Ladies Ministry will be having their Christmas gathering in the Fellowship Hall (this month’s meeting will be on Monday instead of Tuesday due to the Christmas Parade).  They will enjoy an evening of good food and fellowship\, as well as conduct their ministry meeting.  All ladies are cordially invited to join them every month for a great time of fun and fellowship.  Please see Pastor Joni for more information.
URL:https://fairlawncog.org/event/ladies-ministry-meeting-4/
LOCATION:Fairlawn Church of God Fellowship Hall\, 7858 Peppers Ferry Blvd.\, Radford\, VA\, 24141\, United States
END:VEVENT
BEGIN:VEVENT
DTSTART;TZID=UTC:20241208T133000
DTEND;TZID=UTC:20241208T180000
DTSTAMP:20260421T115216
CREATED:20241203T182627Z
LAST-MODIFIED:20241203T182627Z
UID:1187-1733664600-1733680800@fairlawncog.org
SUMMARY:CHRISTMAS BANQUET
DESCRIPTION:On Sunday December 8th\, immediately following our morning Worship Service\, we will be having our church-wide Christmas Banquet in the Fellowship Hall.  It will be an afternoon of festive fun\, fellowship\, games\, and prizes!  We ask that each family please bring a meat\, side\, and dessert for the potluck meal.  Invite a friend to join you for our Christmas Banquet!
URL:https://fairlawncog.org/event/christmas-banquet/
LOCATION:Fairlawn Church of God Fellowship Hall\, 7858 Peppers Ferry Blvd.\, Radford\, VA\, 24141\, United States
ORGANIZER;CN="Pastor Marcus Harrison":MAILTO:office@fairlawncog.org
END:VEVENT
BEGIN:VEVENT
DTSTART;TZID=UTC:20241207T110000
DTEND;TZID=UTC:20241207T150000
DTSTAMP:20260421T115216
CREATED:20241203T182239Z
LAST-MODIFIED:20241203T182239Z
UID:1181-1733569200-1733583600@fairlawncog.org
SUMMARY:FCOG CHRISTMAS PARADE
DESCRIPTION:On Saturday December 7th at 11AM\, FCOG will be participating in the Dublin Christmas parade.  Also\, on Tuesday\, December 10th at 7PM\, we will be participating in the Radford Christmas parade.  If you are interested in helping out with the parades this year\, please see Alicia Harrison or Felicia Jones.  We will be decorating the week prior at the church.
URL:https://fairlawncog.org/event/fcog-christmas-parade/
LOCATION:Dublin\, VA
ORGANIZER;CN="Pastor Marcus Harrison":MAILTO:office@fairlawncog.org
END:VEVENT
BEGIN:VEVENT
DTSTART;TZID=UTC:20241201T110000
DTEND;TZID=UTC:20241215T140000
DTSTAMP:20260421T115216
CREATED:20241203T182058Z
LAST-MODIFIED:20241203T182058Z
UID:1179-1733050800-1734271200@fairlawncog.org
SUMMARY:ANGEL TREE MINISTRY
DESCRIPTION:On Sunday\, December 1st\, our Jail and Prison Ministry will be giving out 56 Angel Tree ornaments for children with incarcerated parents.  Each ornament will have a child’s name with something they would like for Christmas.  All gifts will need to be returned to the church no later than Sunday\, December 15th.  They will be delivered to the children the following weekend.  If you can help with this wonderful ministry\, please sign up at the Welcome Center today. \n 
URL:https://fairlawncog.org/event/angel-tree-ministry/
LOCATION:Fairlawn Church of God\, 7858 Peppers Ferry Blvd.\, Radford\, VA\, 24141\, United States
ORGANIZER;CN="Pastor Marcus Harrison":MAILTO:office@fairlawncog.org
END:VEVENT
BEGIN:VEVENT
DTSTART;TZID=UTC:20241031T180000
DTEND;TZID=UTC:20241031T190000
DTSTAMP:20260421T115216
CREATED:20241002T140716Z
LAST-MODIFIED:20241002T140729Z
UID:1177-1730397600-1730401200@fairlawncog.org
SUMMARY:KID'S FALL FESTIVAL
DESCRIPTION:On Thursday October 31st at 6PM\, we will be hosting our Kid’s Fall Festival with special guest\, David Cain.  David is a Guinness World Record Holder and is a world-renown juggler.  Following the show with David Cain\, kids will enjoy FREE food\, carnival games\, and a Trunk-or-Treat!  Kids\, ages 12 and under\, are encouraged to dress up (please nothing spooky).  We are also in need of bags of individually wrapped pieces of candy.  Please drop those off in the Hospitality Room.  Also\, sign up at the Welcome Center today if you can help in any way!
URL:https://fairlawncog.org/event/kids-fall-festival-2/
LOCATION:Fairlawn Church of God\, 7858 Peppers Ferry Blvd.\, Radford\, VA\, 24141\, United States
ORGANIZER;CN="Pastor Adam and Amy Gifford":MAILTO:office@fairlawncog.org
END:VEVENT
BEGIN:VEVENT
DTSTART;TZID=UTC:20241027T160000
DTEND;TZID=UTC:20241027T170000
DTSTAMP:20260421T115216
CREATED:20241002T140245Z
LAST-MODIFIED:20241002T140245Z
UID:1173-1730044800-1730048400@fairlawncog.org
SUMMARY:NURSING HOME MINISTRY
DESCRIPTION:On Monday October 21st at 3PM\, we will be going to Warm Hearth Village in Blacksburg for Bible Study with the residents.  On Sunday October 27th at 4PM\, we’ll be going back for our regular monthly Nursing Home Ministry.  If you enjoy visiting with the elderly\, please consider this ministry.  For more information\, please see Matt Sutphin.  Remember\, when you’ve done it to the least of these\, you’ve done it to Him!
URL:https://fairlawncog.org/event/nursing-home-ministry-15/
LOCATION:Warm Hearth Village\, 2387 Warm Hearth Dr\, Blacksburg\, VA\, 24060\, United States
END:VEVENT
BEGIN:VEVENT
DTSTART;TZID=UTC:20241027T110000
DTEND;TZID=UTC:20241027T140000
DTSTAMP:20260421T115216
CREATED:20241002T140557Z
LAST-MODIFIED:20241002T140557Z
UID:1175-1730026800-1730037600@fairlawncog.org
SUMMARY:HARVEST SUNDAY
DESCRIPTION:On Sunday October 27th at 11AM\, we will be hosting our annual Harvest Sunday!  We will have anointed Worship and the Word\, and then everyone will enjoy FREE hotdogs\, kettle corn\, hayrides\, pumpkin painting\, and family fall pictures.  You can wear your favorite flannel or fall colors!  Pick up an invite card off the back table and invite someone to come with you to church.  We will also be collecting non-perishable food items for our local food banks!
URL:https://fairlawncog.org/event/harvest-sunday-2/
LOCATION:Fairlawn Church of God\, 7858 Peppers Ferry Blvd.\, Radford\, VA\, 24141\, United States
ORGANIZER;CN="Pastor Marcus Harrison":MAILTO:office@fairlawncog.org
END:VEVENT
BEGIN:VEVENT
DTSTART;TZID=UTC:20241021T150000
DTEND;TZID=UTC:20241021T160000
DTSTAMP:20260421T115216
CREATED:20241002T140118Z
LAST-MODIFIED:20241002T140118Z
UID:1171-1729522800-1729526400@fairlawncog.org
SUMMARY:NURSING HOME MINISTRY
DESCRIPTION:On Monday October 21st at 3PM\, we will be going to Warm Hearth Village in Blacksburg for Bible Study with the residents.  On Sunday October 27th at 4PM\, we’ll be going back for our regular monthly Nursing Home Ministry.  If you enjoy visiting with the elderly\, please consider this ministry.  For more information\, please see Matt Sutphin.  Remember\, when you’ve done it to the least of these\, you’ve done it to Him!
URL:https://fairlawncog.org/event/nursing-home-ministry-14/
LOCATION:Warm Hearth Village\, 2387 Warm Hearth Dr\, Blacksburg\, VA\, 24060\, United States
END:VEVENT
BEGIN:VEVENT
DTSTART;TZID=UTC:20241020T140000
DTEND;TZID=UTC:20241020T150000
DTSTAMP:20260421T115216
CREATED:20241002T135914Z
LAST-MODIFIED:20241002T135914Z
UID:1169-1729432800-1729436400@fairlawncog.org
SUMMARY:CHURCH TRIP 2025
DESCRIPTION:On Sunday October 20th\, immediately following our morning Worship Service\, Pastor Marcus will be having a meeting about our Church Trip for 2025.  Next year\, we will be going to Niagara Falls\, NY!  We will go through Washington D.C.\, Philadelphia\, PA\, and Lancaster\, PA\, and enjoy some sightseeing along the way.  If you’re interested in traveling with us next year on a luxury Abbott bus\, don’t miss this important informational meeting.
URL:https://fairlawncog.org/event/church-trip-2025/
LOCATION:Fairlawn Church of God\, 7858 Peppers Ferry Blvd.\, Radford\, VA\, 24141\, United States
ORGANIZER;CN="Pastor Marcus Harrison":MAILTO:office@fairlawncog.org
END:VEVENT
BEGIN:VEVENT
DTSTART;TZID=UTC:20241020T110000
DTEND;TZID=UTC:20241020T110000
DTSTAMP:20260421T115216
CREATED:20241002T135724Z
LAST-MODIFIED:20241002T135744Z
UID:1167-1729422000-1729422000@fairlawncog.org
SUMMARY:NEW SERMON SERIES
DESCRIPTION:On Sunday October 20th at 11AM\, Pastor Marcus will begin a BRAND NEW Sermon Series entitled\, “This Is My Story.”  In this three-week Series\, we’re going to hear some testimonies from folks in our church who have personally experienced God as their Deliverer\, Healer\, and Restorer.  We’ve all got a story to share\, and somebody needs to hear yours!  Don’t miss this powerful NEW Series!
URL:https://fairlawncog.org/event/new-sermon-series-9/
LOCATION:Fairlawn Church of God\, 7858 Peppers Ferry Blvd.\, Radford\, VA\, 24141\, United States
ORGANIZER;CN="Pastor Marcus Harrison":MAILTO:office@fairlawncog.org
END:VEVENT
BEGIN:VEVENT
DTSTART;TZID=UTC:20241015T183000
DTEND;TZID=UTC:20241015T203000
DTSTAMP:20260421T115216
CREATED:20241002T135553Z
LAST-MODIFIED:20241002T135553Z
UID:1165-1729017000-1729024200@fairlawncog.org
SUMMARY:SENIOR ADULT MINISTRY
DESCRIPTION:On Tuesday October 15th at 6:30PM\, our Senior Adults\, “Tried and True Ministry\,” will be having their monthly meeting in the Fellowship Hall.  All folks\, ages 50+\, are invited to join them for a time of food\, fun\, and fellowship.  Please bring a dish to share for a potluck meal and join them for this monthly meeting.  See Pastor Joey or Lisa Sheppard for more information.
URL:https://fairlawncog.org/event/senior-adult-ministry-11/
LOCATION:Fairlawn Church of God Fellowship Hall\, 7858 Peppers Ferry Blvd.\, Radford\, VA\, 24141\, United States
ORGANIZER;CN="Pastor Joey and Lisa Shepphard":MAILTO:office@fairlawncog.org
END:VEVENT
BEGIN:VEVENT
DTSTART;TZID=UTC:20241014T193000
DTEND;TZID=UTC:20241014T210000
DTSTAMP:20260421T115216
CREATED:20241002T135418Z
LAST-MODIFIED:20241002T135418Z
UID:1163-1728934200-1728939600@fairlawncog.org
SUMMARY:JAIL AND PRISON MINISTRY
DESCRIPTION:  \n \nOn Mondays October 14th at 28th at 7:30PM\, our Jail and Prison Ministry will be going to the NRV Regional Jail for their bi-weekly ministry meeting.  If you’re interested in helping with this outreach ministry\, please see Matt Sutphin.  They can use male or female volunteers since the jail has both male and female inmates.
URL:https://fairlawncog.org/event/jail-and-prison-ministry-14/
LOCATION:NRV Regional Jail
END:VEVENT
BEGIN:VEVENT
DTSTART;TZID=UTC:20241013T180000
DTEND;TZID=UTC:20241013T203000
DTSTAMP:20260421T115216
CREATED:20241002T135239Z
LAST-MODIFIED:20241002T135239Z
UID:1161-1728842400-1728851400@fairlawncog.org
SUMMARY:YOUND ADULT EXCEED SERVICE
DESCRIPTION:On Sunday October 13th at 6PM\, our Young Adult Ministry will be hosting their mothly Exceed Service in the Youth Sanctuary\, located in the downstairs area of our Fellowship Hall.  They will enjoy Worship and the Word along with prayer and fellowship.  The Service is open to anyone who would like to attend.  Please see our Young Adult Pastor\, Rev. Justin Coleman\, for more information.
URL:https://fairlawncog.org/event/yound-adult-exceed-service/
LOCATION:Fairlawn Church of God Fellowship Hall\, 7858 Peppers Ferry Blvd.\, Radford\, VA\, 24141\, United States
ORGANIZER;CN="Rev. Justin Coleman":MAILTO:office@fairlawncog.org
END:VEVENT
BEGIN:VEVENT
DTSTART;TZID=UTC:20241013T110000
DTEND;TZID=UTC:20241013T140000
DTSTAMP:20260421T115216
CREATED:20241002T135117Z
LAST-MODIFIED:20241002T135117Z
UID:1159-1728817200-1728828000@fairlawncog.org
SUMMARY:PASTOR JONI'S MESSAGE
DESCRIPTION:On Sunday October 13th at 11AM\, Pastor Joni will be preaching a special message that the Lord has laid on her heart entitled\, “His Grace is Still Amazing!”  When we stop to think about all that God has done for us\, it’s truly amazing.  He has saved us\, sanctified us\, and filled us with the Holy Ghost.  The greatest news is what He’s done for one\, He will do for all!  No wonder the song writer said “Amazing Grace\, how sweet the sound\, that saved a wretch like me!”
URL:https://fairlawncog.org/event/pastor-jonis-message/
LOCATION:Fairlawn Church of God\, 7858 Peppers Ferry Blvd.\, Radford\, VA\, 24141\, United States
END:VEVENT
BEGIN:VEVENT
DTSTART;TZID=UTC:20241008T183000
DTEND;TZID=UTC:20241008T203000
DTSTAMP:20260421T115216
CREATED:20241002T134958Z
LAST-MODIFIED:20241002T134958Z
UID:1157-1728412200-1728419400@fairlawncog.org
SUMMARY:LADIES MINISTRY MEETING
DESCRIPTION:On Tuesday October 8th at 6:30PM\, our Ladies Ministry will be having their monthly meeting in the Fellowship Hall.  They will enjoy an evening of good food and fellowship\, as well as conduct their ministry meeting.  All ladies are cordially invited to join them every month for a great time of fellowship.  Please see Pastor Joni for more information.
URL:https://fairlawncog.org/event/ladies-ministry-meeting-3/
LOCATION:Fairlawn Church of God Fellowship Hall\, 7858 Peppers Ferry Blvd.\, Radford\, VA\, 24141\, United States
END:VEVENT
BEGIN:VEVENT
DTSTART;TZID=UTC:20241006T110000
DTEND;TZID=UTC:20241006T133000
DTSTAMP:20260421T115216
CREATED:20241002T134753Z
LAST-MODIFIED:20241002T134843Z
UID:1154-1728212400-1728221400@fairlawncog.org
SUMMARY:MISSION SUNDAY
DESCRIPTION:On Sunday October 6th at 11AM\, we will be hosting our quarterly Mission Sunday with Larry Odam.  He is a retired Pastor who has now traveled the world as a COG Missionary sharing the Gospel of Jesus Christ.  His main focus is building churches and feeding centers for those less fortunate.  Please pray about what you can give to help support this wonderful mission.
URL:https://fairlawncog.org/event/mission-sunday-4/
LOCATION:Fairlawn Church of God\, 7858 Peppers Ferry Blvd.\, Radford\, VA\, 24141\, United States
ORGANIZER;CN="Pastor Marcus Harrison":MAILTO:office@fairlawncog.org
END:VEVENT
BEGIN:VEVENT
DTSTART;TZID=UTC:20240929T110000
DTEND;TZID=UTC:20240929T140000
DTSTAMP:20260421T115216
CREATED:20240830T010253Z
LAST-MODIFIED:20240830T010253Z
UID:1152-1727607600-1727618400@fairlawncog.org
SUMMARY:HOMECOMING 2024
DESCRIPTION:On Sunday September 29th at 11AM\, we will be celebrating 52 years of Spirit-filled ministry to the New River Valley with our annual Homecoming Celebration!  There will be anointed Worship from our Sanctuary Choir and Praise Team and our former Pastor\, Rev. Terry Bowden\, will be our special guest preacher.  Following the Service\, we will enjoy a pot-puck meal in the Fellowship Hall.  Every family is asked to please bring a meat\, vegetable\, and dessert and join us for Homecoming 2024!
URL:https://fairlawncog.org/event/homecoming-2024/
LOCATION:Fairlawn Church of God\, 7858 Peppers Ferry Blvd.\, Radford\, VA\, 24141\, United States
ORGANIZER;CN="Pastor Marcus Harrison":MAILTO:office@fairlawncog.org
END:VEVENT
BEGIN:VEVENT
DTSTART;TZID=UTC:20240923T180000
DTEND;TZID=UTC:20240923T193000
DTSTAMP:20260421T115216
CREATED:20240830T002422Z
LAST-MODIFIED:20240830T002422Z
UID:1131-1727114400-1727119800@fairlawncog.org
SUMMARY:JAIL AND PRISON MINISTRY
DESCRIPTION:On Mondays September 9th at 23rd at 6PM\, our Jail and Prison Ministry will be going to the NRV Regional Jail for their bi-weekly ministry meeting.  If you’re interested in helping with this outreach ministry\, please see Matt Sutphin.  They can use male or female volunteers since the jail has both male and female inmates.
URL:https://fairlawncog.org/event/jail-and-prison-ministry-13/
LOCATION:NRV Regional Jail
END:VEVENT
BEGIN:VEVENT
DTSTART;TZID=UTC:20240922T160000
DTEND;TZID=UTC:20240922T170000
DTSTAMP:20260421T115216
CREATED:20240830T010009Z
LAST-MODIFIED:20240830T010009Z
UID:1148-1727020800-1727024400@fairlawncog.org
SUMMARY:NURSING HOME MINISTRY
DESCRIPTION:On Sunday September 22nd at 4PM\, we’ll be going to Warm Hearth Village in Blacksburg  for our monthly Nursing Home Ministry.  If you enjoy visiting with the elderly\, please consider this ministry.  For more information\, please see Matt Sutphin.  Remember\, when you’ve done it to the least of these\, you’ve done it to Him!
URL:https://fairlawncog.org/event/nursing-home-ministry-13/
LOCATION:Warm Hearth Village\, 2387 Warm Hearth Dr\, Blacksburg\, VA\, 24060\, United States
END:VEVENT
BEGIN:VEVENT
DTSTART;TZID=UTC:20240922T110000
DTEND;TZID=UTC:20240922T140000
DTSTAMP:20260421T115216
CREATED:20240830T005909Z
LAST-MODIFIED:20240830T005909Z
UID:1146-1727002800-1727013600@fairlawncog.org
SUMMARY:WATER BAPTISM
DESCRIPTION:On Sunday September 22nd\, immediately following our morning Worship Service\, Pastor Marcus will be having a special Baptism Service.  If you have never been baptized\, or would like to be baptized again following your rededication to the Lord\, please sign up at the Welcome Center today.  Baptism is an outward expression of an inward change!
URL:https://fairlawncog.org/event/water-baptism/
LOCATION:Fairlawn Church of God\, 7858 Peppers Ferry Blvd.\, Radford\, VA\, 24141\, United States
ORGANIZER;CN="Pastor Marcus Harrison":MAILTO:office@fairlawncog.org
END:VEVENT
BEGIN:VEVENT
DTSTART;TZID=UTC:20240922T110000
DTEND;TZID=UTC:20240922T140000
DTSTAMP:20260421T115216
CREATED:20240830T005801Z
LAST-MODIFIED:20240830T005801Z
UID:1144-1727002800-1727013600@fairlawncog.org
SUMMARY:PASTOR'S MESSAGE
DESCRIPTION:On Sunday September 22nd at 11AM\, Pastor Marcus will be preaching a special message entitled\, “The God on the Mountain is still God in the Valley.”  We all have mountain top experiences\, and we all journey through deep lonely valleys.  The same God that gives you victory on the mountain is the same God that gives you victory in the valley.  He’s with you always\, in the good times and the bad.  Join us for this powerful Word from our Pastor!
URL:https://fairlawncog.org/event/pastors-message-2/
LOCATION:Fairlawn Church of God\, 7858 Peppers Ferry Blvd.\, Radford\, VA\, 24141\, United States
ORGANIZER;CN="Pastor Marcus Harrison":MAILTO:office@fairlawncog.org
END:VEVENT
BEGIN:VEVENT
DTSTART;TZID=UTC:20240918T190000
DTEND;TZID=UTC:20240921T210000
DTSTAMP:20260421T115216
CREATED:20240830T005624Z
LAST-MODIFIED:20240830T005624Z
UID:1142-1726686000-1726952400@fairlawncog.org
SUMMARY:DISTRICT REVIVAL
DESCRIPTION:On Wednesday September 18th through Saturday September 21st\, our Radford COG District will be having a District Revival at New Hope COG in Christiansburg.  The Revival will feature Rev. Tim Hill\, Rev. Donald Jones\, Rev. Travis Gore\, and Rev. Toby Morgan.  Services will be held at 7PM nightly.  Our Praise and Worship Team will be leading worship on Saturday night.  Make plans to join us!
URL:https://fairlawncog.org/event/district-revival/
LOCATION:New Hope Church of God
END:VEVENT
BEGIN:VEVENT
DTSTART;TZID=UTC:20240917T183000
DTEND;TZID=UTC:20240917T203000
DTSTAMP:20260421T115216
CREATED:20240830T005442Z
LAST-MODIFIED:20240830T005442Z
UID:1140-1726597800-1726605000@fairlawncog.org
SUMMARY:SENIOR ADULT MINISTRY
DESCRIPTION:On Tuesday September 17th at 6:30PM\, our Senior Adults\, “Tried and True Ministry\,” will be having their monthly meeting in the Fellowship Hall.  All folks\, ages 50+\, are invited to join them for a time of food\, fun\, and fellowship.  Please bring a dish to share for a potluck meal and join them for this monthly meeting.  See Pastor Joey or Lisa Sheppard for more information.
URL:https://fairlawncog.org/event/senior-adult-ministry-10/
LOCATION:Fairlawn Church of God Fellowship Hall\, 7858 Peppers Ferry Blvd.\, Radford\, VA\, 24141\, United States
ORGANIZER;CN="Pastor Joey and Lisa Shepphard":MAILTO:office@fairlawncog.org
END:VEVENT
BEGIN:VEVENT
DTSTART;TZID=UTC:20240914T190000
DTEND;TZID=UTC:20240914T203000
DTSTAMP:20260421T115216
CREATED:20240830T005340Z
LAST-MODIFIED:20240830T005340Z
UID:1137-1726340400-1726345800@fairlawncog.org
SUMMARY:FREE COMMUNITY MOVIE NIGHT
DESCRIPTION:On Friday and Saturday September 13th and 14th at 7PM\, we will be sponsoring a FREE movie night at Scarrette’s Radford Cinema to see “God’s Not Dead – In God We Trust.”  On Friday\, the show will be for our church family (ticket required) and on Saturday\, it will be general admission to the public (no ticket required).  We look forward to sharing this movie night with you!
URL:https://fairlawncog.org/event/free-community-movie-night-2/
LOCATION:VA
ORGANIZER;CN="Pastor Marcus Harrison":MAILTO:office@fairlawncog.org
END:VEVENT
BEGIN:VEVENT
DTSTART;TZID=UTC:20240913T190000
DTEND;TZID=UTC:20240913T203000
DTSTAMP:20260421T115216
CREATED:20240830T005259Z
LAST-MODIFIED:20240830T005259Z
UID:1136-1726254000-1726259400@fairlawncog.org
SUMMARY:FREE COMMUNITY MOVIE NIGHT
DESCRIPTION:On Friday and Saturday September 13th and 14th at 7PM\, we will be sponsoring a FREE movie night at Scarrette’s Radford Cinema to see “God’s Not Dead – In God We Trust.”  On Friday\, the show will be for our church family (ticket required) and on Saturday\, it will be general admission to the public (no ticket required).  We look forward to sharing this movie night with you!
URL:https://fairlawncog.org/event/free-community-movie-night/
LOCATION:VA
ORGANIZER;CN="Pastor Marcus Harrison":MAILTO:office@fairlawncog.org
END:VEVENT
BEGIN:VEVENT
DTSTART;TZID=UTC:20240910T183000
DTEND;TZID=UTC:20240910T200000
DTSTAMP:20260421T115216
CREATED:20240830T002532Z
LAST-MODIFIED:20240830T002532Z
UID:1134-1725993000-1725998400@fairlawncog.org
SUMMARY:LADIES MINISTRY MEETING
DESCRIPTION:On Tuesday September 10th at 6:30PM\, our Ladies Ministry will be having their monthly meeting in the Fellowship Hall.  They will enjoy an evening of good food and fellowship\, as well as conduct their ministry meeting.  All ladies are cordially invited to join them every month for a great time of fellowship.  Please see Pastor Joni for more information.
URL:https://fairlawncog.org/event/ladies-ministry-meeting-2/
LOCATION:Fairlawn Church of God Fellowship Hall\, 7858 Peppers Ferry Blvd.\, Radford\, VA\, 24141\, United States
END:VEVENT
BEGIN:VEVENT
DTSTART;TZID=UTC:20240909T180000
DTEND;TZID=UTC:20240909T193000
DTSTAMP:20260421T115216
CREATED:20240830T002348Z
LAST-MODIFIED:20240830T002348Z
UID:1130-1725904800-1725910200@fairlawncog.org
SUMMARY:JAIL AND PRISON MINISTRY
DESCRIPTION:On Mondays September 9th at 23rd at 6PM\, our Jail and Prison Ministry will be going to the NRV Regional Jail for their bi-weekly ministry meeting.  If you’re interested in helping with this outreach ministry\, please see Matt Sutphin.  They can use male or female volunteers since the jail has both male and female inmates.
URL:https://fairlawncog.org/event/jail-and-prison-ministry-12/
LOCATION:NRV Regional Jail
END:VEVENT
BEGIN:VEVENT
DTSTART;TZID=UTC:20240908T110000
DTEND;TZID=UTC:20240908T140000
DTSTAMP:20260421T115216
CREATED:20240830T002211Z
LAST-MODIFIED:20240830T002211Z
UID:1128-1725793200-1725804000@fairlawncog.org
SUMMARY:GRANDPARENT'S DAY
DESCRIPTION:On Sunday September 8th at 11AM\, we will be honoring all of our grandparents with a special Grandparent’s Day celebration!  Kevin Spencer will be our special guest for the day and every grandparent in attendance will receive a small gift from the church.  Mark your calendar and make plans now to join us for this special day as we honor our grandparents.
URL:https://fairlawncog.org/event/grandparents-day-2/
LOCATION:Fairlawn Church of God\, 7858 Peppers Ferry Blvd.\, Radford\, VA\, 24141\, United States
ORGANIZER;CN="Pastor Marcus Harrison":MAILTO:office@fairlawncog.org
END:VEVENT
BEGIN:VEVENT
DTSTART;TZID=UTC:20240907T090000
DTEND;TZID=UTC:20240907T170000
DTSTAMP:20260421T115216
CREATED:20240830T002112Z
LAST-MODIFIED:20240830T002112Z
UID:1126-1725699600-1725728400@fairlawncog.org
SUMMARY:GIRL'S DAY OUT
DESCRIPTION:On Saturday September 7th at 9AM\, our girls in 1st – 12th grade will be going to the VACOG State Campground for Girl’s Day Out!  The theme this year is “The Sweet Life.”  There will be worship\, games\, swimming\, canteen\, crafts\, mini mall\, and MORE!  The cost is $30 per person and all girls are invited to attend.  We will be taking the church van.  Please see our Children’s Pastor\, Rev. Amy Gifford\, for more information.
URL:https://fairlawncog.org/event/girls-day-out/
LOCATION:VA
ORGANIZER;CN="Pastor Adam and Amy Gifford":MAILTO:office@fairlawncog.org
END:VEVENT
BEGIN:VEVENT
DTSTART;TZID=UTC:20240903T183000
DTEND;TZID=UTC:20240903T210000
DTSTAMP:20260421T115216
CREATED:20240830T001954Z
LAST-MODIFIED:20240830T001954Z
UID:1124-1725388200-1725397200@fairlawncog.org
SUMMARY:MEN'S MINISTRY MEETING
DESCRIPTION:On Tuesday September 3rd at 6:30PM\, our Men’s Ministry will be having their monthly meeting in the Fellowship Hall.  BJ McPeak will be sharing his personal testimony\, and we will enjoy some good food and fellowship.  All men are invited to come out for a great time of ministry.  There is a sign-up sheet at the Welcome Center.  Please see Rev. Steve Alley for more information.
URL:https://fairlawncog.org/event/mens-ministry-meeting-2/
LOCATION:Fairlawn Church of God Fellowship Hall\, 7858 Peppers Ferry Blvd.\, Radford\, VA\, 24141\, United States
END:VEVENT
END:VCALENDAR