BEGIN:VCALENDAR
VERSION:2.0
PRODID:-//Fairlawn Church of God - ECPv6.15.20//NONSGML v1.0//EN
CALSCALE:GREGORIAN
METHOD:PUBLISH
X-WR-CALNAME:Fairlawn Church of God
X-ORIGINAL-URL:https://fairlawncog.org
X-WR-CALDESC:Events for Fairlawn Church of God
REFRESH-INTERVAL;VALUE=DURATION:PT1H
X-Robots-Tag:noindex
X-PUBLISHED-TTL:PT1H
BEGIN:VTIMEZONE
TZID:UTC
BEGIN:STANDARD
TZOFFSETFROM:+0000
TZOFFSETTO:+0000
TZNAME:UTC
DTSTART:20230101T000000
END:STANDARD
END:VTIMEZONE
BEGIN:VEVENT
DTSTART;TZID=UTC:20250126T160000
DTEND;TZID=UTC:20250126T170000
DTSTAMP:20260421T083026
CREATED:20250103T222201Z
LAST-MODIFIED:20250103T222201Z
UID:1254-1737907200-1737910800@fairlawncog.org
SUMMARY:NURSING HOME MINISTRY
DESCRIPTION:On Saturday January 18th at 11AM\, we will be going to Warm Hearth Village in Blacksburg for Bible Study with the residents.  On Sunday January 26th at 4PM\, we’ll be going back for our regular monthly Nursing Home Ministry.  If you enjoy visiting with the elderly\, please consider this wonderful ministry.  For more info\, please see Matt Sutphin.
URL:https://fairlawncog.org/event/nursing-home-ministry-18/
LOCATION:Warm Hearth Village\, 2387 Warm Hearth Dr\, Blacksburg\, VA\, 24060\, United States
END:VEVENT
BEGIN:VEVENT
DTSTART;TZID=UTC:20250126T110000
DTEND;TZID=UTC:20250126T133000
DTSTAMP:20260421T083026
CREATED:20250103T215543Z
LAST-MODIFIED:20250103T220441Z
UID:1225-1737889200-1737898200@fairlawncog.org
SUMMARY:NEW SERMON SERIES
DESCRIPTION:Continuing Sunday January 26th at 11AM\, Pastor Marcus will begin a BRAND-NEW Sermon Series entitled\, “Hear From Heaven.”   Over the course of the next few weeks\, we’ll be discussing how to hear\, discern\, know\, and obey the voice of the Lord.  Some folks might ask the question\, is God still speaking.  The real question is\, are His people still listening.  Join us for this powerful new Series as we humble ourselves\, pray\, and seek to hear from heaven!
URL:https://fairlawncog.org/event/new-sermon-series-12/
LOCATION:Fairlawn Church of God\, 7858 Peppers Ferry Blvd.\, Radford\, VA\, 24141\, United States
ORGANIZER;CN="Pastor Marcus Harrison":MAILTO:office@fairlawncog.org
END:VEVENT
BEGIN:VEVENT
DTSTART;TZID=UTC:20250121T183000
DTEND;TZID=UTC:20250121T203000
DTSTAMP:20260421T083026
CREATED:20250103T222339Z
LAST-MODIFIED:20250103T222339Z
UID:1256-1737484200-1737491400@fairlawncog.org
SUMMARY:SENIOR ADULT MINISTRY
DESCRIPTION:On Tuesday January 21st at 6:30PM\, our Senior Adults\, “Tried and True Ministry\,” will be having their monthly meeting in the Fellowship Hall.  All folks\, ages 50+\, are invited to join them for a time of food\, fun\, and fellowship.  Please bring a dish to share for a potluck meal and join them for this monthly meeting.  See Pastor Joey or Lisa Sheppard for more information.
URL:https://fairlawncog.org/event/senior-adult-ministry-13/
LOCATION:Fairlawn Church of God Fellowship Hall\, 7858 Peppers Ferry Blvd.\, Radford\, VA\, 24141\, United States
ORGANIZER;CN="Pastor Joey and Lisa Shepphard":MAILTO:office@fairlawncog.org
END:VEVENT
BEGIN:VEVENT
DTSTART;TZID=UTC:20250119T110000
DTEND;TZID=UTC:20250119T133000
DTSTAMP:20260421T083026
CREATED:20250103T215448Z
LAST-MODIFIED:20250103T221034Z
UID:1222-1737284400-1737293400@fairlawncog.org
SUMMARY:NEW SERMON SERIES
DESCRIPTION:Continuing Sunday January 19th at 11AM\, Pastor Marcus will begin a BRAND-NEW Sermon Series entitled\, “Hear From Heaven.”   Over the course of the next few weeks\, we’ll be discussing how to hear\, discern\, know\, and obey the voice of the Lord.  Some folks might ask the question\, is God still speaking.  The real question is\, are His people still listening.  Join us for this powerful new Series as we humble ourselves\, pray\, and seek to hear from heaven!
URL:https://fairlawncog.org/event/new-sermon-series-11/
LOCATION:Fairlawn Church of God\, 7858 Peppers Ferry Blvd.\, Radford\, VA\, 24141\, United States
ORGANIZER;CN="Pastor Marcus Harrison":MAILTO:office@fairlawncog.org
END:VEVENT
BEGIN:VEVENT
DTSTART;TZID=UTC:20250118T110000
DTEND;TZID=UTC:20250118T120000
DTSTAMP:20260421T083026
CREATED:20250103T222035Z
LAST-MODIFIED:20250103T222035Z
UID:1252-1737198000-1737201600@fairlawncog.org
SUMMARY:NURSING HOME MINISTRY
DESCRIPTION:On Saturday January 18th at 11AM\, we will be going to Warm Hearth Village in Blacksburg for Bible Study with the residents.  On Sunday January 26th at 4PM\, we’ll be going back for our regular monthly Nursing Home Ministry.  If you enjoy visiting with the elderly\, please consider this wonderful ministry.  For more info\, please see Matt Sutphin.
URL:https://fairlawncog.org/event/nursing-home-ministry-17/
LOCATION:Warm Hearth Village\, 2387 Warm Hearth Dr\, Blacksburg\, VA\, 24060\, United States
END:VEVENT
BEGIN:VEVENT
DTSTART;TZID=UTC:20250115T190000
DTEND;TZID=UTC:20250115T203000
DTSTAMP:20260421T083026
CREATED:20250103T221913Z
LAST-MODIFIED:20250103T221913Z
UID:1250-1736967600-1736973000@fairlawncog.org
SUMMARY:SPECIAL GUEST
DESCRIPTION:On Wednesday January 15th at 7PM\, we will be blessed to have Rev. Danny Johnston for a one-night Super Service!  Rev. Johnston is a powerful communicator of the Gospel\, with a prophetic voice\, who travels the world telling people about Jesus!  Don’t miss this powerful night filled with anointed Worship and the Word!
URL:https://fairlawncog.org/event/special-guest/
LOCATION:Fairlawn Church of God\, 7858 Peppers Ferry Blvd.\, Radford\, VA\, 24141\, United States
ORGANIZER;CN="Pastor Marcus Harrison":MAILTO:office@fairlawncog.org
END:VEVENT
BEGIN:VEVENT
DTSTART;TZID=UTC:20250114T183000
DTEND;TZID=UTC:20250114T203000
DTSTAMP:20260421T083026
CREATED:20250103T221810Z
LAST-MODIFIED:20250103T221810Z
UID:1248-1736879400-1736886600@fairlawncog.org
SUMMARY:LADIES MINISTRY MEETING
DESCRIPTION:On Tuesday January 14th at 6:30PM\, our Ladies Ministry will be having their monthly gathering in the Fellowship Hall.  They will enjoy an evening of good food and fellowship\, as well as conduct their ministry meeting.  All ladies are cordially invited to join them every month for a great time of fun and fellowship.  Please see Pastor Joni for more information.
URL:https://fairlawncog.org/event/ladies-ministry-meeting-5/
LOCATION:Fairlawn Church of God Fellowship Hall\, 7858 Peppers Ferry Blvd.\, Radford\, VA\, 24141\, United States
END:VEVENT
BEGIN:VEVENT
DTSTART;TZID=UTC:20250113T193000
DTEND;TZID=UTC:20250113T203000
DTSTAMP:20260421T083026
CREATED:20250103T221557Z
LAST-MODIFIED:20250103T221557Z
UID:1244-1736796600-1736800200@fairlawncog.org
SUMMARY:JAIL AND PRISON MINISTRY
DESCRIPTION:On Mondays January 13th and 27th at 7:30PM\, our Jail and Prison Ministry will be going to the NRV Regional Jail for their bi-weekly ministry meeting.  If you’re interested in helping with this outreach ministry\, please see Matt Sutphin.  They can use male or female volunteers since the jail has both male and female inmates.
URL:https://fairlawncog.org/event/jail-and-prison-ministry-17/
LOCATION:NRV Regional Jail
END:VEVENT
BEGIN:VEVENT
DTSTART;TZID=UTC:20250112T110000
DTEND;TZID=UTC:20250112T133000
DTSTAMP:20260421T083026
CREATED:20250103T215212Z
LAST-MODIFIED:20250103T220939Z
UID:1221-1736679600-1736688600@fairlawncog.org
SUMMARY:NEW SERMON SERIES
DESCRIPTION:On Sunday January 12th at 11AM\, Pastor Marcus will begin a BRAND-NEW Sermon Series entitled\, “Hear From Heaven.”   Over the course of the next few weeks\, we’ll be discussing how to hear\, discern\, know\, and obey the voice of the Lord.  Some folks might ask the question\, is God still speaking.  The real question is\, are His people still listening.  Join us for this powerful new Series as we humble ourselves\, pray\, and seek to hear from heaven!
URL:https://fairlawncog.org/event/new-sermon-series-10/
LOCATION:Fairlawn Church of God\, 7858 Peppers Ferry Blvd.\, Radford\, VA\, 24141\, United States
ORGANIZER;CN="Pastor Marcus Harrison":MAILTO:office@fairlawncog.org
END:VEVENT
BEGIN:VEVENT
DTSTART;TZID=UTC:20250105T110000
DTEND;TZID=UTC:20250105T133000
DTSTAMP:20260421T083026
CREATED:20250103T214826Z
LAST-MODIFIED:20250103T214826Z
UID:1217-1736074800-1736083800@fairlawncog.org
SUMMARY:PASTOR JONI'S WORD FOR 2025
DESCRIPTION:On Sunday January 5th at 11AM\, Pastor Joni will be preaching a special message to start the New Year.  Every year\, the Lord gives her a Word for that year and the Word for 2025 is ALIVE.  It stands for “Always Living In Victory Every Day!”  You don’t have to walk around defeated!  You don’t have to live downtrodden!  God has promised you victory every day and in every way!  Don’t miss this powerful Word!
URL:https://fairlawncog.org/event/pastor-jonis-word-for-2025/
LOCATION:Fairlawn Church of God\, 7858 Peppers Ferry Blvd.\, Radford\, VA\, 24141\, United States
END:VEVENT
BEGIN:VEVENT
DTSTART;VALUE=DATE:20250105
DTEND;VALUE=DATE:20250126
DTSTAMP:20260421T083026
CREATED:20250103T215024Z
LAST-MODIFIED:20250103T215024Z
UID:1219-1736035200-1737849599@fairlawncog.org
SUMMARY:21 DAYS OF PRAYER AND FASTING
DESCRIPTION:On Sunday January 5th through Saturday\, January 25th\, we will be participating in our annual 21 Days of Fasting and Prayer!  We fast because it is a necessary spiritual discipline that rejects the flesh and heightens our spiritual awareness.  Jesus said some things only come about by prayer and fasting.  We believe this corporate time of fasting sets the tone for the coming year.  Join us\, however you feel led\, on this spiritual journey of focused\, intentional prayer and fasting.
URL:https://fairlawncog.org/event/21-days-of-prayer-and-fasting-2/
LOCATION:Fairlawn Church of God\, 7858 Peppers Ferry Blvd.\, Radford\, VA\, 24141\, United States
ORGANIZER;CN="Pastor Marcus Harrison":MAILTO:office@fairlawncog.org
END:VEVENT
BEGIN:VEVENT
DTSTART;TZID=UTC:20250104T083000
DTEND;TZID=UTC:20250104T120000
DTSTAMP:20260421T083026
CREATED:20250103T214703Z
LAST-MODIFIED:20250103T214703Z
UID:1215-1735979400-1735992000@fairlawncog.org
SUMMARY:MEN'S PRAYER BREAKFAST
DESCRIPTION:On Saturday\, January 4th at 8:30AM\, our Men’s Ministry will be having a Men’s Prayer Breakfast in the Fellowship Hall.  They will enjoy good food and fellowship\, and their guest speaker will be Jonathan Marshall.  A sign-up sheet is located at the Welcome Center.  Don’t miss this exciting time for all men to connect and worship together.  Please see Rev. Steve Alley for more information.
URL:https://fairlawncog.org/event/mens-prayer-breakfast/
LOCATION:Fairlawn Church of God Fellowship Hall\, 7858 Peppers Ferry Blvd.\, Radford\, VA\, 24141\, United States
ORGANIZER;CN="Rev. Justin Coleman":MAILTO:office@fairlawncog.org
END:VEVENT
BEGIN:VEVENT
DTSTART;VALUE=DATE:20250101
DTEND;VALUE=DATE:20250102
DTSTAMP:20260421T083026
CREATED:20241203T184526Z
LAST-MODIFIED:20241203T184526Z
UID:1207-1735689600-1735775999@fairlawncog.org
SUMMARY:NO WEDNESDAY NIGHT SERVICE
DESCRIPTION:On Wednesday December 25th and Wednesday January 1st\, we will be cancelling our normal Wednesday night Worship Services due to the Christmas and New Year’s Holidays.  That means our Adult Bible Study\, Rebranded Youth Ministry\, and Kid’s Clubs will all be cancelled until Wed\, January 8th.  Please enjoy this extra time with family and friends\, and Merry CHRISTmas!
URL:https://fairlawncog.org/event/no-wednesday-night-service-2/
LOCATION:Fairlawn Church of God\, 7858 Peppers Ferry Blvd.\, Radford\, VA\, 24141\, United States
ORGANIZER;CN="Pastor Marcus Harrison":MAILTO:office@fairlawncog.org
END:VEVENT
BEGIN:VEVENT
DTSTART;TZID=UTC:20241231T203000
DTEND;TZID=UTC:20250101T000000
DTSTAMP:20260421T083026
CREATED:20241203T184924Z
LAST-MODIFIED:20241203T184924Z
UID:1211-1735677000-1735689600@fairlawncog.org
SUMMARY:YOUNG ADULT NEW YEAR'S EVE SERVICE
DESCRIPTION:On Tuesday December 31st at 8:30PM\, our Young Adult Ministry will be sponsoring a New Year’s Eve Service with Worship\, Prayer\, Ministry\, food\, and fellowship!  Everyone is invited to come and stay as long as you want.  You don’t have to stay until 12AM\, but you are certainly welcome to join them as they bring in the New Year with Jesus at the center of it all!  Let’s welcome 2025 together!
URL:https://fairlawncog.org/event/young-adult-new-years-eve-service/
LOCATION:Fairlawn Church of God Fellowship Hall\, 7858 Peppers Ferry Blvd.\, Radford\, VA\, 24141\, United States
ORGANIZER;CN="Rev. Justin Coleman":MAILTO:office@fairlawncog.org
END:VEVENT
BEGIN:VEVENT
DTSTART;TZID=UTC:20241229T110000
DTEND;TZID=UTC:20241229T140000
DTSTAMP:20260421T083026
CREATED:20241203T184746Z
LAST-MODIFIED:20241203T184746Z
UID:1209-1735470000-1735480800@fairlawncog.org
SUMMARY:MISSION SUNDAY
DESCRIPTION:On Sunday December 29th at 11AM\, we’ll be having our 5th Sunday Mission Sunday with Dawn Sandoval and The Least of These Ministry out of Roanoke\, VA.  TLOT is a non-profit organization whose mission is to meet the needs of the homeless in Roanoke by serving them with spiritual\, physical\, and emotional support in the name of Jesus.  Please pray about what you can give to this ministry.  When you’ve done it to THE LEAST OF THESE\, you’ve done it unto Him!
URL:https://fairlawncog.org/event/mission-sunday-5/
LOCATION:Fairlawn Church of God\, 7858 Peppers Ferry Blvd.\, Radford\, VA\, 24141\, United States
ORGANIZER;CN="Pastor Marcus Harrison":MAILTO:office@fairlawncog.org
END:VEVENT
BEGIN:VEVENT
DTSTART;VALUE=DATE:20241225
DTEND;VALUE=DATE:20241226
DTSTAMP:20260421T083026
CREATED:20241203T184435Z
LAST-MODIFIED:20241203T184435Z
UID:1205-1735084800-1735171199@fairlawncog.org
SUMMARY:NO WEDNESDAY NIGHT SERVICE
DESCRIPTION:On Wednesday December 25th and Wednesday January 1st\, we will be cancelling our normal Wednesday night Worship Services due to the Christmas and New Year’s Holidays.  That means our Adult Bible Study\, Rebranded Youth Ministry\, and Kid’s Clubs will all be cancelled until Wed\, January 8th.  Please enjoy this extra time with family and friends\, and Merry CHRISTmas!
URL:https://fairlawncog.org/event/no-wednesday-night-service/
LOCATION:Fairlawn Church of God\, 7858 Peppers Ferry Blvd.\, Radford\, VA\, 24141\, United States
ORGANIZER;CN="Pastor Marcus Harrison":MAILTO:office@fairlawncog.org
END:VEVENT
BEGIN:VEVENT
DTSTART;TZID=UTC:20241223T193000
DTEND;TZID=UTC:20241223T203000
DTSTAMP:20260421T083026
CREATED:20241203T182918Z
LAST-MODIFIED:20241203T182918Z
UID:1191-1734982200-1734985800@fairlawncog.org
SUMMARY:JAIL AND PRISON MINISTRY
DESCRIPTION:On Mondays December 9th and 23rd at 7:30PM\, our Jail and Prison Ministry will be going to the NRV Regional Jail for their bi-weekly ministry meeting.  If you’re interested in helping with this outreach ministry\, please see Matt Sutphin.  They can use male or female volunteers since the jail has both male and female inmates.
URL:https://fairlawncog.org/event/jail-and-prison-ministry-16/
LOCATION:NRV Regional Jail
END:VEVENT
BEGIN:VEVENT
DTSTART;TZID=UTC:20241222T110000
DTEND;TZID=UTC:20241222T140000
DTSTAMP:20260421T083026
CREATED:20241203T184337Z
LAST-MODIFIED:20241203T184337Z
UID:1203-1734865200-1734876000@fairlawncog.org
SUMMARY:CHRISTMAS MESSAGE
DESCRIPTION:On Sunday December 22nd at 11AM\, Pastor Marcus will be preaching a special Christmas message entitled\, “Oh\, Come Let Us Adore Him.”  There was a multitude at His birth singing\, “Glory to God in the Highest\,” and a multitude of people have stayed in that same position for the last 2\,000 years.  We still praise and magnify God today for the baby in the manger and the King on the throne!  He deserves all the glory\, all the honor\, and all the praise!  Oh\, come let us adore Him!
URL:https://fairlawncog.org/event/christmas-message/
LOCATION:Fairlawn Church of God\, 7858 Peppers Ferry Blvd.\, Radford\, VA\, 24141\, United States
ORGANIZER;CN="Pastor Marcus Harrison":MAILTO:office@fairlawncog.org
END:VEVENT
BEGIN:VEVENT
DTSTART;TZID=UTC:20241221T110000
DTEND;TZID=UTC:20241222T160000
DTSTAMP:20260421T083026
CREATED:20241203T184226Z
LAST-MODIFIED:20241203T184226Z
UID:1201-1734778800-1734883200@fairlawncog.org
SUMMARY:NURSING HOME MINISTRY
DESCRIPTION:On Saturday December 21st at 11AM\, we will be going to Warm Hearth Village in Blacksburg for Bible Study with the residents.  On Sunday December 22nd at 4PM\, we’ll be going back for our regular monthly Nursing Home Ministry.  If you enjoy visiting with the elderly\, please consider this ministry.  For more info\, please see Matt Sutphin.
URL:https://fairlawncog.org/event/nursing-home-ministry-16/
LOCATION:Warm Hearth Village\, 2387 Warm Hearth Dr\, Blacksburg\, VA\, 24060\, United States
END:VEVENT
BEGIN:VEVENT
DTSTART;TZID=UTC:20241217T183000
DTEND;TZID=UTC:20241217T203000
DTSTAMP:20260421T083026
CREATED:20241203T184047Z
LAST-MODIFIED:20241203T184047Z
UID:1199-1734460200-1734467400@fairlawncog.org
SUMMARY:SENIOR ADULT MINISTRY
DESCRIPTION:On Tuesday December 17th at 6:30PM\, our Senior Adults\, “Tried and True Ministry\,” will be having their monthly meeting in the Fellowship Hall.  All folks\, ages 50+\, are invited to join them for a time of food\, fun\, and fellowship.  Please bring a dish to share for a potluck meal and join them for this monthly meeting.  See Pastor Joey or Lisa Sheppard for more information.
URL:https://fairlawncog.org/event/senior-adult-ministry-12/
LOCATION:Fairlawn Church of God Fellowship Hall\, 7858 Peppers Ferry Blvd.\, Radford\, VA\, 24141\, United States
ORGANIZER;CN="Pastor Joey and Lisa Shepphard":MAILTO:office@fairlawncog.org
END:VEVENT
BEGIN:VEVENT
DTSTART;TZID=UTC:20241215T140000
DTEND;TZID=UTC:20241215T160000
DTSTAMP:20260421T083026
CREATED:20241203T183914Z
LAST-MODIFIED:20241203T183914Z
UID:1197-1734271200-1734278400@fairlawncog.org
SUMMARY:DESSERT AUCTION
DESCRIPTION:On Sunday December 15th\, immediately following our Christmas Concert\, our Rebranded Youth Ministry will be having their first-ever Dessert Auction in the Fellowship Hall!  There will be some delicious homemade desserts up for bid with all proceeds going to benefit our Youth Trip to Winterfest!  If you make a dynamite dessert and would like to donate one for the auction\, please see our Youth Pastor ASAP!  Make plans to join us for our Dessert Auction with Auctioneer Matthew Lucas\, and happy bidding!
URL:https://fairlawncog.org/event/dessert-auction/
LOCATION:Fairlawn Church of God Fellowship Hall\, 7858 Peppers Ferry Blvd.\, Radford\, VA\, 24141\, United States
END:VEVENT
BEGIN:VEVENT
DTSTART;TZID=UTC:20241215T110000
DTEND;TZID=UTC:20241215T133000
DTSTAMP:20260421T083026
CREATED:20241203T183623Z
LAST-MODIFIED:20241203T183623Z
UID:1195-1734260400-1734269400@fairlawncog.org
SUMMARY:CHRISTMAS CONCERT
DESCRIPTION:On Sunday December 15th at 11AM\, our Praise Team and Sanctuary Choir will be presenting their annual Christmas Concert!  There will be old Christmas classics\, as well as some new Christmas carols.  Our Rebranded Youth Ministry and Kid’s Church will also have a special presentation.  Don’t miss this year’s Concert as we celebrate the Reason for the Season!
URL:https://fairlawncog.org/event/christmas-concert-2/
LOCATION:Fairlawn Church of God\, 7858 Peppers Ferry Blvd.\, Radford\, VA\, 24141\, United States
END:VEVENT
BEGIN:VEVENT
DTSTART;TZID=UTC:20241210T190000
DTEND;TZID=UTC:20241210T210000
DTSTAMP:20260421T083026
CREATED:20241203T182352Z
LAST-MODIFIED:20241203T182352Z
UID:1184-1733857200-1733864400@fairlawncog.org
SUMMARY:FCOG CHRISTMAS PARADE
DESCRIPTION:On Saturday December 7th at 11AM\, FCOG will be participating in the Dublin Christmas parade.  Also\, on Tuesday\, December 10th at 7PM\, we will be participating in the Radford Christmas parade.  If you are interested in helping out with the parades this year\, please see Alicia Harrison or Felicia Jones.  We will be decorating the week prior at the church.
URL:https://fairlawncog.org/event/fcog-christmas-parade-2/
LOCATION:Radford\, VA
ORGANIZER;CN="Pastor Marcus Harrison":MAILTO:office@fairlawncog.org
END:VEVENT
BEGIN:VEVENT
DTSTART;TZID=UTC:20241209T193000
DTEND;TZID=UTC:20241209T203000
DTSTAMP:20260421T083026
CREATED:20241203T182803Z
LAST-MODIFIED:20241203T182803Z
UID:1189-1733772600-1733776200@fairlawncog.org
SUMMARY:JAIL AND PRISON MINISTRY
DESCRIPTION:On Mondays December 9th and 23rd at 7:30PM\, our Jail and Prison Ministry will be going to the NRV Regional Jail for their bi-weekly ministry meeting.  If you’re interested in helping with this outreach ministry\, please see Matt Sutphin.  They can use male or female volunteers since the jail has both male and female inmates.
URL:https://fairlawncog.org/event/jail-and-prison-ministry-15/
LOCATION:NRV Regional Jail
END:VEVENT
BEGIN:VEVENT
DTSTART;TZID=UTC:20241209T183000
DTEND;TZID=UTC:20241209T203000
DTSTAMP:20260421T083026
CREATED:20241203T183105Z
LAST-MODIFIED:20241203T183105Z
UID:1193-1733769000-1733776200@fairlawncog.org
SUMMARY:LADIES MINISTRY MEETING
DESCRIPTION:On Monday December 9th at 6:30PM\, our Ladies Ministry will be having their Christmas gathering in the Fellowship Hall (this month’s meeting will be on Monday instead of Tuesday due to the Christmas Parade).  They will enjoy an evening of good food and fellowship\, as well as conduct their ministry meeting.  All ladies are cordially invited to join them every month for a great time of fun and fellowship.  Please see Pastor Joni for more information.
URL:https://fairlawncog.org/event/ladies-ministry-meeting-4/
LOCATION:Fairlawn Church of God Fellowship Hall\, 7858 Peppers Ferry Blvd.\, Radford\, VA\, 24141\, United States
END:VEVENT
BEGIN:VEVENT
DTSTART;TZID=UTC:20241208T133000
DTEND;TZID=UTC:20241208T180000
DTSTAMP:20260421T083026
CREATED:20241203T182627Z
LAST-MODIFIED:20241203T182627Z
UID:1187-1733664600-1733680800@fairlawncog.org
SUMMARY:CHRISTMAS BANQUET
DESCRIPTION:On Sunday December 8th\, immediately following our morning Worship Service\, we will be having our church-wide Christmas Banquet in the Fellowship Hall.  It will be an afternoon of festive fun\, fellowship\, games\, and prizes!  We ask that each family please bring a meat\, side\, and dessert for the potluck meal.  Invite a friend to join you for our Christmas Banquet!
URL:https://fairlawncog.org/event/christmas-banquet/
LOCATION:Fairlawn Church of God Fellowship Hall\, 7858 Peppers Ferry Blvd.\, Radford\, VA\, 24141\, United States
ORGANIZER;CN="Pastor Marcus Harrison":MAILTO:office@fairlawncog.org
END:VEVENT
BEGIN:VEVENT
DTSTART;TZID=UTC:20241207T110000
DTEND;TZID=UTC:20241207T150000
DTSTAMP:20260421T083026
CREATED:20241203T182239Z
LAST-MODIFIED:20241203T182239Z
UID:1181-1733569200-1733583600@fairlawncog.org
SUMMARY:FCOG CHRISTMAS PARADE
DESCRIPTION:On Saturday December 7th at 11AM\, FCOG will be participating in the Dublin Christmas parade.  Also\, on Tuesday\, December 10th at 7PM\, we will be participating in the Radford Christmas parade.  If you are interested in helping out with the parades this year\, please see Alicia Harrison or Felicia Jones.  We will be decorating the week prior at the church.
URL:https://fairlawncog.org/event/fcog-christmas-parade/
LOCATION:Dublin\, VA
ORGANIZER;CN="Pastor Marcus Harrison":MAILTO:office@fairlawncog.org
END:VEVENT
BEGIN:VEVENT
DTSTART;TZID=UTC:20241201T110000
DTEND;TZID=UTC:20241215T140000
DTSTAMP:20260421T083026
CREATED:20241203T182058Z
LAST-MODIFIED:20241203T182058Z
UID:1179-1733050800-1734271200@fairlawncog.org
SUMMARY:ANGEL TREE MINISTRY
DESCRIPTION:On Sunday\, December 1st\, our Jail and Prison Ministry will be giving out 56 Angel Tree ornaments for children with incarcerated parents.  Each ornament will have a child’s name with something they would like for Christmas.  All gifts will need to be returned to the church no later than Sunday\, December 15th.  They will be delivered to the children the following weekend.  If you can help with this wonderful ministry\, please sign up at the Welcome Center today. \n 
URL:https://fairlawncog.org/event/angel-tree-ministry/
LOCATION:Fairlawn Church of God\, 7858 Peppers Ferry Blvd.\, Radford\, VA\, 24141\, United States
ORGANIZER;CN="Pastor Marcus Harrison":MAILTO:office@fairlawncog.org
END:VEVENT
BEGIN:VEVENT
DTSTART;TZID=UTC:20241031T180000
DTEND;TZID=UTC:20241031T190000
DTSTAMP:20260421T083026
CREATED:20241002T140716Z
LAST-MODIFIED:20241002T140729Z
UID:1177-1730397600-1730401200@fairlawncog.org
SUMMARY:KID'S FALL FESTIVAL
DESCRIPTION:On Thursday October 31st at 6PM\, we will be hosting our Kid’s Fall Festival with special guest\, David Cain.  David is a Guinness World Record Holder and is a world-renown juggler.  Following the show with David Cain\, kids will enjoy FREE food\, carnival games\, and a Trunk-or-Treat!  Kids\, ages 12 and under\, are encouraged to dress up (please nothing spooky).  We are also in need of bags of individually wrapped pieces of candy.  Please drop those off in the Hospitality Room.  Also\, sign up at the Welcome Center today if you can help in any way!
URL:https://fairlawncog.org/event/kids-fall-festival-2/
LOCATION:Fairlawn Church of God\, 7858 Peppers Ferry Blvd.\, Radford\, VA\, 24141\, United States
ORGANIZER;CN="Pastor Adam and Amy Gifford":MAILTO:office@fairlawncog.org
END:VEVENT
BEGIN:VEVENT
DTSTART;TZID=UTC:20241027T160000
DTEND;TZID=UTC:20241027T170000
DTSTAMP:20260421T083026
CREATED:20241002T140245Z
LAST-MODIFIED:20241002T140245Z
UID:1173-1730044800-1730048400@fairlawncog.org
SUMMARY:NURSING HOME MINISTRY
DESCRIPTION:On Monday October 21st at 3PM\, we will be going to Warm Hearth Village in Blacksburg for Bible Study with the residents.  On Sunday October 27th at 4PM\, we’ll be going back for our regular monthly Nursing Home Ministry.  If you enjoy visiting with the elderly\, please consider this ministry.  For more information\, please see Matt Sutphin.  Remember\, when you’ve done it to the least of these\, you’ve done it to Him!
URL:https://fairlawncog.org/event/nursing-home-ministry-15/
LOCATION:Warm Hearth Village\, 2387 Warm Hearth Dr\, Blacksburg\, VA\, 24060\, United States
END:VEVENT
END:VCALENDAR