BEGIN:VCALENDAR
VERSION:2.0
PRODID:-//Fairlawn Church of God - ECPv6.15.20//NONSGML v1.0//EN
CALSCALE:GREGORIAN
METHOD:PUBLISH
X-ORIGINAL-URL:https://fairlawncog.org
X-WR-CALDESC:Events for Fairlawn Church of God
REFRESH-INTERVAL;VALUE=DURATION:PT1H
X-Robots-Tag:noindex
X-PUBLISHED-TTL:PT1H
BEGIN:VTIMEZONE
TZID:UTC
BEGIN:STANDARD
TZOFFSETFROM:+0000
TZOFFSETTO:+0000
TZNAME:UTC
DTSTART:20240101T000000
END:STANDARD
END:VTIMEZONE
BEGIN:VEVENT
DTSTART;TZID=UTC:20250330T110000
DTEND;TZID=UTC:20250330T133000
DTSTAMP:20260421T025204
CREATED:20250306T033427Z
LAST-MODIFIED:20250306T033427Z
UID:1332-1743332400-1743341400@fairlawncog.org
SUMMARY:KID'S CHURCH
DESCRIPTION:Continuing in March at 11AM\, our Kid’s Church will continue a new Series in The Gospel Project entitled\, “God’s Rescue Plan.”  During this Series\, our kids will be learning how God blessed Abraham\, God provided Isaac\, God changed Jacob\, God rescued Joseph\, and God has a plan for everything and everybody!  Bring your kids\, ages 3-12\, every Sunday for Kid’s Church!
URL:https://fairlawncog.org/event/kids-church-4/
LOCATION:Fairlawn Church of God\, 7858 Peppers Ferry Blvd.\, Radford\, VA\, 24141\, United States
ORGANIZER;CN="Pastor Adam and Amy Gifford":MAILTO:office@fairlawncog.org
END:VEVENT
BEGIN:VEVENT
DTSTART;TZID=UTC:20250330T110000
DTEND;TZID=UTC:20250330T133000
DTSTAMP:20260421T025204
CREATED:20250305T205443Z
LAST-MODIFIED:20250306T033958Z
UID:1322-1743332400-1743341400@fairlawncog.org
SUMMARY:NEW SERMON SERIES
DESCRIPTION:Continuing in March at 11AM\, Pastor Marcus will continue a BRAND NEW Sermon Series entitled\, “The Elements of Easter.”   Over the course of the next few weeks\, we’ll be taking an in-depth look at several different elements of the crucifixion of Christ\, starting with the crown of thorns and ending with the empty tomb.  This Series will take us right up to Easter Sunday where we celebrate the resurrection of Jesus
URL:https://fairlawncog.org/event/new-sermon-series-19/
LOCATION:Fairlawn Church of God\, 7858 Peppers Ferry Blvd.\, Radford\, VA\, 24141\, United States
ORGANIZER;CN="Pastor Marcus Harrison":MAILTO:office@fairlawncog.org
END:VEVENT
BEGIN:VEVENT
DTSTART;VALUE=DATE:20250329
DTEND;VALUE=DATE:20250330
DTSTAMP:20260421T025204
CREATED:20250306T034538Z
LAST-MODIFIED:20250306T034538Z
UID:1349-1743206400-1743292799@fairlawncog.org
SUMMARY:TEEN AND JUNIOR TALENT
DESCRIPTION:On Saturday March 29th beginning at 9AM\, several of our kids and teens will be competing in the VACOG Teen and Junior Talent Competition.  They will be sharing in youth band performance\, kid’s band performance\, individual dance solos\, individual vocal solos\, group Bible quizzing\, group praise dance\, junior art\, duet instrumental\, and MORE!  If you’re available\, join us at Celebration Church in Roanoke\, VA to cheer on our kids and show your support!
URL:https://fairlawncog.org/event/teen-and-junior-talent/
LOCATION:Celebration Church of God
END:VEVENT
BEGIN:VEVENT
DTSTART;TZID=UTC:20250324T193000
DTEND;TZID=UTC:20250324T210000
DTSTAMP:20260421T025204
CREATED:20250306T034150Z
LAST-MODIFIED:20250306T034150Z
UID:1339-1742844600-1742850000@fairlawncog.org
SUMMARY:JAIL AND PRISON MINISTRY
DESCRIPTION:On Mondays March 10th and 24th at 7:30PM\, our Jail and Prison Ministry will be going to the NRV Regional Jail for their bi-weekly ministry meeting.  If you’re interested in helping with this outreach ministry\, please see Matt Sutphin.  They can use male or female volunteers since the jail has both male and female inmates.
URL:https://fairlawncog.org/event/jail-and-prison-ministry-22/
LOCATION:NRV Regional Jail
END:VEVENT
BEGIN:VEVENT
DTSTART;TZID=UTC:20250324T180000
DTEND;TZID=UTC:20250326T203000
DTSTAMP:20260421T025204
CREATED:20250305T204721Z
LAST-MODIFIED:20250305T204827Z
UID:1312-1742839200-1743021000@fairlawncog.org
SUMMARY:EASTER DRAMA PRACTICE
DESCRIPTION:On Monday and Tuesday\, March 3rd and 4th\, practices for our upcoming Easter Drama will continue at 6PM nightly.  Beginning Wednesday March 17th\, we will also be adding a Wednesday night practice.  Our normal Wednesday night Service will be postponed until after Easter.  Please keep our Drama and those involved in your daily prayers!
URL:https://fairlawncog.org/event/easter-drama-practice-3/
LOCATION:Fairlawn Church of God\, 7858 Peppers Ferry Blvd.\, Radford\, VA\, 24141\, United States
ORGANIZER;CN="Pastor Marcus Harrison":MAILTO:office@fairlawncog.org
END:VEVENT
BEGIN:VEVENT
DTSTART;TZID=UTC:20250323T160000
DTEND;TZID=UTC:20250323T170000
DTSTAMP:20260421T025204
CREATED:20250306T034345Z
LAST-MODIFIED:20250306T034345Z
UID:1343-1742745600-1742749200@fairlawncog.org
SUMMARY:NURSING HOME MINISTRY
DESCRIPTION:On Thursday March 20th at 3PM\, we will be going to Warm Hearth Village in Blacksburg for Bible Study with the residents.  On Sunday March 23rd at 4PM\, we’ll be going back for our regular monthly Nursing Home Ministry.  If you enjoy visiting with the elderly\, please consider this wonderful ministry.  For more info\, please see Matt Sutphin.
URL:https://fairlawncog.org/event/nursing-home-ministry-22/
LOCATION:Warm Hearth Village\, 2387 Warm Hearth Dr\, Blacksburg\, VA\, 24060\, United States
END:VEVENT
BEGIN:VEVENT
DTSTART;TZID=UTC:20250323T110000
DTEND;TZID=UTC:20250323T133000
DTSTAMP:20260421T025204
CREATED:20250306T033355Z
LAST-MODIFIED:20250306T033355Z
UID:1330-1742727600-1742736600@fairlawncog.org
SUMMARY:KID'S CHURCH
DESCRIPTION:Continuing in March at 11AM\, our Kid’s Church will continue a new Series in The Gospel Project entitled\, “God’s Rescue Plan.”  During this Series\, our kids will be learning how God blessed Abraham\, God provided Isaac\, God changed Jacob\, God rescued Joseph\, and God has a plan for everything and everybody!  Bring your kids\, ages 3-12\, every Sunday for Kid’s Church!
URL:https://fairlawncog.org/event/kids-church-3/
LOCATION:Fairlawn Church of God\, 7858 Peppers Ferry Blvd.\, Radford\, VA\, 24141\, United States
ORGANIZER;CN="Pastor Adam and Amy Gifford":MAILTO:office@fairlawncog.org
END:VEVENT
BEGIN:VEVENT
DTSTART;TZID=UTC:20250323T110000
DTEND;TZID=UTC:20250323T133000
DTSTAMP:20260421T025204
CREATED:20250305T205407Z
LAST-MODIFIED:20250306T033931Z
UID:1320-1742727600-1742736600@fairlawncog.org
SUMMARY:NEW SERMON SERIES
DESCRIPTION:Continuing in March at 11AM\, Pastor Marcus will continue a BRAND NEW Sermon Series entitled\, “The Elements of Easter.”   Over the course of the next few weeks\, we’ll be taking an in-depth look at several different elements of the crucifixion of Christ\, starting with the crown of thorns and ending with the empty tomb.  This Series will take us right up to Easter Sunday where we celebrate the resurrection of Jesus
URL:https://fairlawncog.org/event/new-sermon-series-18/
LOCATION:Fairlawn Church of God\, 7858 Peppers Ferry Blvd.\, Radford\, VA\, 24141\, United States
ORGANIZER;CN="Pastor Marcus Harrison":MAILTO:office@fairlawncog.org
END:VEVENT
BEGIN:VEVENT
DTSTART;TZID=UTC:20250321T163000
DTEND;TZID=UTC:20250321T200000
DTSTAMP:20260421T025204
CREATED:20250306T034456Z
LAST-MODIFIED:20250306T034456Z
UID:1346-1742574600-1742587200@fairlawncog.org
SUMMARY:YOUNG ADULT OUTING
DESCRIPTION:On Friday March 21st at 4:30PM\, our Young Adult Ministry will be going to Sal’s Jr for dinner and to a Roanoke Rail Yard Dawgs Hockey Game!  They will meet first at Sal’s to eat and then take the church van to Roanoke to watch the game.  Please use the QR code to purchase your tickets for the game.  RSVP no later than March 16th.  See Pastor Justin or Sara Coleman for more information.
URL:https://fairlawncog.org/event/young-adult-outing-3/
ORGANIZER;CN="Rev. Justin Coleman":MAILTO:office@fairlawncog.org
END:VEVENT
BEGIN:VEVENT
DTSTART;TZID=UTC:20250320T150000
DTEND;TZID=UTC:20250320T160000
DTSTAMP:20260421T025204
CREATED:20250306T034344Z
LAST-MODIFIED:20250306T034344Z
UID:1342-1742482800-1742486400@fairlawncog.org
SUMMARY:NURSING HOME MINISTRY
DESCRIPTION:On Thursday March 20th at 3PM\, we will be going to Warm Hearth Village in Blacksburg for Bible Study with the residents.  On Sunday March 23rd at 4PM\, we’ll be going back for our regular monthly Nursing Home Ministry.  If you enjoy visiting with the elderly\, please consider this wonderful ministry.  For more info\, please see Matt Sutphin.
URL:https://fairlawncog.org/event/nursing-home-ministry-21/
LOCATION:Warm Hearth Village\, 2387 Warm Hearth Dr\, Blacksburg\, VA\, 24060\, United States
END:VEVENT
BEGIN:VEVENT
DTSTART;TZID=UTC:20250317T180000
DTEND;TZID=UTC:20250319T203000
DTSTAMP:20260421T025204
CREATED:20250305T204620Z
LAST-MODIFIED:20250305T204828Z
UID:1310-1742234400-1742416200@fairlawncog.org
SUMMARY:EASTER DRAMA PRACTICE
DESCRIPTION:On Monday and Tuesday\, March 3rd and 4th\, practices for our upcoming Easter Drama will continue at 6PM nightly.  Beginning Wednesday March 17th\, we will also be adding a Wednesday night practice.  Our normal Wednesday night Service will be postponed until after Easter.  Please keep our Drama and those involved in your daily prayers!
URL:https://fairlawncog.org/event/easter-drama-practice-2/
LOCATION:Fairlawn Church of God\, 7858 Peppers Ferry Blvd.\, Radford\, VA\, 24141\, United States
ORGANIZER;CN="Pastor Marcus Harrison":MAILTO:office@fairlawncog.org
END:VEVENT
BEGIN:VEVENT
DTSTART;TZID=UTC:20250316T110000
DTEND;TZID=UTC:20250316T133000
DTSTAMP:20260421T025204
CREATED:20250306T033315Z
LAST-MODIFIED:20250306T033315Z
UID:1324-1742122800-1742131800@fairlawncog.org
SUMMARY:KID'S CHURCH
DESCRIPTION:Continuing in March at 11AM\, our Kid’s Church will continue a new Series in The Gospel Project entitled\, “God’s Rescue Plan.”  During this Series\, our kids will be learning how God blessed Abraham\, God provided Isaac\, God changed Jacob\, God rescued Joseph\, and God has a plan for everything and everybody!  Bring your kids\, ages 3-12\, every Sunday for Kid’s Church!
URL:https://fairlawncog.org/event/kids-church-2/
LOCATION:Fairlawn Church of God\, 7858 Peppers Ferry Blvd.\, Radford\, VA\, 24141\, United States
ORGANIZER;CN="Pastor Adam and Amy Gifford":MAILTO:office@fairlawncog.org
END:VEVENT
BEGIN:VEVENT
DTSTART;TZID=UTC:20250316T110000
DTEND;TZID=UTC:20250316T133000
DTSTAMP:20260421T025204
CREATED:20250305T205333Z
LAST-MODIFIED:20250306T033905Z
UID:1318-1742122800-1742131800@fairlawncog.org
SUMMARY:NEW SERMON SERIES
DESCRIPTION:Continuing in March at 11AM\, Pastor Marcus will continue a BRAND NEW Sermon Series entitled\, “The Elements of Easter.”   Over the course of the next few weeks\, we’ll be taking an in-depth look at several different elements of the crucifixion of Christ\, starting with the crown of thorns and ending with the empty tomb.  This Series will take us right up to Easter Sunday where we celebrate the resurrection of Jesus
URL:https://fairlawncog.org/event/new-sermon-series-17/
LOCATION:Fairlawn Church of God\, 7858 Peppers Ferry Blvd.\, Radford\, VA\, 24141\, United States
ORGANIZER;CN="Pastor Marcus Harrison":MAILTO:office@fairlawncog.org
END:VEVENT
BEGIN:VEVENT
DTSTART;TZID=UTC:20250310T193000
DTEND;TZID=UTC:20250310T210000
DTSTAMP:20260421T025204
CREATED:20250306T034113Z
LAST-MODIFIED:20250306T034113Z
UID:1338-1741635000-1741640400@fairlawncog.org
SUMMARY:JAIL AND PRISON MINISTRY
DESCRIPTION:On Mondays March 10th and 24th at 7:30PM\, our Jail and Prison Ministry will be going to the NRV Regional Jail for their bi-weekly ministry meeting.  If you’re interested in helping with this outreach ministry\, please see Matt Sutphin.  They can use male or female volunteers since the jail has both male and female inmates.
URL:https://fairlawncog.org/event/jail-and-prison-ministry-21/
LOCATION:NRV Regional Jail
END:VEVENT
BEGIN:VEVENT
DTSTART;TZID=UTC:20250310T180000
DTEND;TZID=UTC:20250311T203000
DTSTAMP:20260421T025204
CREATED:20250305T204418Z
LAST-MODIFIED:20250305T204604Z
UID:1308-1741629600-1741725000@fairlawncog.org
SUMMARY:EASTER DRAMA PRACTICE
DESCRIPTION:On Monday and Tuesday\, March 3rd and 4th\, practices for our upcoming Easter Drama will continue at 6PM nightly.  Beginning Wednesday March 17th\, we will also be adding a Wednesday night practice.  Our normal Wednesday night Service will be postponed until after Easter.  Please keep our Drama and those involved in your daily prayers!
URL:https://fairlawncog.org/event/easter-drama-practice/
LOCATION:Fairlawn Church of God\, 7858 Peppers Ferry Blvd.\, Radford\, VA\, 24141\, United States
ORGANIZER;CN="Pastor Marcus Harrison":MAILTO:office@fairlawncog.org
END:VEVENT
BEGIN:VEVENT
DTSTART;TZID=UTC:20250309T110000
DTEND;TZID=UTC:20250309T133000
DTSTAMP:20260421T025204
CREATED:20250306T033145Z
LAST-MODIFIED:20250306T033145Z
UID:1327-1741518000-1741527000@fairlawncog.org
SUMMARY:KID'S CHURCH
DESCRIPTION:On Sunday March 9th at 11AM\, our Kid’s Church will begin a new Series in The Gospel Project entitled\, “God’s Rescue Plan.”  During this Series\, our kids will be learning how God blessed Abraham\, God provided Isaac\, God changed Jacob\, God rescued Joseph\, and God has a plan for everything and everybody!  Bring your kids\, ages 3-12\, every Sunday for Kid’s Church!
URL:https://fairlawncog.org/event/kids-church/
LOCATION:Fairlawn Church of God\, 7858 Peppers Ferry Blvd.\, Radford\, VA\, 24141\, United States
ORGANIZER;CN="Pastor Adam and Amy Gifford":MAILTO:office@fairlawncog.org
END:VEVENT
BEGIN:VEVENT
DTSTART;TZID=UTC:20250309T110000
DTEND;TZID=UTC:20250309T133000
DTSTAMP:20260421T025204
CREATED:20250305T205207Z
LAST-MODIFIED:20250306T033833Z
UID:1316-1741518000-1741527000@fairlawncog.org
SUMMARY:NEW SERMON SERIES
DESCRIPTION:On Sunday March 9th at 11AM\, Pastor Marcus will begin a BRAND NEW Sermon Series entitled\, “The Elements of Easter.”   Over the course of the next few weeks\, we’ll be taking an in-depth look at several different elements of the crucifixion of Christ\, starting with the crown of thorns and ending with the empty tomb.  This Series will take us right up to Easter Sunday where we celebrate the resurrection of Jesus
URL:https://fairlawncog.org/event/new-sermon-series-16/
LOCATION:Fairlawn Church of God\, 7858 Peppers Ferry Blvd.\, Radford\, VA\, 24141\, United States
ORGANIZER;CN="Pastor Marcus Harrison":MAILTO:office@fairlawncog.org
END:VEVENT
BEGIN:VEVENT
DTSTART;VALUE=DATE:20250307
DTEND;VALUE=DATE:20250310
DTSTAMP:20260421T025204
CREATED:20250305T205004Z
LAST-MODIFIED:20250305T205004Z
UID:1314-1741305600-1741564799@fairlawncog.org
SUMMARY:WINTERFEST 2025
DESCRIPTION:On Friday March 7th – Sunday March 9th\, our Rebranded Youth Ministry will be going to Smoky Mountain Winterfest in Pigeon Forge\, TN.  They will enjoy dynamic worship and anointed messages daily.  Please cover our teens in prayer that they will encounter the presence of God this weekend like never before!  We will be anticipating the testimonies to come from our COG Winterfest!
URL:https://fairlawncog.org/event/winterfest-2025/
END:VEVENT
BEGIN:VEVENT
DTSTART;TZID=UTC:20250226T190000
DTEND;TZID=UTC:20250226T203000
DTSTAMP:20260421T025204
CREATED:20250205T160641Z
LAST-MODIFIED:20250205T160641Z
UID:1285-1740596400-1740601800@fairlawncog.org
SUMMARY:WED NIGHT SERVICE
DESCRIPTION:
URL:https://fairlawncog.org/event/wed-night-service-5/
END:VEVENT
BEGIN:VEVENT
DTSTART;TZID=UTC:20250224T193000
DTEND;TZID=UTC:20250224T210000
DTSTAMP:20260421T025204
CREATED:20250205T161237Z
LAST-MODIFIED:20250205T161237Z
UID:1290-1740425400-1740430800@fairlawncog.org
SUMMARY:JAIL AND PRISON MINISTRY
DESCRIPTION:
URL:https://fairlawncog.org/event/jail-and-prison-ministry-20/
LOCATION:NRV Regional Jail
END:VEVENT
BEGIN:VEVENT
DTSTART;TZID=UTC:20250223T180000
DTEND;TZID=UTC:20250223T203000
DTSTAMP:20260421T025204
CREATED:20250205T162102Z
LAST-MODIFIED:20250205T162115Z
UID:1302-1740333600-1740342600@fairlawncog.org
SUMMARY:EMPOWERMENT SERVICE
DESCRIPTION:
URL:https://fairlawncog.org/event/1302/
LOCATION:Fairlawn Church of God\, 7858 Peppers Ferry Blvd.\, Radford\, VA\, 24141\, United States
ORGANIZER;CN="Pastor Marcus Harrison":MAILTO:office@fairlawncog.org
END:VEVENT
BEGIN:VEVENT
DTSTART;TZID=UTC:20250223T160000
DTEND;TZID=UTC:20250223T170000
DTSTAMP:20260421T025204
CREATED:20250205T161747Z
LAST-MODIFIED:20250205T161747Z
UID:1298-1740326400-1740330000@fairlawncog.org
SUMMARY:NURSING HOME MINISTRY
DESCRIPTION:
URL:https://fairlawncog.org/event/nursing-home-ministry-20/
LOCATION:Warm Hearth Village\, 2387 Warm Hearth Dr\, Blacksburg\, VA\, 24060\, United States
END:VEVENT
BEGIN:VEVENT
DTSTART;TZID=UTC:20250219T190000
DTEND;TZID=UTC:20250219T203000
DTSTAMP:20260421T025204
CREATED:20250205T160300Z
LAST-MODIFIED:20250205T160300Z
UID:1283-1739991600-1739997000@fairlawncog.org
SUMMARY:WED NIGHT SERVICE
DESCRIPTION:
URL:https://fairlawncog.org/event/wed-night-service-4/
LOCATION:Fairlawn Church of God\, 7858 Peppers Ferry Blvd.\, Radford\, VA\, 24141\, United States
END:VEVENT
BEGIN:VEVENT
DTSTART;TZID=UTC:20250218T183000
DTEND;TZID=UTC:20250218T203000
DTSTAMP:20260421T025204
CREATED:20250205T162009Z
LAST-MODIFIED:20250205T162116Z
UID:1301-1739903400-1739910600@fairlawncog.org
SUMMARY:SENIOR ADULT MINISTRY
DESCRIPTION:
URL:https://fairlawncog.org/event/senior-adult-ministry-14/
LOCATION:Fairlawn Church of God Fellowship Hall\, 7858 Peppers Ferry Blvd.\, Radford\, VA\, 24141\, United States
ORGANIZER;CN="Pastor Joey and Lisa Shepphard":MAILTO:office@fairlawncog.org
END:VEVENT
BEGIN:VEVENT
DTSTART;TZID=UTC:20250216T110000
DTEND;TZID=UTC:20250216T133000
DTSTAMP:20260421T025204
CREATED:20250103T221253Z
LAST-MODIFIED:20250103T221253Z
UID:1242-1739703600-1739712600@fairlawncog.org
SUMMARY:NEW SERMON SERIES
DESCRIPTION:Continuing Sunday Feb. 16th at 11AM\, Pastor Marcus will begin a BRAND-NEW Sermon Series entitled\, “Hear From Heaven.”   Over the course of the next few weeks\, we’ll be discussing how to hear\, discern\, know\, and obey the voice of the Lord.  Some folks might ask the question\, is God still speaking.  The real question is\, are His people still listening.  Join us for this powerful new Series as we humble ourselves\, pray\, and seek to hear from heaven!
URL:https://fairlawncog.org/event/new-sermon-series-15/
LOCATION:Fairlawn Church of God\, 7858 Peppers Ferry Blvd.\, Radford\, VA\, 24141\, United States
ORGANIZER;CN="Pastor Marcus Harrison":MAILTO:office@fairlawncog.org
END:VEVENT
BEGIN:VEVENT
DTSTART;TZID=UTC:20250215T160000
DTEND;TZID=UTC:20250215T170000
DTSTAMP:20260421T025204
CREATED:20250205T161659Z
LAST-MODIFIED:20250205T161659Z
UID:1292-1739635200-1739638800@fairlawncog.org
SUMMARY:NURSING HOME MINISTRY
DESCRIPTION:
URL:https://fairlawncog.org/event/nursing-home-ministry-19/
LOCATION:Warm Hearth Village\, 2387 Warm Hearth Dr\, Blacksburg\, VA\, 24060\, United States
END:VEVENT
BEGIN:VEVENT
DTSTART;TZID=UTC:20250212T190000
DTEND;TZID=UTC:20250212T203000
DTSTAMP:20260421T025204
CREATED:20250205T160121Z
LAST-MODIFIED:20250205T160121Z
UID:1280-1739386800-1739392200@fairlawncog.org
SUMMARY:WED NIGHT SERVICE
DESCRIPTION:
URL:https://fairlawncog.org/event/wed-night-service-3/
LOCATION:Fairlawn Church of God\, 7858 Peppers Ferry Blvd.\, Radford\, VA\, 24141\, United States
END:VEVENT
BEGIN:VEVENT
DTSTART;TZID=UTC:20250211T183000
DTEND;TZID=UTC:20250211T203000
DTSTAMP:20260421T025204
CREATED:20250205T161519Z
LAST-MODIFIED:20250205T161519Z
UID:1293-1739298600-1739305800@fairlawncog.org
SUMMARY:LADIES MINISTRY
DESCRIPTION:
URL:https://fairlawncog.org/event/ladies-ministry-7/
LOCATION:Fairlawn Church of God Fellowship Hall\, 7858 Peppers Ferry Blvd.\, Radford\, VA\, 24141\, United States
END:VEVENT
BEGIN:VEVENT
DTSTART;TZID=UTC:20250210T193000
DTEND;TZID=UTC:20250210T210000
DTSTAMP:20260421T025204
CREATED:20250205T161040Z
LAST-MODIFIED:20250205T161157Z
UID:1287-1739215800-1739221200@fairlawncog.org
SUMMARY:JAIL AND PRISON MINISTRY
DESCRIPTION:
URL:https://fairlawncog.org/event/jail-and-prison-ministry-19/
LOCATION:NRV Regional Jail
END:VEVENT
BEGIN:VEVENT
DTSTART;TZID=UTC:20250209T113000
DTEND;TZID=UTC:20250209T133000
DTSTAMP:20260421T025204
CREATED:20250103T215955Z
LAST-MODIFIED:20250103T220848Z
UID:1229-1739100600-1739107800@fairlawncog.org
SUMMARY:NEW SERMON SERIES
DESCRIPTION:On Sunday Feb. 9th at 11AM\, Pastor Marcus will begin a BRAND-NEW Sermon Series entitled\, “Hear From Heaven.”   Over the course of the next few weeks\, we’ll be discussing how to hear\, discern\, know\, and obey the voice of the Lord.  Some folks might ask the question\, is God still speaking.  The real question is\, are His people still listening.  Join us for this powerful new Series as we humble ourselves\, pray\, and seek to hear from heaven!
URL:https://fairlawncog.org/event/new-sermon-series-14/
LOCATION:Fairlawn Church of God\, 7858 Peppers Ferry Blvd.\, Radford\, VA\, 24141\, United States
ORGANIZER;CN="Pastor Marcus Harrison":MAILTO:office@fairlawncog.org
END:VEVENT
END:VCALENDAR