BEGIN:VCALENDAR
VERSION:2.0
PRODID:-//Fairlawn Church of God - ECPv6.15.20//NONSGML v1.0//EN
CALSCALE:GREGORIAN
METHOD:PUBLISH
X-WR-CALNAME:Fairlawn Church of God
X-ORIGINAL-URL:https://fairlawncog.org
X-WR-CALDESC:Events for Fairlawn Church of God
REFRESH-INTERVAL;VALUE=DURATION:PT1H
X-Robots-Tag:noindex
X-PUBLISHED-TTL:PT1H
BEGIN:VTIMEZONE
TZID:UTC
BEGIN:STANDARD
TZOFFSETFROM:+0000
TZOFFSETTO:+0000
TZNAME:UTC
DTSTART:20240101T000000
END:STANDARD
END:VTIMEZONE
BEGIN:VEVENT
DTSTART;TZID=UTC:20250512T193000
DTEND;TZID=UTC:20250512T210000
DTSTAMP:20260420T225924
CREATED:20250501T172512Z
LAST-MODIFIED:20250501T172512Z
UID:1399-1747078200-1747083600@fairlawncog.org
SUMMARY:JAIL AND PRISON MINISTRY
DESCRIPTION:On Mondays May 12th and 26th at 7:30PM\, our Jail and Prison Ministry will be going to the NRV Regional Jail for their bi-weekly ministry meeting.  If you’re interested in helping with this outreach ministry\, please see Matt Sutphin.  They can use male or female volunteers since the jail has both male and female inmates.
URL:https://fairlawncog.org/event/jail-and-prison-ministry-24/
LOCATION:NRV Regional Jail
END:VEVENT
BEGIN:VEVENT
DTSTART;TZID=UTC:20250511T110000
DTEND;TZID=UTC:20250511T130000
DTSTAMP:20260420T225924
CREATED:20250501T171748Z
LAST-MODIFIED:20250501T171748Z
UID:1397-1746961200-1746968400@fairlawncog.org
SUMMARY:2025 CHURCH TRIP
DESCRIPTION:On Sunday May 11th\, immediately following morning Worship\, Pastor Marcus will be having an informational meeting for all those going on the church trip in June to Niagara Falls.  If you are a part of that group\, please make plans to be at this important meeting to receive some important details regarding the trip.
URL:https://fairlawncog.org/event/2025-church-trip/
LOCATION:Fairlawn Church of God Fellowship Hall\, 7858 Peppers Ferry Blvd.\, Radford\, VA\, 24141\, United States
ORGANIZER;CN="Pastor Marcus Harrison":MAILTO:office@fairlawncog.org
END:VEVENT
BEGIN:VEVENT
DTSTART;TZID=UTC:20250511T110000
DTEND;TZID=UTC:20250511T130000
DTSTAMP:20260420T225924
CREATED:20250501T171533Z
LAST-MODIFIED:20250501T171533Z
UID:1395-1746961200-1746968400@fairlawncog.org
SUMMARY:MOTHER'S DAY
DESCRIPTION:On Sunday\, May 11th at 11AM\, we will be celebrating all of our mothers with a special Mother’s Day Service.  The day will begin with a Mother’s Day program\, conducted by Tina Young\, with special music\, presentations\, and recognition.  Following the program\, we will be blessed to hear a message from our first lady\, Alicia Harrison.  Invite your mother to join you for this special Service in her honor.  Happy Mother’s Day to all our moms!
URL:https://fairlawncog.org/event/mothers-day/
LOCATION:Fairlawn Church of God Fellowship Hall\, 7858 Peppers Ferry Blvd.\, Radford\, VA\, 24141\, United States
ORGANIZER;CN="Pastor Marcus Harrison":MAILTO:office@fairlawncog.org
END:VEVENT
BEGIN:VEVENT
DTSTART;TZID=UTC:20250506T180000
DTEND;TZID=UTC:20250507T203000
DTSTAMP:20260420T225924
CREATED:20250501T171137Z
LAST-MODIFIED:20250501T171137Z
UID:1393-1746554400-1746649800@fairlawncog.org
SUMMARY:SPRING REVIVAL
DESCRIPTION:On Sunday May 4th at 11AM and 6PM\, we will begin our Spring Revival with guest evangelist\, Rev. Beth Stephens-Johnson.  Rev. Beth is an anointed Pentecostal preacher with a gift to minister in the altar under the power of the Holy Spirit.  She will also be preaching Monday and Tuesday nights at 7PM.  On Wednesday May 7th at 7PM\, we will have Rev. Emily Bowman\, who is also a powerhouse preacher and minister\, to finish out the Revival!  Mark these dates and times on your calendar and make plans now to be a part of these Service!
URL:https://fairlawncog.org/event/spring-revival-3/
ORGANIZER;CN="Pastor Marcus Harrison":MAILTO:office@fairlawncog.org
END:VEVENT
BEGIN:VEVENT
DTSTART;TZID=UTC:20250504T180000
DTEND;TZID=UTC:20250504T203000
DTSTAMP:20260420T225924
CREATED:20250501T171026Z
LAST-MODIFIED:20250501T171026Z
UID:1388-1746381600-1746390600@fairlawncog.org
SUMMARY:SPRING REVIVAL
DESCRIPTION:On Sunday May 4th at 11AM and 6PM\, we will begin our Spring Revival with guest evangelist\, Rev. Beth Stephens-Johnson.  Rev. Beth is an anointed Pentecostal preacher with a gift to minister in the altar under the power of the Holy Spirit.  She will also be preaching Monday and Tuesday nights at 7PM.  On Wednesday May 7th at 7PM\, we will have Rev. Emily Bowman\, who is also a powerhouse preacher and minister\, to finish out the Revival!  Mark these dates and times on your calendar and make plans now to be a part of these Service!
URL:https://fairlawncog.org/event/spring-revival-2/
LOCATION:Fairlawn Church of God Fellowship Hall\, 7858 Peppers Ferry Blvd.\, Radford\, VA\, 24141\, United States
ORGANIZER;CN="Pastor Marcus Harrison":MAILTO:office@fairlawncog.org
END:VEVENT
BEGIN:VEVENT
DTSTART;TZID=UTC:20250504T110000
DTEND;TZID=UTC:20250504T130000
DTSTAMP:20260420T225924
CREATED:20250501T170928Z
LAST-MODIFIED:20250501T170928Z
UID:1390-1746356400-1746363600@fairlawncog.org
SUMMARY:SPRING REVIVAL
DESCRIPTION:On Sunday May 4th at 11AM and 6PM\, we will begin our Spring Revival with guest evangelist\, Rev. Beth Stephens-Johnson.  Rev. Beth is an anointed Pentecostal preacher with a gift to minister in the altar under the power of the Holy Spirit.  She will also be preaching Monday and Tuesday nights at 7PM.  On Wednesday May 7th at 7PM\, we will have Rev. Emily Bowman\, who is also a powerhouse preacher and minister\, to finish out the Revival!  Mark these dates and times on your calendar and make plans now to be a part of these Service!
URL:https://fairlawncog.org/event/spring-revival/
LOCATION:Fairlawn Church of God Fellowship Hall\, 7858 Peppers Ferry Blvd.\, Radford\, VA\, 24141\, United States
ORGANIZER;CN="Pastor Marcus Harrison":MAILTO:office@fairlawncog.org
END:VEVENT
BEGIN:VEVENT
DTSTART;TZID=UTC:20250504T100000
DTEND;TZID=UTC:20250504T110000
DTSTAMP:20260420T225924
CREATED:20250501T170723Z
LAST-MODIFIED:20250501T170723Z
UID:1387-1746352800-1746356400@fairlawncog.org
SUMMARY:MEMBERSHIP CLASS
DESCRIPTION:On Sunday May 4th at 10AM\, Pastor Marcus will begin a new membership class for anyone interested in becoming a new member here at FCOG.  These classes will be held for four consecutive weeks\, during the Sunday School hour\, in our Hospitality Room.  If you are new to the church and are interested in finding out more about membership\, please sign up today at the Welcome Table.
URL:https://fairlawncog.org/event/membership-class/
LOCATION:Fairlawn Church of God\, 7858 Peppers Ferry Blvd.\, Radford\, VA\, 24141\, United States
ORGANIZER;CN="Pastor Marcus Harrison":MAILTO:office@fairlawncog.org
END:VEVENT
BEGIN:VEVENT
DTSTART;TZID=UTC:20250428T193000
DTEND;TZID=UTC:20250428T203000
DTSTAMP:20260420T225924
CREATED:20250402T134817Z
LAST-MODIFIED:20250402T134817Z
UID:1385-1745868600-1745872200@fairlawncog.org
SUMMARY:JAIL AND PRISON MINISTRY
DESCRIPTION:On Monday April 28th at 7:30PM\, our Jail and Prison Ministry will be going to the NRV Regional Jail for their bi-weekly ministry meeting.  If you’re interested in helping with this outreach ministry\, please see Matt Sutphin.  They can use male or female volunteers since the jail has both male and female inmates.
URL:https://fairlawncog.org/event/jail-and-prison-ministry-23/
LOCATION:NRV Regional Jail
END:VEVENT
BEGIN:VEVENT
DTSTART;TZID=UTC:20250427T160000
DTEND;TZID=UTC:20250427T170000
DTSTAMP:20260420T225924
CREATED:20250402T134608Z
LAST-MODIFIED:20250402T134608Z
UID:1383-1745769600-1745773200@fairlawncog.org
SUMMARY:NURSING HOME MINISTRY
DESCRIPTION:On Sunday April 27th at 4PM\, we’ll be going to Warm Hearth Village in Blacksburg for our regular monthly Nursing Home Ministry.  If you enjoy visiting with the elderly\, please consider this wonderful ministry.  We can especially use folks who are skilled in music or singing.  For more info\, please see Matt Sutphin.
URL:https://fairlawncog.org/event/nursing-home-ministry-23/
LOCATION:Warm Hearth Village\, 2387 Warm Hearth Dr\, Blacksburg\, VA\, 24060\, United States
END:VEVENT
BEGIN:VEVENT
DTSTART;TZID=UTC:20250427T110000
DTEND;TZID=UTC:20250427T133000
DTSTAMP:20260420T225924
CREATED:20250402T132549Z
LAST-MODIFIED:20250402T132549Z
UID:1363-1745751600-1745760600@fairlawncog.org
SUMMARY:KID'S CHURCH
DESCRIPTION:Our Kid’s Church will continue with their Series in The Gospel Project entitled\, “God’s Rescue Plan.”  They are learning how God blessed Abraham\, God provided Isaac\, God changed Jacob\, God rescued Joseph\, and God has a plan for everything and everybody!  Bring your kids\, ages 3-12\, every Sunday for Kid’s Church!
URL:https://fairlawncog.org/event/kids-church-8/
LOCATION:Fairlawn Church of God Fellowship Hall\, 7858 Peppers Ferry Blvd.\, Radford\, VA\, 24141\, United States
ORGANIZER;CN="Pastor Adam and Amy Gifford":MAILTO:office@fairlawncog.org
END:VEVENT
BEGIN:VEVENT
DTSTART;TZID=UTC:20250426T163000
DTEND;TZID=UTC:20250426T190000
DTSTAMP:20260420T225924
CREATED:20250402T134449Z
LAST-MODIFIED:20250402T134449Z
UID:1380-1745685000-1745694000@fairlawncog.org
SUMMARY:RESCUE MISSION SERVE DAY
DESCRIPTION:On Saturday April 26th at 4:30PM\, we will be going to the Rescue Mission in Roanoke to help serve dinner to the homeless.  We will plan to leave the church by 2:30PM.  Following the outreach\, we will enjoy a meal at the Hibachi Grill in Roanoke.  Please see Matt Sutphin if you are interested.  The van will be available for those who do not want to drive.
URL:https://fairlawncog.org/event/rescue-mission-serve-day/
LOCATION:Rescue Mission
END:VEVENT
BEGIN:VEVENT
DTSTART;VALUE=DATE:20250421
DTEND;VALUE=DATE:20250422
DTSTAMP:20260420T225924
CREATED:20250402T134236Z
LAST-MODIFIED:20250402T134236Z
UID:1378-1745193600-1745279999@fairlawncog.org
SUMMARY:EASTER DRAMA CLEAN-UP
DESCRIPTION:On Monday April 21st beginning at 9AM\, we will be cleaning up the Sanctuary and getting everything back in order from our recent Easter Drama.  We will need to put away all props\, decorations\, and costumes.  If you are available that day and would be willing to help\, we can use all the help we can get.  You do not have to have been in the Drama to help clean up.  Lunch will be provided.  Thank you for your steadfast commitment to this ministry.  We appreciate you! \n 
URL:https://fairlawncog.org/event/easter-drama-clean-up/
LOCATION:Fairlawn Church of God\, 7858 Peppers Ferry Blvd.\, Radford\, VA\, 24141\, United States
ORGANIZER;CN="Pastor Marcus Harrison":MAILTO:office@fairlawncog.org
END:VEVENT
BEGIN:VEVENT
DTSTART;TZID=UTC:20250420T110000
DTEND;TZID=UTC:20250420T133000
DTSTAMP:20260420T225924
CREATED:20250402T133832Z
LAST-MODIFIED:20250402T133832Z
UID:1376-1745146800-1745155800@fairlawncog.org
SUMMARY:EASTER SUNDAY
DESCRIPTION:On Easter Sunday\, April 20th at 11AM\, Pastor Marcus will conclude the Sermon Series entitled\, “The Elements of Easter.”   Over the course of the last few weeks\, we’ve been taking an in-depth look at several different elements of the crucifixion that will culminate this Sunday with the empty tomb!  Because He lives\, we can face tomorrow!  Invite a friend to church.
URL:https://fairlawncog.org/event/easter-sunday/
LOCATION:Fairlawn Church of God\, 7858 Peppers Ferry Blvd.\, Radford\, VA\, 24141\, United States
ORGANIZER;CN="Pastor Marcus Harrison":MAILTO:office@fairlawncog.org
END:VEVENT
BEGIN:VEVENT
DTSTART;TZID=UTC:20250420T110000
DTEND;TZID=UTC:20250420T133000
DTSTAMP:20260420T225924
CREATED:20250402T132512Z
LAST-MODIFIED:20250402T132512Z
UID:1361-1745146800-1745155800@fairlawncog.org
SUMMARY:KID'S CHURCH
DESCRIPTION:Our Kid’s Church will continue with their Series in The Gospel Project entitled\, “God’s Rescue Plan.”  They are learning how God blessed Abraham\, God provided Isaac\, God changed Jacob\, God rescued Joseph\, and God has a plan for everything and everybody!  Bring your kids\, ages 3-12\, every Sunday for Kid’s Church!
URL:https://fairlawncog.org/event/kids-church-7/
LOCATION:Fairlawn Church of God Fellowship Hall\, 7858 Peppers Ferry Blvd.\, Radford\, VA\, 24141\, United States
ORGANIZER;CN="Pastor Adam and Amy Gifford":MAILTO:office@fairlawncog.org
END:VEVENT
BEGIN:VEVENT
DTSTART;VALUE=DATE:20250418
DTEND;VALUE=DATE:20250419
DTSTAMP:20260420T225924
CREATED:20250402T133711Z
LAST-MODIFIED:20250402T133711Z
UID:1374-1744934400-1745020799@fairlawncog.org
SUMMARY:MEN'S MINISTRY CROSS WALK
DESCRIPTION:On Friday\, April 18th at 7AM\, our Men’s Ministry will be sponsoring our first ever CROSS WALK!  They will be starting somewhere in Fairlawn (exact location to be determined) and will carry a cross down the side of the road\, all the way to our church parking lot.  Upon completion\, they will enjoy Len’s Famous Barbeque in the Fellowship Hall.  All that are interested\, men or women\, are invited to participate.  There is a sign-up sheet at the Welcome Center.  Please see Rev. Steve Alley for more information.
URL:https://fairlawncog.org/event/mens-ministry-cross-walk/
END:VEVENT
BEGIN:VEVENT
DTSTART;TZID=UTC:20250417T190000
DTEND;TZID=UTC:20250420T210000
DTSTAMP:20260420T225924
CREATED:20250402T133539Z
LAST-MODIFIED:20250402T133539Z
UID:1371-1744916400-1745182800@fairlawncog.org
SUMMARY:THE GLORY OF HIS RESURRECTION
DESCRIPTION:On Thursday\, April 17th through Sunday\, April 20th at 7PM nightly\, we will be having our annual presentation of our Easter Drama\, “The Glory of His Resurrection.”  It is a professional sight and sound production that features several new scenes and songs this year.  Please invite a friend to join you as we present the greatest story that has ever been told.  Doors open at 5:30PM.  Make sure you get here early to ensure good parking and a great seat.  The church fills up fast.  Hope to see YOU here!
URL:https://fairlawncog.org/event/the-glory-of-his-resurrection/
LOCATION:Fairlawn Church of God\, 7858 Peppers Ferry Blvd.\, Radford\, VA\, 24141\, United States
ORGANIZER;CN="Pastor Marcus Harrison":MAILTO:office@fairlawncog.org
END:VEVENT
BEGIN:VEVENT
DTSTART;TZID=UTC:20250413T110000
DTEND;TZID=UTC:20250413T133000
DTSTAMP:20260420T225924
CREATED:20250402T133349Z
LAST-MODIFIED:20250402T133349Z
UID:1369-1744542000-1744551000@fairlawncog.org
SUMMARY:PALM SUNDAY
DESCRIPTION:On Sunday April 13th at 11AM\, we will be blessed to host HEART 2 HEART for a special Palm Sunday Concert!  They are an anointed group of Psalmists who bring high energy and powerful worship\, with a cutting edge progressive Southern Gospel sound\, to every Service.  Make plans to join us on Palm Sunday and let’s worship the Lord together with our special guests! \n 
URL:https://fairlawncog.org/event/palm-sunday/
LOCATION:Fairlawn Church of God\, 7858 Peppers Ferry Blvd.\, Radford\, VA\, 24141\, United States
ORGANIZER;CN="Pastor Marcus Harrison":MAILTO:office@fairlawncog.org
END:VEVENT
BEGIN:VEVENT
DTSTART;TZID=UTC:20250413T110000
DTEND;TZID=UTC:20250413T133000
DTSTAMP:20260420T225924
CREATED:20250402T132408Z
LAST-MODIFIED:20250402T132408Z
UID:1358-1744542000-1744551000@fairlawncog.org
SUMMARY:KID'S CHURCH
DESCRIPTION:Our Kid’s Church will continue with their Series in The Gospel Project entitled\, “God’s Rescue Plan.”  They are learning how God blessed Abraham\, God provided Isaac\, God changed Jacob\, God rescued Joseph\, and God has a plan for everything and everybody!  Bring your kids\, ages 3-12\, every Sunday for Kid’s Church!
URL:https://fairlawncog.org/event/kids-church-6/
LOCATION:Fairlawn Church of God Fellowship Hall\, 7858 Peppers Ferry Blvd.\, Radford\, VA\, 24141\, United States
ORGANIZER;CN="Pastor Adam and Amy Gifford":MAILTO:office@fairlawncog.org
END:VEVENT
BEGIN:VEVENT
DTSTART;TZID=UTC:20250412T110000
DTEND;TZID=UTC:20250412T133000
DTSTAMP:20260420T225924
CREATED:20250402T133232Z
LAST-MODIFIED:20250402T133232Z
UID:1367-1744455600-1744464600@fairlawncog.org
SUMMARY:EASTER EGG HUNT
DESCRIPTION:On Saturday April 12th at 11AM\, we will be having our annual Community Easter Egg Hunt with special guest\, Pastor Painter JJ Cox.  There will also be pictures with the Easter Bunny\, free food\, games\, prizes\, and MORE!  All kids\, ages 12 and under\, are invited to participate in the Easter Egg Hunt.  Mark your calendar\, bring your kids\, and make plans to join us for a fun-filled day as we celebrate our Risen Savior!
URL:https://fairlawncog.org/event/easter-egg-hunt-2/
LOCATION:Fairlawn Church of God\, 7858 Peppers Ferry Blvd.\, Radford\, VA\, 24141\, United States
ORGANIZER;CN="Pastor Adam and Amy Gifford":MAILTO:office@fairlawncog.org
END:VEVENT
BEGIN:VEVENT
DTSTART;TZID=UTC:20250406T133000
DTEND;TZID=UTC:20250406T150000
DTSTAMP:20260420T225924
CREATED:20250402T132705Z
LAST-MODIFIED:20250402T132705Z
UID:1365-1743946200-1743951600@fairlawncog.org
SUMMARY:CHURCH BUSINESS MEETING
DESCRIPTION:On Sunday\, April 6th immediately following morning Worship\, we will be having our annual church business meeting for all members and faithful supporters.  We will be giving the 2024 financial report to the church\, as well as presenting an upcoming Sanctuary renovation to the church for discussion and approval.  Please make plans to stay after Service for this important meeting.
URL:https://fairlawncog.org/event/church-business-meeting/
LOCATION:Fairlawn Church of God\, 7858 Peppers Ferry Blvd.\, Radford\, VA\, 24141\, United States
ORGANIZER;CN="Pastor Marcus Harrison":MAILTO:office@fairlawncog.org
END:VEVENT
BEGIN:VEVENT
DTSTART;TZID=UTC:20250406T110000
DTEND;TZID=UTC:20250406T133000
DTSTAMP:20260420T225924
CREATED:20250402T132328Z
LAST-MODIFIED:20250402T132328Z
UID:1357-1743937200-1743946200@fairlawncog.org
SUMMARY:KID'S CHURCH
DESCRIPTION:Our Kid’s Church will continue with their Series in The Gospel Project entitled\, “God’s Rescue Plan.”  They are learning how God blessed Abraham\, God provided Isaac\, God changed Jacob\, God rescued Joseph\, and God has a plan for everything and everybody!  Bring your kids\, ages 3-12\, every Sunday for Kid’s Church!
URL:https://fairlawncog.org/event/kids-church-5/
LOCATION:Fairlawn Church of God Fellowship Hall\, 7858 Peppers Ferry Blvd.\, Radford\, VA\, 24141\, United States
ORGANIZER;CN="Pastor Adam and Amy Gifford":MAILTO:office@fairlawncog.org
END:VEVENT
BEGIN:VEVENT
DTSTART;VALUE=DATE:20250405
DTEND;VALUE=DATE:20250406
DTSTAMP:20260420T225924
CREATED:20250402T132103Z
LAST-MODIFIED:20250402T132103Z
UID:1355-1743811200-1743897599@fairlawncog.org
SUMMARY:EASTER DRAMA DECORATING
DESCRIPTION:On Saturday\, April 5th beginning at 9AM\, we will be decorating the Sanctuary for our upcoming Easter Drama.  We will need to hang the sky\, build the tomb\, and place the steps for heaven among many other things.  If you can help out that day\, please make plans to be with us.  You do not have to be in the Easter Drama to participate.  We can use all the help we can get.  Lunch will be provided.
URL:https://fairlawncog.org/event/easter-drama-decorating/
LOCATION:Fairlawn Church of God\, 7858 Peppers Ferry Blvd.\, Radford\, VA\, 24141\, United States
ORGANIZER;CN="Pastor Marcus Harrison":MAILTO:office@fairlawncog.org
END:VEVENT
BEGIN:VEVENT
DTSTART;TZID=UTC:20250330T180000
DTEND;TZID=UTC:20250330T200000
DTSTAMP:20260420T225924
CREATED:20250306T034741Z
LAST-MODIFIED:20250306T034741Z
UID:1353-1743357600-1743364800@fairlawncog.org
SUMMARY:YOUTH SERVICE
DESCRIPTION:On Sunday March 30th at 6PM\, we’ll be having our monthly Empowerment Service\, and this will be a special YOUTH SERVICE!  Our young people will be sharing testimonies from their recent trip to Winterfest\, and our kids will be sharing in worship\, music\, and dance from their recent teen talent competition.  Pastor Mikey will also be sharing in the Word.  Don’t miss this anointed Youth Service!
URL:https://fairlawncog.org/event/youth-service/
LOCATION:Fairlawn Church of God\, 7858 Peppers Ferry Blvd.\, Radford\, VA\, 24141\, United States
END:VEVENT
BEGIN:VEVENT
DTSTART;TZID=UTC:20250330T110000
DTEND;TZID=UTC:20250330T133000
DTSTAMP:20260420T225924
CREATED:20250306T034633Z
LAST-MODIFIED:20250306T034633Z
UID:1351-1743332400-1743341400@fairlawncog.org
SUMMARY:MISSION SUNDAY
DESCRIPTION:On Sunday March 30th at 11AM\, we will be having our 5th Sunday Mission Sunday with Rev. Mark and Holly Brantley who are currently serving as missionaries to the people of Istanbul.  Istanbul is the largest city in Turkey\, which spans both Europe and Asia.  The Brantleys are working to carry the Gospel around the world.  We will hear some reports from their ministry\, and we will receive a special offering for their mission.  Please pray about what you can give.
URL:https://fairlawncog.org/event/mission-sunday-6/
LOCATION:Fairlawn Church of God\, 7858 Peppers Ferry Blvd.\, Radford\, VA\, 24141\, United States
ORGANIZER;CN="Pastor Marcus Harrison":MAILTO:office@fairlawncog.org
END:VEVENT
BEGIN:VEVENT
DTSTART;TZID=UTC:20250330T110000
DTEND;TZID=UTC:20250330T133000
DTSTAMP:20260420T225924
CREATED:20250306T033427Z
LAST-MODIFIED:20250306T033427Z
UID:1332-1743332400-1743341400@fairlawncog.org
SUMMARY:KID'S CHURCH
DESCRIPTION:Continuing in March at 11AM\, our Kid’s Church will continue a new Series in The Gospel Project entitled\, “God’s Rescue Plan.”  During this Series\, our kids will be learning how God blessed Abraham\, God provided Isaac\, God changed Jacob\, God rescued Joseph\, and God has a plan for everything and everybody!  Bring your kids\, ages 3-12\, every Sunday for Kid’s Church!
URL:https://fairlawncog.org/event/kids-church-4/
LOCATION:Fairlawn Church of God\, 7858 Peppers Ferry Blvd.\, Radford\, VA\, 24141\, United States
ORGANIZER;CN="Pastor Adam and Amy Gifford":MAILTO:office@fairlawncog.org
END:VEVENT
BEGIN:VEVENT
DTSTART;TZID=UTC:20250330T110000
DTEND;TZID=UTC:20250330T133000
DTSTAMP:20260420T225924
CREATED:20250305T205443Z
LAST-MODIFIED:20250306T033958Z
UID:1322-1743332400-1743341400@fairlawncog.org
SUMMARY:NEW SERMON SERIES
DESCRIPTION:Continuing in March at 11AM\, Pastor Marcus will continue a BRAND NEW Sermon Series entitled\, “The Elements of Easter.”   Over the course of the next few weeks\, we’ll be taking an in-depth look at several different elements of the crucifixion of Christ\, starting with the crown of thorns and ending with the empty tomb.  This Series will take us right up to Easter Sunday where we celebrate the resurrection of Jesus
URL:https://fairlawncog.org/event/new-sermon-series-19/
LOCATION:Fairlawn Church of God\, 7858 Peppers Ferry Blvd.\, Radford\, VA\, 24141\, United States
ORGANIZER;CN="Pastor Marcus Harrison":MAILTO:office@fairlawncog.org
END:VEVENT
BEGIN:VEVENT
DTSTART;VALUE=DATE:20250329
DTEND;VALUE=DATE:20250330
DTSTAMP:20260420T225924
CREATED:20250306T034538Z
LAST-MODIFIED:20250306T034538Z
UID:1349-1743206400-1743292799@fairlawncog.org
SUMMARY:TEEN AND JUNIOR TALENT
DESCRIPTION:On Saturday March 29th beginning at 9AM\, several of our kids and teens will be competing in the VACOG Teen and Junior Talent Competition.  They will be sharing in youth band performance\, kid’s band performance\, individual dance solos\, individual vocal solos\, group Bible quizzing\, group praise dance\, junior art\, duet instrumental\, and MORE!  If you’re available\, join us at Celebration Church in Roanoke\, VA to cheer on our kids and show your support!
URL:https://fairlawncog.org/event/teen-and-junior-talent/
LOCATION:Celebration Church of God
END:VEVENT
BEGIN:VEVENT
DTSTART;TZID=UTC:20250324T193000
DTEND;TZID=UTC:20250324T210000
DTSTAMP:20260420T225924
CREATED:20250306T034150Z
LAST-MODIFIED:20250306T034150Z
UID:1339-1742844600-1742850000@fairlawncog.org
SUMMARY:JAIL AND PRISON MINISTRY
DESCRIPTION:On Mondays March 10th and 24th at 7:30PM\, our Jail and Prison Ministry will be going to the NRV Regional Jail for their bi-weekly ministry meeting.  If you’re interested in helping with this outreach ministry\, please see Matt Sutphin.  They can use male or female volunteers since the jail has both male and female inmates.
URL:https://fairlawncog.org/event/jail-and-prison-ministry-22/
LOCATION:NRV Regional Jail
END:VEVENT
BEGIN:VEVENT
DTSTART;TZID=UTC:20250324T180000
DTEND;TZID=UTC:20250326T203000
DTSTAMP:20260420T225924
CREATED:20250305T204721Z
LAST-MODIFIED:20250305T204827Z
UID:1312-1742839200-1743021000@fairlawncog.org
SUMMARY:EASTER DRAMA PRACTICE
DESCRIPTION:On Monday and Tuesday\, March 3rd and 4th\, practices for our upcoming Easter Drama will continue at 6PM nightly.  Beginning Wednesday March 17th\, we will also be adding a Wednesday night practice.  Our normal Wednesday night Service will be postponed until after Easter.  Please keep our Drama and those involved in your daily prayers!
URL:https://fairlawncog.org/event/easter-drama-practice-3/
LOCATION:Fairlawn Church of God\, 7858 Peppers Ferry Blvd.\, Radford\, VA\, 24141\, United States
ORGANIZER;CN="Pastor Marcus Harrison":MAILTO:office@fairlawncog.org
END:VEVENT
BEGIN:VEVENT
DTSTART;TZID=UTC:20250323T160000
DTEND;TZID=UTC:20250323T170000
DTSTAMP:20260420T225924
CREATED:20250306T034345Z
LAST-MODIFIED:20250306T034345Z
UID:1343-1742745600-1742749200@fairlawncog.org
SUMMARY:NURSING HOME MINISTRY
DESCRIPTION:On Thursday March 20th at 3PM\, we will be going to Warm Hearth Village in Blacksburg for Bible Study with the residents.  On Sunday March 23rd at 4PM\, we’ll be going back for our regular monthly Nursing Home Ministry.  If you enjoy visiting with the elderly\, please consider this wonderful ministry.  For more info\, please see Matt Sutphin.
URL:https://fairlawncog.org/event/nursing-home-ministry-22/
LOCATION:Warm Hearth Village\, 2387 Warm Hearth Dr\, Blacksburg\, VA\, 24060\, United States
END:VEVENT
END:VCALENDAR