BEGIN:VCALENDAR
VERSION:2.0
PRODID:-//Fairlawn Church of God - ECPv6.15.20//NONSGML v1.0//EN
CALSCALE:GREGORIAN
METHOD:PUBLISH
X-WR-CALNAME:Fairlawn Church of God
X-ORIGINAL-URL:https://fairlawncog.org
X-WR-CALDESC:Events for Fairlawn Church of God
REFRESH-INTERVAL;VALUE=DURATION:PT1H
X-Robots-Tag:noindex
X-PUBLISHED-TTL:PT1H
BEGIN:VTIMEZONE
TZID:UTC
BEGIN:STANDARD
TZOFFSETFROM:+0000
TZOFFSETTO:+0000
TZNAME:UTC
DTSTART:20240101T000000
END:STANDARD
END:VTIMEZONE
BEGIN:VEVENT
DTSTART;TZID=UTC:20250617T183000
DTEND;TZID=UTC:20250617T203000
DTSTAMP:20260420T193549
CREATED:20250606T134914Z
LAST-MODIFIED:20250606T134914Z
UID:1452-1750185000-1750192200@fairlawncog.org
SUMMARY:SENIOR ADULT MINISTRY
DESCRIPTION:On Tuesday June 17th at 6:30PM\, our Senior Adults\, “Tried and True Ministry\,” will be having their monthly meeting at Sal’s Jr in Fairlawn.  All folks\, ages 50+\, are invited to join them for a great time of food\, fun\, and fellowship.  There is a sign-up sheet at the Welcome Table for all those who plan on attending.  Please sign up today or see Pastor Joey or Lisa Sheppard for more information.
URL:https://fairlawncog.org/event/senior-adult-ministry-16/
LOCATION:Fairlawn Church of God Fellowship Hall\, 7858 Peppers Ferry Blvd.\, Radford\, VA\, 24141\, United States
ORGANIZER;CN="Pastor Joey and Lisa Shepphard":MAILTO:office@fairlawncog.org
END:VEVENT
BEGIN:VEVENT
DTSTART;TZID=UTC:20250615T110000
DTEND;TZID=UTC:20250615T130000
DTSTAMP:20260420T193549
CREATED:20250606T134815Z
LAST-MODIFIED:20250606T134815Z
UID:1450-1749985200-1749992400@fairlawncog.org
SUMMARY:FATHER'S DAY
DESCRIPTION:On Sunday June 15th at 11AM\, we will be honoring all of our fathers with a special Father’s Day Program and Service.  The program will feature some special music and recognitions along with a message from our Pastor for all dads.  Every father in attendance will also receive a special gift from our church.  Happy Father’s Day\, dad!  We love and appreciate you.
URL:https://fairlawncog.org/event/fathers-day-2/
LOCATION:Fairlawn Church of God Fellowship Hall\, 7858 Peppers Ferry Blvd.\, Radford\, VA\, 24141\, United States
ORGANIZER;CN="Pastor Marcus Harrison":MAILTO:office@fairlawncog.org
END:VEVENT
BEGIN:VEVENT
DTSTART;TZID=UTC:20250611T190000
DTEND;TZID=UTC:20250611T203000
DTSTAMP:20260420T193549
CREATED:20250606T140707Z
LAST-MODIFIED:20250606T140707Z
UID:1471-1749668400-1749673800@fairlawncog.org
SUMMARY:ReBranded Youth!!!
DESCRIPTION:Every Wed Night Join the Fairlawn ReBranded (R2D2) Youth @ 7PM in the Youth Sanctuary!
URL:https://fairlawncog.org/event/rebranded-youth-3/
LOCATION:VA
END:VEVENT
BEGIN:VEVENT
DTSTART;TZID=UTC:20250611T180000
DTEND;TZID=UTC:20250611T190000
DTSTAMP:20260420T193549
CREATED:20250606T133510Z
LAST-MODIFIED:20250606T133510Z
UID:1429-1749664800-1749668400@fairlawncog.org
SUMMARY:WEDNESDAY KID'S SERIES
DESCRIPTION:On Wednesday June 4th at 7PM\, our Kid’s Church will continue in their Series entitled\, “Unexplored Bible Stories.”  This Series will take our kids on a journey through some stories that may not be as well-known as others.  They are sure to walk away learning something they did not know before.  They will learn there are always new discoveries to be made because the Word of God is alive and active!
URL:https://fairlawncog.org/event/wednesday-kids-series-2/
LOCATION:Fairlawn Church of God\, 7858 Peppers Ferry Blvd.\, Radford\, VA\, 24141\, United States
ORGANIZER;CN="Pastor Adam and Amy Gifford":MAILTO:office@fairlawncog.org
END:VEVENT
BEGIN:VEVENT
DTSTART;TZID=UTC:20250611T080000
DTEND;TZID=UTC:20250611T170000
DTSTAMP:20260420T193549
CREATED:20250606T140543Z
LAST-MODIFIED:20250606T140543Z
UID:1469-1749628800-1749661200@fairlawncog.org
SUMMARY:ReBranded Youth!!!
DESCRIPTION:Every Wed Night Join the Fairlawn ReBranded (R2D2) Youth @ 7PM in the Youth Sanctuary!
URL:https://fairlawncog.org/event/rebranded-youth-2/
LOCATION:VA
END:VEVENT
BEGIN:VEVENT
DTSTART;TZID=UTC:20250610T184500
DTEND;TZID=UTC:20250613T203000
DTSTAMP:20260420T193549
CREATED:20250606T134551Z
LAST-MODIFIED:20250606T134551Z
UID:1447-1749581100-1749846600@fairlawncog.org
SUMMARY:VACOG CAMP MEETING
DESCRIPTION:On Tuesday\, June 10th – Friday\, June 13th\, the VACOG will be holding our annual Camp Meeting at Parkway Church on the Mountain in Roanoke.  Evening Services will be held at 6:45PM on Tuesday – Friday and morning Services will be at 10AM on Wednesday – Friday.  We will not have our Wednesday night Service here so that everyone can attend the Camp Meeting Service in Roanoke.
URL:https://fairlawncog.org/event/vacog-camp-meeting/
LOCATION:Parkway Church
END:VEVENT
BEGIN:VEVENT
DTSTART;TZID=UTC:20250610T183000
DTEND;TZID=UTC:20250610T210000
DTSTAMP:20260420T193549
CREATED:20250606T134356Z
LAST-MODIFIED:20250606T134356Z
UID:1444-1749580200-1749589200@fairlawncog.org
SUMMARY:LADIES MINISTRY
DESCRIPTION:On Tuesday June 10th at 6:30PM\, our Ladies Ministry will be having their monthly gathering in the Fellowship Hall.  They will enjoy an evening of good food and fellowship\, as well as conduct their ministry meeting.  All ladies are cordially invited to join them every month for a great time of fun and fellowship.  Please see Pastor Joni for more information.
URL:https://fairlawncog.org/event/ladies-ministry-9/
LOCATION:Fairlawn Church of God Fellowship Hall\, 7858 Peppers Ferry Blvd.\, Radford\, VA\, 24141\, United States
END:VEVENT
BEGIN:VEVENT
DTSTART;TZID=UTC:20250610T183000
DTEND;TZID=UTC:20250610T203000
DTSTAMP:20260420T193549
CREATED:20250606T133141Z
LAST-MODIFIED:20250606T133141Z
UID:1424-1749580200-1749587400@fairlawncog.org
SUMMARY:CHURCH VOLLEYBALL
DESCRIPTION:Come cheer on our FCOG Volleyball Team at the Christiansburg Recreation Center.  They will be playing the following days and times this month:  Tuesday\, June 3rd at 6:30PM\, Tuesday\, June 10th at 6:30PM\, and Tuesday\, June 17th at 8:30PM.  Make plans to come out and show your support for our team!
URL:https://fairlawncog.org/event/church-volleyball/
LOCATION:Christiansburg Rec Center
END:VEVENT
BEGIN:VEVENT
DTSTART;TZID=UTC:20250609T193000
DTEND;TZID=UTC:20250609T203000
DTSTAMP:20260420T193549
CREATED:20250606T134200Z
LAST-MODIFIED:20250606T134200Z
UID:1441-1749497400-1749501000@fairlawncog.org
SUMMARY:JAIL AND PRISON MINISTRY
DESCRIPTION:On Mondays June 9th and 23rd at 7:30PM\, our Jail and Prison Ministry will be going to the NRV Regional Jail for their bi-weekly ministry meeting.  If you’re interested in helping with this outreach ministry\, please see Matt Sutphin.  They can use male or female volunteers since the jail has both male and female inmates.
URL:https://fairlawncog.org/event/jail-and-prison-ministry-26/
LOCATION:NRV Regional Jail
END:VEVENT
BEGIN:VEVENT
DTSTART;TZID=UTC:20250608T180000
DTEND;TZID=UTC:20250608T203000
DTSTAMP:20260420T193549
CREATED:20250606T134023Z
LAST-MODIFIED:20250606T134023Z
UID:1439-1749405600-1749414600@fairlawncog.org
SUMMARY:YOUNG ADULT MINISTRY
DESCRIPTION:On Sunday June 8th at 6PM\, our Young Adult Ministry will be having their monthly Exceed Service in the Fellowship Hall.  They will enjoy Worship and the Word along with prayer and fellowship.  The Service is open to anyone who would like to attend.  Please see our Young Adult Pastor\, Rev. Justin Coleman\, for more information.  Come expecting!  The Lord will meet you here!
URL:https://fairlawncog.org/event/young-adult-ministry-8/
LOCATION:Fairlawn Church of God Fellowship Hall\, 7858 Peppers Ferry Blvd.\, Radford\, VA\, 24141\, United States
ORGANIZER;CN="Rev. Justin Coleman":MAILTO:office@fairlawncog.org
END:VEVENT
BEGIN:VEVENT
DTSTART;TZID=UTC:20250608T110000
DTEND;TZID=UTC:20250608T130000
DTSTAMP:20260420T193549
CREATED:20250606T133913Z
LAST-MODIFIED:20250606T133913Z
UID:1436-1749380400-1749387600@fairlawncog.org
SUMMARY:ADAM CRABB IN CONCERT
DESCRIPTION:On Sunday June 8th at 11AM\, we will be blessed to welcome ADAM CRABB back to FCOG again!  He is a member of the Crabb Family and the Gaither Vocal Band\, and is sure to bless you with his anointed music and rich tenor voice.  Don’t miss this LIVE Worship event with one of Southern Gospel’s best!  Admission is FREE\, but a generous love offering will be received for Adam’s ministry.
URL:https://fairlawncog.org/event/adam-crabb-in-concert-2/
LOCATION:Fairlawn Church of God Fellowship Hall\, 7858 Peppers Ferry Blvd.\, Radford\, VA\, 24141\, United States
ORGANIZER;CN="Pastor Marcus Harrison":MAILTO:office@fairlawncog.org
END:VEVENT
BEGIN:VEVENT
DTSTART;TZID=UTC:20250604T190000
DTEND;TZID=UTC:20250604T203000
DTSTAMP:20260420T193549
CREATED:20250606T133418Z
LAST-MODIFIED:20250606T133418Z
UID:1428-1749063600-1749069000@fairlawncog.org
SUMMARY:WEDNESDAY KID'S SERIES
DESCRIPTION:On Wednesday June 4th at 7PM\, our Kid’s Church will continue in their Series entitled\, “Unexplored Bible Stories.”  This Series will take our kids on a journey through some stories that may not be as well-known as others.  They are sure to walk away learning something they did not know before.  They will learn there are always new discoveries to be made because the Word of God is alive and active!
URL:https://fairlawncog.org/event/wednesday-kids-series/
LOCATION:Fairlawn Church of God\, 7858 Peppers Ferry Blvd.\, Radford\, VA\, 24141\, United States
ORGANIZER;CN="Pastor Adam and Amy Gifford":MAILTO:office@fairlawncog.org
END:VEVENT
BEGIN:VEVENT
DTSTART;TZID=UTC:20250604T080000
DTEND;TZID=UTC:20250604T170000
DTSTAMP:20260420T193549
CREATED:20250606T140522Z
LAST-MODIFIED:20250606T140522Z
UID:1467-1749024000-1749056400@fairlawncog.org
SUMMARY:ReBranded Youth!!!
DESCRIPTION:Every Wed Night Join the Fairlawn ReBranded (R2D2) Youth @ 7PM in the Youth Sanctuary!
URL:https://fairlawncog.org/event/rebranded-youth/
LOCATION:VA
END:VEVENT
BEGIN:VEVENT
DTSTART;TZID=UTC:20250530T190000
DTEND;TZID=UTC:20250530T210000
DTSTAMP:20260420T193549
CREATED:20250501T173814Z
LAST-MODIFIED:20250501T173814Z
UID:1422-1748631600-1748638800@fairlawncog.org
SUMMARY:TENT REVIVAL
DESCRIPTION:On Friday May 30th at 7PM\, Pastor Marcus will be preaching under the tent in Fairlawn\, on the corner of Belspring Road and Peppers Ferry Blvd\, for the Holy Ghost Tent Revival.  The Tent Revival will begin May 25th and will last through June 8th\, with different speakers each night.  Our Praise Team will also be leading worship that Friday night.  Come out and be a part of as many of these Services as you can\, as we come together as the body of Christ.  It will surely be a great time in the Lord!
URL:https://fairlawncog.org/event/tent-revival/
LOCATION:VA
END:VEVENT
BEGIN:VEVENT
DTSTART;TZID=UTC:20250527T183000
DTEND;TZID=UTC:20250527T203000
DTSTAMP:20260420T193549
CREATED:20250501T173723Z
LAST-MODIFIED:20250501T173723Z
UID:1420-1748370600-1748377800@fairlawncog.org
SUMMARY:VBS MEETING
DESCRIPTION:On Tuesday May 27th at 6:30PM\, our Children’s Pastor\, Revs. Adam and Amy Gifford\, will be having a leadership meeting for anyone interested in helping with this year’s Vacation Bible School.  This is one of the biggest outreach events we do for our kids and it takes a team of helpers.  Please consider volunteering for this ministry.  See Pastor Adam or Amy for more information.
URL:https://fairlawncog.org/event/vbs-meeting/
LOCATION:Fairlawn Church of God Fellowship Hall\, 7858 Peppers Ferry Blvd.\, Radford\, VA\, 24141\, United States
ORGANIZER;CN="Pastor Adam and Amy Gifford":MAILTO:office@fairlawncog.org
END:VEVENT
BEGIN:VEVENT
DTSTART;TZID=UTC:20250526T193000
DTEND;TZID=UTC:20250526T210000
DTSTAMP:20260420T193549
CREATED:20250501T172618Z
LAST-MODIFIED:20250501T172618Z
UID:1401-1748287800-1748293200@fairlawncog.org
SUMMARY:JAIL AND PRISON MINISTRY
DESCRIPTION:On Mondays May 12th and 26th at 7:30PM\, our Jail and Prison Ministry will be going to the NRV Regional Jail for their bi-weekly ministry meeting.  If you’re interested in helping with this outreach ministry\, please see Matt Sutphin.  They can use male or female volunteers since the jail has both male and female inmates.
URL:https://fairlawncog.org/event/jail-and-prison-ministry-25/
LOCATION:NRV Regional Jail
END:VEVENT
BEGIN:VEVENT
DTSTART;TZID=UTC:20250525T160000
DTEND;TZID=UTC:20250525T170000
DTSTAMP:20260420T193549
CREATED:20250501T173238Z
LAST-MODIFIED:20250501T173238Z
UID:1404-1748188800-1748192400@fairlawncog.org
SUMMARY:NURSING HOME MINISTRY
DESCRIPTION:On Thursday May 15th at 3PM\, we’ll be going to Warm Hearth Village in Blacksburg for Bible Study with the residents.  On Sunday May 25th at 4PM\, we’ll be going back for our regular monthly Nursing Home Ministry.  If you enjoy visiting with the elderly\, please consider this wonderful ministry.  We can especially use folks who are skilled in music or singing.  For more info\, please see Matt Sutphin.
URL:https://fairlawncog.org/event/nursing-home-ministry-25/
LOCATION:Warm Hearth Village\, 2387 Warm Hearth Dr\, Blacksburg\, VA\, 24060\, United States
END:VEVENT
BEGIN:VEVENT
DTSTART;TZID=UTC:20250520T183000
DTEND;TZID=UTC:20250520T210000
DTSTAMP:20260420T193549
CREATED:20250501T173612Z
LAST-MODIFIED:20250501T173612Z
UID:1418-1747765800-1747774800@fairlawncog.org
SUMMARY:SENIOR ADULT MINISTRY
DESCRIPTION:On Tuesday May 20th at 6:30PM\, our Senior Adults\, “Tried and True Ministry\,” will be having their monthly meeting in the Fellowship Hall.  All folks\, ages 50+\, are invited to join them for a great time of food\, fun\, and fellowship.  Please bring a dish to share for a potluck meal and join them for their monthly meeting.  Please see Pastor Joey or Lisa Sheppard for more information.
URL:https://fairlawncog.org/event/senior-adult-ministry-15/
LOCATION:Fairlawn Church of God Fellowship Hall\, 7858 Peppers Ferry Blvd.\, Radford\, VA\, 24141\, United States
ORGANIZER;CN="Pastor Joey and Lisa Shepphard":MAILTO:office@fairlawncog.org
END:VEVENT
BEGIN:VEVENT
DTSTART;TZID=UTC:20250518T180000
DTEND;TZID=UTC:20250518T203000
DTSTAMP:20260420T193549
CREATED:20250501T173459Z
LAST-MODIFIED:20250501T173459Z
UID:1416-1747591200-1747600200@fairlawncog.org
SUMMARY:YOUNG ADULT MINISTRY
DESCRIPTION:On Sunday May 18th at 6PM\, our Young Adult Ministry will be having their monthly Exceed Service in the Fellowship Hall.  They will enjoy Worship and the Word along with prayer and fellowship.  The Service is open to anyone who would like to attend.  Please see our Young Adult Pastor\, Rev. Justin Coleman\, for more information.  Come expecting!  The Lord will meet you here!
URL:https://fairlawncog.org/event/young-adult-ministry-7/
LOCATION:Fairlawn Church of God Fellowship Hall\, 7858 Peppers Ferry Blvd.\, Radford\, VA\, 24141\, United States
ORGANIZER;CN="Rev. Justin Coleman":MAILTO:office@fairlawncog.org
END:VEVENT
BEGIN:VEVENT
DTSTART;TZID=UTC:20250518T110000
DTEND;TZID=UTC:20250518T130000
DTSTAMP:20260420T193549
CREATED:20250501T173352Z
LAST-MODIFIED:20250501T173352Z
UID:1414-1747566000-1747573200@fairlawncog.org
SUMMARY:PASTOR'S MESSAGE
DESCRIPTION:On Sunday May 18th at 11AM\, Pastor Marcus will be preaching a message entitled\, “The Moment of Truth.”  The Bible says you will know the truth and the truth will set you free!  So many people still question what truth is.  Is there such a thing as absolute truth?  We’re going to discover that the Bible says three things testify to the truth – the Spirit\, the water\, and the blood!  Don’t miss this powerful message on “The Moment of Truth!”
URL:https://fairlawncog.org/event/pastors-message-3/
LOCATION:Fairlawn Church of God Fellowship Hall\, 7858 Peppers Ferry Blvd.\, Radford\, VA\, 24141\, United States
ORGANIZER;CN="Pastor Marcus Harrison":MAILTO:office@fairlawncog.org
END:VEVENT
BEGIN:VEVENT
DTSTART;TZID=UTC:20250515T150000
DTEND;TZID=UTC:20250515T160000
DTSTAMP:20260420T193549
CREATED:20250501T173101Z
LAST-MODIFIED:20250501T173101Z
UID:1410-1747321200-1747324800@fairlawncog.org
SUMMARY:NURSING HOME MINISTRY
DESCRIPTION:On Thursday May 15th at 3PM\, we’ll be going to Warm Hearth Village in Blacksburg for Bible Study with the residents.  On Sunday May 25th at 4PM\, we’ll be going back for our regular monthly Nursing Home Ministry.  If you enjoy visiting with the elderly\, please consider this wonderful ministry.  We can especially use folks who are skilled in music or singing.  For more info\, please see Matt Sutphin.
URL:https://fairlawncog.org/event/nursing-home-ministry-24/
LOCATION:Warm Hearth Village\, 2387 Warm Hearth Dr\, Blacksburg\, VA\, 24060\, United States
END:VEVENT
BEGIN:VEVENT
DTSTART;TZID=UTC:20250514T190000
DTEND;TZID=UTC:20250514T210000
DTSTAMP:20260420T193550
CREATED:20250501T172932Z
LAST-MODIFIED:20250501T172932Z
UID:1408-1747249200-1747256400@fairlawncog.org
SUMMARY:NEW WEDNESDAY KID'S SERIES
DESCRIPTION:On Wednesday May 14th at 7PM\, our Kid’s Church will begin a NEW Bible Study entitled\, “Unexplored Bible Stories.”  Just like the jungle has areas of mystery and adventure\, so does the Word of God.  This Series will take our kids on a journey through some stories that may not be as well-known as others.  They are sure to walk away learning something they did not know before.  They will learn that just like the jungle\, there are always new discoveries to be made because the Word of God is alive and active!
URL:https://fairlawncog.org/event/new-wednesday-kids-series/
LOCATION:Fairlawn Church of God Fellowship Hall\, 7858 Peppers Ferry Blvd.\, Radford\, VA\, 24141\, United States
END:VEVENT
BEGIN:VEVENT
DTSTART;TZID=UTC:20250514T190000
DTEND;TZID=UTC:20250514T203000
DTSTAMP:20260420T193550
CREATED:20250501T172822Z
LAST-MODIFIED:20250501T172822Z
UID:1406-1747249200-1747254600@fairlawncog.org
SUMMARY:NEW WEDNESDAY SERIES
DESCRIPTION:On Wednesday May 14th at 7PM\, Pastor Joni will begin a BRAND-NEW Bible Study entitled\, “Life Changing Strategies for Successful Living.”  Are you living your life being positive\, hopeful\, and grateful\, or are you weighed down with stress\, burdens\, and worry?  During this Series\, Pastor Joni will be talking about practical ways to live in the present\, deal with difficult people\, tame the tongue\, let things go\, and more.  Join us every Wednesday at 7PM.
URL:https://fairlawncog.org/event/new-wednesday-series/
LOCATION:Fairlawn Church of God Fellowship Hall\, 7858 Peppers Ferry Blvd.\, Radford\, VA\, 24141\, United States
END:VEVENT
BEGIN:VEVENT
DTSTART;TZID=UTC:20250513T183000
DTEND;TZID=UTC:20250513T210000
DTSTAMP:20260420T193550
CREATED:20250501T172716Z
LAST-MODIFIED:20250501T172716Z
UID:1403-1747161000-1747170000@fairlawncog.org
SUMMARY:LADIES MINISTRY
DESCRIPTION:On Tuesday May 13th at 6:30PM\, our Ladies Ministry will be having their monthly gathering in the Fellowship Hall.  They will enjoy an evening of good food and fellowship\, as well as conduct their ministry meeting.  All ladies are cordially invited to join them every month for a great time of fun and fellowship.  Please see Pastor Joni for more information.
URL:https://fairlawncog.org/event/ladies-ministry-8/
LOCATION:Fairlawn Church of God Fellowship Hall\, 7858 Peppers Ferry Blvd.\, Radford\, VA\, 24141\, United States
END:VEVENT
BEGIN:VEVENT
DTSTART;TZID=UTC:20250512T193000
DTEND;TZID=UTC:20250512T210000
DTSTAMP:20260420T193550
CREATED:20250501T172512Z
LAST-MODIFIED:20250501T172512Z
UID:1399-1747078200-1747083600@fairlawncog.org
SUMMARY:JAIL AND PRISON MINISTRY
DESCRIPTION:On Mondays May 12th and 26th at 7:30PM\, our Jail and Prison Ministry will be going to the NRV Regional Jail for their bi-weekly ministry meeting.  If you’re interested in helping with this outreach ministry\, please see Matt Sutphin.  They can use male or female volunteers since the jail has both male and female inmates.
URL:https://fairlawncog.org/event/jail-and-prison-ministry-24/
LOCATION:NRV Regional Jail
END:VEVENT
BEGIN:VEVENT
DTSTART;TZID=UTC:20250511T110000
DTEND;TZID=UTC:20250511T130000
DTSTAMP:20260420T193550
CREATED:20250501T171748Z
LAST-MODIFIED:20250501T171748Z
UID:1397-1746961200-1746968400@fairlawncog.org
SUMMARY:2025 CHURCH TRIP
DESCRIPTION:On Sunday May 11th\, immediately following morning Worship\, Pastor Marcus will be having an informational meeting for all those going on the church trip in June to Niagara Falls.  If you are a part of that group\, please make plans to be at this important meeting to receive some important details regarding the trip.
URL:https://fairlawncog.org/event/2025-church-trip/
LOCATION:Fairlawn Church of God Fellowship Hall\, 7858 Peppers Ferry Blvd.\, Radford\, VA\, 24141\, United States
ORGANIZER;CN="Pastor Marcus Harrison":MAILTO:office@fairlawncog.org
END:VEVENT
BEGIN:VEVENT
DTSTART;TZID=UTC:20250511T110000
DTEND;TZID=UTC:20250511T130000
DTSTAMP:20260420T193550
CREATED:20250501T171533Z
LAST-MODIFIED:20250501T171533Z
UID:1395-1746961200-1746968400@fairlawncog.org
SUMMARY:MOTHER'S DAY
DESCRIPTION:On Sunday\, May 11th at 11AM\, we will be celebrating all of our mothers with a special Mother’s Day Service.  The day will begin with a Mother’s Day program\, conducted by Tina Young\, with special music\, presentations\, and recognition.  Following the program\, we will be blessed to hear a message from our first lady\, Alicia Harrison.  Invite your mother to join you for this special Service in her honor.  Happy Mother’s Day to all our moms!
URL:https://fairlawncog.org/event/mothers-day/
LOCATION:Fairlawn Church of God Fellowship Hall\, 7858 Peppers Ferry Blvd.\, Radford\, VA\, 24141\, United States
ORGANIZER;CN="Pastor Marcus Harrison":MAILTO:office@fairlawncog.org
END:VEVENT
BEGIN:VEVENT
DTSTART;TZID=UTC:20250506T180000
DTEND;TZID=UTC:20250507T203000
DTSTAMP:20260420T193550
CREATED:20250501T171137Z
LAST-MODIFIED:20250501T171137Z
UID:1393-1746554400-1746649800@fairlawncog.org
SUMMARY:SPRING REVIVAL
DESCRIPTION:On Sunday May 4th at 11AM and 6PM\, we will begin our Spring Revival with guest evangelist\, Rev. Beth Stephens-Johnson.  Rev. Beth is an anointed Pentecostal preacher with a gift to minister in the altar under the power of the Holy Spirit.  She will also be preaching Monday and Tuesday nights at 7PM.  On Wednesday May 7th at 7PM\, we will have Rev. Emily Bowman\, who is also a powerhouse preacher and minister\, to finish out the Revival!  Mark these dates and times on your calendar and make plans now to be a part of these Service!
URL:https://fairlawncog.org/event/spring-revival-3/
LOCATION:VA
ORGANIZER;CN="Pastor Marcus Harrison":MAILTO:office@fairlawncog.org
END:VEVENT
BEGIN:VEVENT
DTSTART;TZID=UTC:20250504T180000
DTEND;TZID=UTC:20250504T203000
DTSTAMP:20260420T193550
CREATED:20250501T171026Z
LAST-MODIFIED:20250501T171026Z
UID:1388-1746381600-1746390600@fairlawncog.org
SUMMARY:SPRING REVIVAL
DESCRIPTION:On Sunday May 4th at 11AM and 6PM\, we will begin our Spring Revival with guest evangelist\, Rev. Beth Stephens-Johnson.  Rev. Beth is an anointed Pentecostal preacher with a gift to minister in the altar under the power of the Holy Spirit.  She will also be preaching Monday and Tuesday nights at 7PM.  On Wednesday May 7th at 7PM\, we will have Rev. Emily Bowman\, who is also a powerhouse preacher and minister\, to finish out the Revival!  Mark these dates and times on your calendar and make plans now to be a part of these Service!
URL:https://fairlawncog.org/event/spring-revival-2/
LOCATION:Fairlawn Church of God Fellowship Hall\, 7858 Peppers Ferry Blvd.\, Radford\, VA\, 24141\, United States
ORGANIZER;CN="Pastor Marcus Harrison":MAILTO:office@fairlawncog.org
END:VEVENT
BEGIN:VEVENT
DTSTART;TZID=UTC:20250504T110000
DTEND;TZID=UTC:20250504T130000
DTSTAMP:20260420T193550
CREATED:20250501T170928Z
LAST-MODIFIED:20250501T170928Z
UID:1390-1746356400-1746363600@fairlawncog.org
SUMMARY:SPRING REVIVAL
DESCRIPTION:On Sunday May 4th at 11AM and 6PM\, we will begin our Spring Revival with guest evangelist\, Rev. Beth Stephens-Johnson.  Rev. Beth is an anointed Pentecostal preacher with a gift to minister in the altar under the power of the Holy Spirit.  She will also be preaching Monday and Tuesday nights at 7PM.  On Wednesday May 7th at 7PM\, we will have Rev. Emily Bowman\, who is also a powerhouse preacher and minister\, to finish out the Revival!  Mark these dates and times on your calendar and make plans now to be a part of these Service!
URL:https://fairlawncog.org/event/spring-revival/
LOCATION:Fairlawn Church of God Fellowship Hall\, 7858 Peppers Ferry Blvd.\, Radford\, VA\, 24141\, United States
ORGANIZER;CN="Pastor Marcus Harrison":MAILTO:office@fairlawncog.org
END:VEVENT
END:VCALENDAR